Workbook

Sheet 2017
W1: Приложение № 1
A3: РАЗЧЕТ НА НАТУРАЛНИ И СТОЙНОСТНИ ПОКАЗАТЕЛИ ПО СТАНДАРТИТЕ ЗА ДЕЛЕГИРАНИТЕ ОТ ДЪРЖАВАТА ДЕЙНОСТИ ЗА НЕСПЕЦИАЛИЗИРАНИ УЧИЛИЩА, БЕЗ ПРОФЕСИОНАЛНИ ГИМНАЗИИ ЗА ОБЩИНА СИЛИСТРА - НАЧАЛЕН ПЛАН 2017 Г.
C5: разпределение на 100% от средствата по разходен стандарт | I5: 100% от средствата | K5: 100% от средствата | M5: 100% от средствата | O5: 100% от средствата | Q5: 100% от средствата | S5: 100% от средствата | U5: 100% от средствата | W5: Всичко средства по държавна дейност 322 | X5: 100% от средствата | AB5: Всичко средства по държавна дейност 338 | AD5: 100% от средствата | AJ5: Всичко средства по държавна дейност 389 | AK5: 100% от средствата | AM5: Всичко за училището
A6: № по ред | B6: Училище | C6: стандарт "Неспециализирани училища, без профес. гимназии" | E6: доп. Компонет - 29 000 лв. | F6: основен компонент | G6: Всичко стандарт "Неспециализирани училища, без профес. гимназии" | H6: Всичко стандарт "Неспециализирани училища,без проф. гимназии" | I6: самостоятелна форма | K6: индивидуална | M6: МТБ | O6: комбинирана форма | Q6: стипендии | S6: хранене на деца от І до ІV клас | U6: целодневна организация от І до ІV клас и средищни | X6: Норматив за създаване на условия за приобщ. Обр. | Z6: ресурсно подпомагане | AD6: допълващ стандарт за поддръжка на автобуси | AK6: подготв. полудневна гр.в уч. или ДГ дейност 318
AD7: 11÷15 м | AF7: 26÷29 м | AH7: над 30 м
C8: брой ученици | D8: 1814 | F8: =D18-E18 -> 5195512 | I8: брой ученици | J8: 436 | K8: брой ученици | L8: 3592 | M8: брой ученици | N8: 25 | O8: брой ученици | P8: 1009 | Q8: брой ученици | R8: 87 | S8: брой ученици | T8: 72 | U8: брой ученици | V8: 665 | X8: брой ученици | Y8: 359 | Z8: брой | AA8: 2476 | AC8: 322+338 | AD8: бр. авт | AE8: 3000 | AF8: бр. авт | AG8: 5000 | AH8: бр. авт | AI8: 6000 | AK8: бр. деца | AL8: 1117
A9: 1 | B9: ЕГ "П.Яворов" - Силистра | C9: 301 | D9: =$D$8*C9 -> 546014 | E9: 29000 | F9: =$F$8*C9/$C$18 -> 519896.65 | G9: =F9+E9 -> 548896.65 | H9: =G9 -> 548896.65 | I9: 3 | J9: =I9*$J$8 -> 1308 | L9: =K9*$L$8 -> 0 | M9: =C9 -> 301 | N9: =M9*$N$8 -> 7525 | P9: =O9*$P$8 -> 0 | Q9: 301 | R9: =Q9*$R$8 -> 26187 | T9: =S9*$T$8 -> 0 | V9: =U9*$V$8 -> 0 | W9: =H9+J9+L9++N9+R9+T9+V9+P9 -> 583916.65 | X9: 1 | Y9: =X9*$Y$8 -> 359 | AA9: =Z9*$AA$8 -> 0 | AB9: =SUM(Y9,)+AA9 -> 359 | AC9: =W9+AB9 -> 584275.65 | AD9: 0 | AE9: =AD9*$AE$8 -> 0 | AF9: 0 | AG9: =AF9*$AG$8 -> 0 | AH9: 0 | AI9: =AH9*$AI$8 -> 0 | AJ9: =SUM(AE9,AG9,AI9) -> 0 | AK9: 0 | AL9: =AK9*$AL$8 -> 0 | AM9: =SUM(W9,Y9,AJ9) -> 584275.65
A10: 2 | B10: ПМГ "Св.Кл.Охридски"-Силистра | C10: 412 | D10: =$D$8*C10 -> 747368 | E10: 29000 | F10: =$F$8*C10/$C$18 -> 711619.33 | G10: =F10+E10 -> 740619.33 | H10: =G10 -> 740619.33 | I10: 3 | J10: =I10*$J$8 -> 1308 | L10: =K10*$L$8 -> 0 | M10: =C10 -> 412 | N10: =M10*$N$8 -> 10300 | P10: =O10*$P$8 -> 0 | Q10: 329 | R10: =Q10*$R$8 -> 28623 | T10: =S10*$T$8 -> 0 | V10: =U10*$V$8 -> 0 | W10: =H10+J10+L10++N10+R10+T10+V10+P10 -> 780850.33 | Y10: =X10*$Y$8 -> 0 | AA10: =Z10*$AA$8 -> 0 | AB10: =SUM(Y10,)+AA10 -> 0 | AC10: =W10+AB10 -> 780850.33 | AD10: 0 | AE10: =AD10*$AE$8 -> 0 | AF10: 0 | AG10: =AF10*$AG$8 -> 0 | AH10: 0 | AI10: =AH10*$AI$8 -> 0 | AJ10: =SUM(AE10,AG10,AI10) -> 0 | AK10: 0 | AL10: =AK10*$AL$8 -> 0 | AM10: =SUM(W10,Y10,AJ10) -> 780850.33
A11: 3 | B11: СУ "Н.Вапцаров"-Силистра | C11: 588 | D11: =$D$8*C11 -> 1066632 | E11: 29000 | F11: =$F$8*C11/$C$18 -> 1015612.1 | G11: =F11+E11 -> 1044612.1 | H11: =G11 -> 1044612.1 | I11: 7 | J11: =I11*$J$8 -> 3052 | L11: =K11*$L$8 -> 0 | M11: 585 | N11: =M11*$N$8 -> 14625 | O11: 3 | P11: =O11*$P$8 -> 3027 | Q11: 143 | R11: =Q11*$R$8 -> 12441 | S11: 294 | T11: =S11*$T$8 -> 21168 | U11: 327 | V11: =U11*$V$8 -> 217455 | W11: =H11+J11+L11++N11+R11+T11+V11+P11 -> 1316380.1 | X11: 33 | Y11: =X11*$Y$8 -> 11847 | Z11: 33 | AA11: =Z11*$AA$8 -> 81708 | AB11: =SUM(Y11,)+AA11 -> 93555 | AC11: =W11+AB11 -> 1409935.1 | AD11: 0 | AE11: =AD11*$AE$8 -> 0 | AF11: 1 | AG11: =AF11*$AG$8 -> 5000 | AH11: 0 | AI11: =AH11*$AI$8 -> 0 | AJ11: =SUM(AE11,AG11,AI11) -> 5000 | AK11: 0 | AL11: =AK11*$AL$8 -> 0 | AM11: =SUM(W11,Y11,AJ11) -> 1333227.1
A12: 4 | B12: ОУ "Отец Паисий" - Силистра | C12: 415 | D12: =$D$8*C12 -> 752810 | E12: 29000 | F12: =$F$8*C12/$C$18 -> 716801.02 | G12: =F12+E12 -> 745801.02 | H12: =G12 -> 745801.02 | J12: =I12*$J$8 -> 0 | K12: 1 | L12: =K12*$L$8 -> 3592 | M12: =C12 -> 415 | N12: =M12*$N$8 -> 10375 | P12: =O12*$P$8 -> 0 | R12: =Q12*$R$8 -> 0 | S12: 229 | T12: =S12*$T$8 -> 16488 | U12: 229 | V12: =U12*$V$8 -> 152285 | W12: =H12+J12+L12++N12+R12+T12+V12+P12 -> 928541.02 | X12: 15 | Y12: =X12*$Y$8 -> 5385 | Z12: 15 | AA12: =Z12*$AA$8 -> 37140 | AB12: =SUM(Y12,)+AA12 -> 42525 | AC12: =W12+AB12 -> 971066.02 | AD12: 1 | AE12: =AD12*$AE$8 -> 3000 | AF12: 0 | AG12: =AF12*$AG$8 -> 0 | AH12: 0 | AI12: =AH12*$AI$8 -> 0 | AJ12: =SUM(AE12,AG12,AI12) -> 3000 | AK12: 0 | AL12: =AK12*$AL$8 -> 0 | AM12: =SUM(W12,Y12,AJ12) -> 936926.02
A13: 5 | B13: ОУ "Св.св.Кирил и Методий"-Силистра | C13: 405 | D13: =$D$8*C13 -> 734670 | E13: 29000 | F13: =$F$8*C13/$C$18 -> 699528.71 | G13: =F13+E13 -> 728528.71 | H13: =G13 -> 728528.71 | J13: =I13*$J$8 -> 0 | K13: 4 | L13: =K13*$L$8 -> 14368 | M13: =C13 -> 405 | N13: =M13*$N$8 -> 10125 | P13: =O13*$P$8 -> 0 | R13: =Q13*$R$8 -> 0 | S13: 260 | T13: =S13*$T$8 -> 18720 | U13: 337 | V13: =U13*$V$8 -> 224105 | W13: =H13+J13+L13++N13+R13+T13+V13+P13 -> 995846.71 | X13: 25 | Y13: =X13*$Y$8 -> 8975 | Z13: 25 | AA13: =Z13*$AA$8 -> 61900 | AB13: =SUM(Y13,)+AA13 -> 70875 | AC13: =W13+AB13 -> 1066721.7 | AD13: 0 | AE13: =AD13*$AE$8 -> 0 | AF13: 0 | AG13: =AF13*$AG$8 -> 0 | AH13: 1 | AI13: =AH13*$AI$8 -> 6000 | AJ13: =SUM(AE13,AG13,AI13) -> 6000 | AK13: 0 | AL13: =AK13*$AL$8 -> 0 | AM13: =SUM(W13,Y13,AJ13) -> 1010821.7
A14: 6 | B14: ОУ "Иван Вазов"-Силистра | C14: 648 | D14: =$D$8*C14 -> 1175472 | E14: 29000 | F14: =$F$8*C14/$C$18 -> 1119245.9 | G14: =F14+E14 -> 1148245.9 | H14: =G14 -> 1148245.9 | J14: =I14*$J$8 -> 0 | L14: =K14*$L$8 -> 0 | M14: =C14 -> 648 | N14: =M14*$N$8 -> 16200 | P14: =O14*$P$8 -> 0 | R14: =Q14*$R$8 -> 0 | S14: 420 | T14: =S14*$T$8 -> 30240 | U14: 504 | V14: =U14*$V$8 -> 335160 | W14: =H14+J14+L14++N14+R14+T14+V14+P14 -> 1529845.9 | X14: 15 | Y14: =X14*$Y$8 -> 5385 | Z14: 15 | AA14: =Z14*$AA$8 -> 37140 | AB14: =SUM(Y14,)+AA14 -> 42525 | AC14: =W14+AB14 -> 1572370.9 | AD14: 0 | AE14: =AD14*$AE$8 -> 0 | AF14: 0 | AG14: =AF14*$AG$8 -> 0 | AH14: 1 | AI14: =AH14*$AI$8 -> 6000 | AJ14: =SUM(AE14,AG14,AI14) -> 6000 | AK14: 0 | AL14: =AK14*$AL$8 -> 0 | AM14: =SUM(W14,Y14,AJ14) -> 1541230.9
A15: 7 | B15: ОУ "Св.св.Кирил и Методий"-с.Калипетрово | C15: 66 | D15: =$D$8*C15 -> 119724 | E15: 29000 | F15: =$F$8*C15/$C$18 -> 113997.27 | G15: =F15+E15 -> 142997.27 | H15: =G15 -> 142997.27 | I15: 21 | J15: =I15*$J$8 -> 9156 | L15: =K15*$L$8 -> 0 | M15: =C15 -> 66 | N15: =M15*$N$8 -> 1650 | P15: =O15*$P$8 -> 0 | R15: =Q15*$R$8 -> 0 | S15: 34 | T15: =S15*$T$8 -> 2448 | U15: 50 | V15: =U15*$V$8 -> 33250 | W15: =H15+J15+L15++N15+R15+T15+V15+P15 -> 189501.27 | X15: 5 | Y15: =X15*$Y$8 -> 1795 | Z15: 5 | AA15: =Z15*$AA$8 -> 12380 | AB15: =SUM(Y15,)+AA15 -> 14175 | AC15: =W15+AB15 -> 203676.27 | AD15: 0 | AE15: =AD15*$AE$8 -> 0 | AF15: 1 | AG15: =AF15*$AG$8 -> 5000 | AH15: 0 | AI15: =AH15*$AI$8 -> 0 | AJ15: =SUM(AE15,AG15,AI15) -> 5000 | AK15: 0 | AL15: =AK15*$AL$8 -> 0 | AM15: =SUM(W15,Y15,AJ15) -> 196296.27
A16: 8 | B16: ОУ "Св.Кл.Охридски"-с.Иширково | C16: 133 | D16: =$D$8*C16 -> 241262 | E16: 29000 | F16: =$F$8*C16/$C$18 -> 229721.77 | G16: =F16+E16 -> 258721.77 | H16: =G16 -> 258721.77 | I16: 13 | J16: =I16*$J$8 -> 5668 | L16: =K16*$L$8 -> 0 | M16: =C16 -> 133 | N16: =M16*$N$8 -> 3325 | P16: =O16*$P$8 -> 0 | R16: =Q16*$R$8 -> 0 | S16: 71 | T16: =S16*$T$8 -> 5112 | U16: 133 | V16: =U16*$V$8 -> 88445 | W16: =H16+J16+L16++N16+R16+T16+V16+P16 -> 361271.77 | X16: 1 | Y16: =X16*$Y$8 -> 359 | AA16: =Z16*$AA$8 -> 0 | AB16: =SUM(Y16,)+AA16 -> 359 | AC16: =W16+AB16 -> 361630.77 | AD16: 0 | AE16: =AD16*$AE$8 -> 0 | AF16: 1 | AG16: =AF16*$AG$8 -> 5000 | AH16: 2 | AI16: =AH16*$AI$8 -> 12000 | AJ16: =SUM(AE16,AG16,AI16) -> 17000 | AK16: 0 | AL16: =AK16*$AL$8 -> 0 | AM16: =SUM(W16,Y16,AJ16) -> 378630.77
A17: 9 | B17: ОУ "Св.св.Кирил и Методий"-с.Брадвари | C17: 40 | D17: =$D$8*C17 -> 72560 | E17: 29000 | F17: =$F$8*C17/$C$18 -> 69089.255 | G17: =F17+E17 -> 98089.255 | H17: =G17 -> 98089.255 | I17: 26 | J17: =I17*$J$8 -> 11336 | L17: =K17*$L$8 -> 0 | M17: =C17 -> 40 | N17: =M17*$N$8 -> 1000 | P17: =O17*$P$8 -> 0 | R17: =Q17*$R$8 -> 0 | S17: 26 | T17: =S17*$T$8 -> 1872 | U17: 40 | V17: =U17*$V$8 -> 26600 | W17: =H17+J17+L17++N17+R17+T17+V17+P17 -> 138897.26 | X17: 9 | Y17: =X17*$Y$8 -> 3231 | AA17: =Z17*$AA$8 -> 0 | AB17: =SUM(Y17,)+AA17 -> 3231 | AC17: =W17+AB17 -> 142128.26 | AD17: 0 | AE17: =AD17*$AE$8 -> 0 | AF17: 0 | AG17: =AF17*$AG$8 -> 0 | AH17: 0 | AI17: =AH17*$AI$8 -> 0 | AJ17: =SUM(AE17,AG17,AI17) -> 0 | AK17: 0 | AL17: =AK17*$AL$8 -> 0 | AM17: =SUM(W17,Y17,AJ17) -> 142128.26
A18: ВСИЧКО ЗА УЧИЛИЩА | C18: =SUM(C9:C17) -> 3008 | D18: =SUM(D9:D17) -> 5456512 | E18: =SUM(E9:E17) -> 261000 | F18: =SUM(F9:F17) -> 5195512 | G18: =SUM(G9:G17) -> 5456512 | H18: =SUM(H9:H17) -> 5456512 | I18: =SUM(I9:I17) -> 73 | J18: =SUM(J9:J17) -> 31828 | ... V18: =SUM(V9:V17) -> 1077300 | W18: =H18+J18+L18++N18+R18+T18+V18+P18 -> 6825051 | X18: =SUM(X9:X17) -> 104 | Y18: =X18*$Y$8 -> 37336 | Z18: =SUM(Z9:Z17) -> 93 | AA18: =SUM(AA9:AA17) -> 230268 | AB18: =SUM(AB9:AB17) -> 267604 | AC18: =W18+AB18 -> 7092655 | AD18: =SUM(AD9:AD17) -> 1 | AE18: =SUM(AE9:AE17) -> 3000 | AF18: =SUM(AF9:AF17) -> 3 | AG18: =SUM(AG9:AG17) -> 15000 | AH18: =SUM(AH9:AH17) -> 4 | AI18: =AH18*$AI$8 -> 24000 | AJ18: =SUM(AE18,AG18,AI18) -> 42000 | AK18: =SUM(AK9:AK17) -> 0 | AL18: =SUM(AL9:AL17) -> 0 | AM18: =SUM(W18,AB18,AJ18) -> 7134655
A19: 10 | B19: Резерв | C19: =C20-C18 -> 148 | D19: =D20-D18 -> 268472 | H19: =H20-H18 -> 268472 | I19: =I20-I18 -> 25 | J19: =J20-J18 -> 10900 | K19: =K20-K18 -> -4 | L19: =L20-L18 -> -14368 | M19: =M20-M18 -> 151 | N19: =N20-N18 -> 3775 | O19: =O20-O18 -> 2 | ... V19: =V20-V18 -> 47215 | W19: =H19+J19+L19++N19+R19+T19+V19+P19 -> 290193 | X19: =X20-X18 -> 23 | Y19: =Y20-Y18 -> 8257 | AB19: =SUM(Y19,) -> 8257 | AC19: =W19+AB19 -> 298450 | AH19: -1 | AI19: -6000 | AJ19: =SUM(AE19,AG19,AI19) -> -6000 | AK19: 12 | AL19: 13404 | AM19: =SUM(W19,Y19,AJ19,AL19) -> 305854
A20: 11 | B20: В С И Ч КО: | C20: 3156 | D20: =C20*D8 -> 5724984 | G20: =G18+G19 -> 5456512 | H20: =D20 -> 5724984 | I20: 98 | J20: =I20*J8 -> 42728 | K20: 1 | L20: =K20*L8 -> 3592 | M20: 3156 | N20: =M20*N8 -> 78900 | O20: 5 | P20: =O20*P8 -> 5045 | Q20: 464 | R20: =Q20*R8 -> 40368 | S20: 1321 | T20: =S20*T8 -> 95112 | U20: 1691 | V20: =U20*V8 -> 1124515 | W20: =H20+J20+L20++N20+R20+T20+V20+P20 -> 7115244 | X20: 127 | Y20: =X20*$Y$8 -> 45593 | AB20: =SUM(Y20,) -> 45593 | AC20: =W20+AB20 -> 7160837 | AD20: 1 | AE20: 3000 | AF20: 3 | AG20: 15000 | AH20: 3 | AI20: 18000 | AJ20: =SUM(AE20,AG20,AI20) -> 36000 | AK20: 12 | AL20: =AK20*AL8 -> 13404 | AM20: =SUM(W20,AB20,AJ20,AL20) -> 7210241
F21: =D18-E18 -> 5195512
C22: Изготвил: Елина Тончева /п/ | AB22: Денка Михайлова /п/
AB23: За Кмет на Община съгл. заповед №382/21.02.2017 г.

Sheet Sheet2
AB1: Приложение № 1
A3: РАЗЧЕТ НА НАТУРАЛНИ И СТОЙНОСТНИ ПОКАЗАТЕЛИ ПО СТАНДАРТИТЕ ЗА ДЕЛЕГИРАНИТЕ ОТ ДЪРЖАВАТА ДЕЙНОСТИ ЗА ОБЩООБРАЗОВАТЕЛНИ УЧИЛИЩА ЗА ОБЩИНА СИЛИСТРА - НАЧАЛЕН ПЛАН 2017 Г.
C5: разпределение на 100% от средствата по разходен стандарт | L5: 100% от средствата | N5: 100% от средствата | P5: 100% от средствата | R5: 100% от средствата | T5: 100% от средствата | V5: 100% от средствата | X5: 100% от средствата | Z5: 100% от средствата | AB5: Всичко средства по държавна дейност 322
A6: № по ред | B6: Училище | C6: стандарт "Неспециализирани училища, без профес. гимназии" | E6: доп. Компонет - 29 000 лв. | H6: Всичко стандарт за общообразователни училища - 100% | I6: Всичко стандарт за общообразователни училища - 100% | L6: самостоятелна форма | N6: индивидуална | P6: Норматив за създаване на условия за приобщ. Обр. | R6: МТБ | T6: комбинирана форма | V6: стипендии | X6: хранене на деца от І до ІV клас | Z6: целодневна организация от І доVІ клас и средищни
F7: малко училище до 100 | G7: малко училище до 150
C8: брой ученици | D8: 1517.13 | F8: 120 | G8: 80 | L8: брой ученици | M8: 373 | N8: брой ученици | O8: 3070 | P8: брой ученици | Q8: 326 | R8: брой ученици | S8: 25 | T8: брой ученици | U8: 862 | V8: брой ученици | W8: 87 | X8: брой ученици | Y8: 72 | Z8: брой ученици | AA8: 580
A9: 1 | B9: ЕГ"П.Яворов" - Силистра | C9: 320 | D9: =$D$8*C9 -> 485481.6 | E9: 29000 | H9: =D9+E9 -> 514481.6 | I9: =H9 -> 514481.6 | L9: 3 | M9: =L9*$M$8 -> 1119 | N9: 1 | O9: =N9*$O$8 -> 3070 | P9: 1 | Q9: =P9*$Q$8 -> 326 | R9: =C9 -> 320 | S9: =R9*$S$8 -> 8000 | U9: =T9*$U$8 -> 0 | V9: 215 | W9: =V9*$W$8 -> 18705 | AA9: =Z9*$AA$8 -> 0 | AB9: =I9+M9+O9+Q9+S9+W9+Y9+AA9+U9 -> 545701.6
A10: 2 | B10: ПМГ"Св.Кл.Охридски"-Силистра | C10: 416 | D10: =$D$8*C10 -> 631126.08 | E10: 29000 | H10: =D10+E10 -> 660126.08 | I10: =H10 -> 660126.08 | L10: 3 | M10: =L10*$M$8 -> 1119 | O10: =N10*$O$8 -> 0 | P10: 0 | Q10: =P10*$Q$8 -> 0 | R10: =C10 -> 416 | S10: =R10*$S$8 -> 10400 | U10: =T10*$U$8 -> 0 | V10: 213 | W10: =V10*$W$8 -> 18531 | AA10: =Z10*$AA$8 -> 0 | AB10: =I10+M10+O10+Q10+S10+W10+Y10+AA10+U10 -> 690176.08
A11: 3 | B11: СОУ"Н.Вапцаров"-Силистра | C11: 559 | D11: =$D$8*C11 -> 848075.67 | E11: 29000 | H11: =D11+E11 -> 877075.67 | I11: =H11 -> 877075.67 | L11: 15 | M11: =L11*$M$8 -> 5595 | O11: =N11*$O$8 -> 0 | P11: 36 | Q11: =P11*$Q$8 -> 11736 | R11: =C11 -> 559 | S11: =R11*$S$8 -> 13975 | T11: 1 | U11: =T11*$U$8 -> 862 | V11: 97 | W11: =V11*$W$8 -> 8439 | X11: 283 | Y11: =X11*$Y$8 -> 20376 | Z11: 348 | AA11: =Z11*$AA$8 -> 201840 | AB11: =I11+M11+O11+Q11+S11+W11+Y11+AA11+U11 -> 1139898.7
A12: 4 | B12: ОУ"Отец Паисий" - Силистра | C12: 428 | D12: =$D$8*C12 -> 649331.64 | E12: 29000 | H12: =D12+E12 -> 678331.64 | I12: =H12 -> 678331.64 | M12: =L12*$M$8 -> 0 | N12: 1 | O12: =N12*$O$8 -> 3070 | P12: 15 | Q12: =P12*$Q$8 -> 4890 | R12: =C12 -> 428 | S12: =R12*$S$8 -> 10700 | U12: =T12*$U$8 -> 0 | W12: =V12*$W$8 -> 0 | X12: 229 | Y12: =X12*$Y$8 -> 16488 | Z12: 246 | AA12: =Z12*$AA$8 -> 142680 | AB12: =I12+M12+O12+Q12+S12+W12+Y12+AA12+U12 -> 856159.64
A13: 5 | B13: ОУ"Св.св.Кирил и Методий"-Силистра | C13: 444 | D13: =$D$8*C13 -> 673605.72 | E13: 29000 | H13: =D13+E13 -> 702605.72 | I13: =H13 -> 702605.72 | M13: =L13*$M$8 -> 0 | O13: =N13*$O$8 -> 0 | P13: 29 | Q13: =P13*$Q$8 -> 9454 | R13: =C13 -> 444 | S13: =R13*$S$8 -> 11100 | T13: 3 | U13: =T13*$U$8 -> 2586 | W13: =V13*$W$8 -> 0 | X13: 258 | Y13: =X13*$Y$8 -> 18576 | Z13: 335 | AA13: =Z13*$AA$8 -> 194300 | AB13: =I13+M13+O13+Q13+S13+W13+Y13+AA13+U13 -> 938621.72
A14: 6 | B14: ОУ"Иван Вазов"-Силистра | C14: 631 | D14: =$D$8*C14 -> 957309.03 | E14: 29000 | H14: =D14+E14 -> 986309.03 | I14: =H14 -> 986309.03 | M14: =L14*$M$8 -> 0 | O14: =N14*$O$8 -> 0 | P14: 25 | Q14: =P14*$Q$8 -> 8150 | R14: =C14 -> 631 | S14: =R14*$S$8 -> 15775 | U14: =T14*$U$8 -> 0 | W14: =V14*$W$8 -> 0 | X14: 414 | Y14: =X14*$Y$8 -> 29808 | Z14: 505 | AA14: =Z14*$AA$8 -> 292900 | AB14: =I14+M14+O14+Q14+S14+W14+Y14+AA14+U14 -> 1332942
A15: 7 | B15: ОУ"Св.св.Кирил и Методий"-с.Калипетрово | C15: 92 | D15: =$D$8*C15 -> 139575.96 | E15: 29000 | F15: =F8*C15 -> 11040 | H15: =D15+E15 -> 168575.96 | I15: =H15 -> 168575.96 | L15: 26 | M15: =L15*$M$8 -> 9698 | O15: =N15*$O$8 -> 0 | P15: 10 | Q15: =P15*$Q$8 -> 3260 | R15: =C15 -> 92 | S15: =R15*$S$8 -> 2300 | U15: =T15*$U$8 -> 0 | W15: =V15*$W$8 -> 0 | X15: 48 | Y15: =X15*$Y$8 -> 3456 | Z15: 52 | AA15: =Z15*$AA$8 -> 30160 | AB15: =I15+M15+O15+Q15+S15+W15+Y15+AA15+U15 -> 217449.96
A16: 8 | B16: ОУ"Св.Кл.Охридски"-с.Иширково | C16: 146 | D16: =$D$8*C16 -> 221500.98 | E16: 29000 | G16: =G8*C16 -> 11680 | H16: =D16+E16 -> 250500.98 | I16: =H16 -> 250500.98 | L16: 15 | M16: =L16*$M$8 -> 5595 | O16: =N16*$O$8 -> 0 | P16: 1 | Q16: =P16*$Q$8 -> 326 | R16: =C16 -> 146 | S16: =R16*$S$8 -> 3650 | U16: =T16*$U$8 -> 0 | W16: =V16*$W$8 -> 0 | X16: 66 | Y16: =X16*$Y$8 -> 4752 | Z16: 146 | AA16: =Z16*$AA$8 -> 84680 | AB16: =I16+M16+O16+Q16+S16+W16+Y16+AA16+U16 -> 349503.98
A17: 9 | B17: ОУ"Св.св.Кирил и Методий"-с.Брадвари | C17: 49 | D17: =$D$8*C17 -> 74339.37 | E17: 29000 | F17: =F8*C17 -> 5880 | H17: =D17+E17 -> 103339.37 | I17: =H17 -> 103339.37 | L17: 11 | M17: =L17*$M$8 -> 4103 | O17: =N17*$O$8 -> 0 | P17: 9 | Q17: =P17*$Q$8 -> 2934 | R17: =C17 -> 49 | S17: =R17*$S$8 -> 1225 | U17: =T17*$U$8 -> 0 | W17: =V17*$W$8 -> 0 | X17: 25 | Y17: =X17*$Y$8 -> 1800 | Z17: 43 | AA17: =Z17*$AA$8 -> 24940 | AB17: =I17+M17+O17+Q17+S17+W17+Y17+AA17+U17 -> 138341.37
A18: ВСИЧКО ЗА УЧИЛИЩА | C18: =SUM(C9:C17) -> 3085 | D18: =SUM(D9:D17) -> 4680346.1 | E18: =SUM(E9:E17) -> 261000 | H18: =SUM(H9:H17) -> 4941346.1 | I18: =SUM(I9:I17) -> 4941346.1 | L18: =SUM(L9:L17) -> 73 | M18: =SUM(M9:M17) -> 27229 | N18: =SUM(N9:N17) -> 2 | O18: =SUM(O9:O17) -> 6140 | P18: =SUM(P9:P17) -> 126 | Q18: =SUM(Q9:Q17) -> 41076 | R18: =SUM(R9:R17) -> 3085 | S18: =SUM(S9:S17) -> 77125 | ... AA18: =SUM(AA9:AA17) -> 971500 | AB18: =I18+M18+O18+Q18+S18+W18+Y18+AA18+U18 -> 6208795.1
A19: 10 | B19: Резерв | C19: 71 | D19: =$D$8*C19 -> 107716.23 | I19: =C19*D8 -> 107716.23 | L19: 25 | M19: =L19*$M$8 -> 9325 | N19: -1 | O19: =N19*$O$8 -> -3070 | P19: 1 | Q19: =P19*$Q$8 -> 326 | R19: 71 | S19: =R19*$S$8 -> 1775 | T19: 1 | U19: =T19*$U$8 -> 862 | V19: -61 | W19: =V19*$W$8 -> -5307 | X19: -2 | Y19: =X19*$Y$8 -> -144 | Z19: 16 | AA19: =Z19*$AA$8 -> 9280 | AB19: =I19+M19+O19+Q19+S19+W19+Y19+AA19+U19 -> 120763.23
B20: В С И Ч КО: | C20: =C18+C19 -> 3156 | D20: =D18+D19 -> 4788062.3 | H20: =H18+H19 -> 4941346.1 | I20: =I18+I19 -> 5049062.3 | L20: =L18+L19 -> 98 | M20: =M18+M19 -> 36554 | N20: =N18+N19 -> 1 | O20: =O18+O19 -> 3070 | P20: =P18+P19 -> 127 | Q20: =Q18+Q19 -> 41402 | R20: =R18+R19 -> 3156 | S20: =S18+S19 -> 78900 | ... AA20: =AA18+AA19 -> 980780 | AB20: =I20+M20+O20+Q20+S20+W20+Y20+AA20+U20 -> 6329558.3
C22: Изготвил: | Y22: Началник:
D23: / Т. Йвкова/ | AA23: / Нели Иванова/

Sheet гориво_бр. деца
AF1: Приложение № 1
A3: РАЗЧЕТ НА НАТУРАЛНИ И СТОЙНОСТНИ ПОКАЗАТЕЛИ ПО СТАНДАРТИТЕ ЗА ДЕЛЕГИРАНИТЕ ОТ ДЪРЖАВАТА ДЕЙНОСТИ ЗА ОБЩООБРАЗОВАТЕЛНИ УЧИЛИЩА ЗА ОБЩИНА СИЛИСТРА - НАЧАЛЕН ПЛАН 2017 Г.
C5: разпределение на 100% от средствата по разходен стандарт | I5: Допълнителен компонент | R5: 100% от средствата | T5: 100% от средствата | V5: 100% от средствата | X5: 100% от средствата | Z5: 100% от средствата | AB5: 100% от средствата | AD5: 100% от средствата | AF5: Всичко средства по държавна дейност 322 | AG5: 100% от средствата | AI5: 100% от средствата | AK5: ='2017'!AB5 -> Всичко средства по държавна дейност 338 | AL5: ='2017'!AD5 -> 100% от средствата | AR5: ='2017'!AJ5 -> Всичко средства по държавна дейност 389 | AS5: ='2017'!AM5 -> Всичко за училището | AT5: разлика
A6: № по ред | B6: Училище | C6: стандарт "Неспециализирани училища, без профес. гимназии" | E6: доп. Компонет - 29 000 лв. | F6: основен компонент | G6: Всичко стандарт за общообразователни училища - 100% | H6: Всичко стандарт за общообразователни училища - 100% | K6: 18835.6 | M6: 28253.4 | R6: самостоятелна форма | T6: индивидуална | V6: МТБ | X6: комбинирана форма | Z6: стипендии | AB6: хранене на деца от І до ІV клас | AD6: целодневна организация от І доVІ клас и средищни | AG6: Норматив за създаване на условия за приобщ. Обр. | AI6: ='2017'!#REF! -> #REF! | AL6: ='2017'!AD6 -> допълващ стандарт за поддръжка на автобуси
I7: 99% от осн комп | J7: разлика | K7: газ 0,25 | L7: без гас 0,75 | M7: до 150 уч (0,5) | N7: от 150 до 350 уч(0,10) | O7: над 350 (0,4) | P7: Общо | Q7: Всичко | AL7: ='2017'!AD7 -> 11÷15 м | AN7: ='2017'!AF7 -> 26÷29 м | AP7: ='2017'!AH7 -> над 30 м
K8: =0.25*K6 -> 4708.9 | L8: =0.75*K6 -> 14126.7 | M8: =0.49434*M6 -> 13966.786 | N8: =0.10374*M6 -> 2931.0077 | O8: =0.402*M6 -> 11357.867
C9: брой ученици | D9: 1611 | F9: 4708935 | K9: 1,46906 х6,10 | L9: 0,51077х6,10 | M9: 5,3165x9,16 | N9: 1 x 9,16 | O9: 0,5 x 9,16 | R9: брой ученици | S9: 373 | T9: брой ученици | U9: 3070 | V9: брой ученици | W9: 25 | X9: брой ученици | Y9: 862 | Z9: брой ученици | AA9: 87 | AB9: брой ученици | AC9: 72 | AD9: брой ученици | AE9: 580 | AG9: брой ученици | AH9: 326 | AI9: ='2017'!#REF! -> #REF! | AJ9: ='2017'!#REF! -> #REF! | AL9: ='2017'!AD8 -> бр. авт | AM9: ='2017'!AE8 -> 3000 | AN9: ='2017'!AF8 -> бр. авт | AO9: ='2017'!AG8 -> 5000 | AP9: ='2017'!AH8 -> бр. авт | AQ9: ='2017'!AI8 -> 6000
A10: 1 | B10: ЕГ"П.Яворов" - Силистра | C10: 320 | D10: =$D$9*C10 -> 515520 | E10: 29000 | F10: =$F$9*C10/$C$19 -> 488447.07 | G10: =F10+E10 -> 517447.07 | H10: =G10 -> 517447.07 | I10: =F10-F10*1% -> 483562.6 | J10: =F10*1% -> 4884.4707 | K10: =C10*K8/1510 -> 997.91258 | N10: =C10*N8/320 -> 2931.0077 | P10: =SUM(K10:O10) -> 3928.9203 | Q10: =SUM(I10,P10) -> 487491.52 | R10: 3 | S10: =R10*$S$9 -> 1119 | T10: 1 | U10: =T10*$U$9 -> 3070 | V10: =C10 -> 320 | W10: =V10*$W$9 -> 8000 | Y10: =X10*$Y$9 -> 0 | Z10: 215 | AA10: =Z10*$AA$9 -> 18705 | AE10: =AD10*$AE$9 -> 0 | AF10: =Q10+E10+S10+U10+W10+AA10+AC10+AE10+Y10 -> 547385.52 | AG10: 1 | AH10: =AG10*$AH$9 -> 326 | AI10: ='2017'!#REF! -> #REF! | AJ10: ='2017'!#REF! -> #REF! | AK10: ='2017'!AB9 -> 359 | AL10: ='2017'!AD9 -> 0 | AM10: ='2017'!AE9 -> 0 | AN10: ='2017'!AF9 -> 0 | AO10: ='2017'!AG9 -> 0 | AP10: ='2017'!AH9 -> 0 | AQ10: ='2017'!AI9 -> 0 | AR10: ='2017'!AJ9 -> 0 | AS10: ='2017'!AM9 -> 584275.65 | AT10: =P10-J10 -> -955.55037
A11: 2 | B11: ПМГ"Св.Кл.Охридски"-Силистра | C11: 416 | D11: =$D$9*C11 -> 670176 | E11: 29000 | F11: =$F$9*C11/$C$19 -> 634981.19 | G11: =F11+E11 -> 663981.19 | H11: =G11 -> 663981.19 | I11: =F11-F11*1% -> 628631.37 | J11: =F11*1% -> 6349.8119 | L11: =C11*L8/1575 -> 3731.2427 | O11: =C11*O8/2478 -> 1906.7282 | P11: =SUM(K11:O11) -> 5637.9709 | Q11: =SUM(I11,P11) -> 634269.35 | R11: 3 | S11: =R11*$S$9 -> 1119 | U11: =T11*$U$9 -> 0 | V11: =C11 -> 416 | W11: =V11*$W$9 -> 10400 | Y11: =X11*$Y$9 -> 0 | Z11: 213 | AA11: =Z11*$AA$9 -> 18531 | AE11: =AD11*$AE$9 -> 0 | AF11: =Q11+E11+S11+U11+W11+AA11+AC11+AE11+Y11 -> 693319.35 | AG11: 0 | AH11: =AG11*$AH$9 -> 0 | AI11: ='2017'!#REF! -> #REF! | AJ11: ='2017'!#REF! -> #REF! | AK11: ='2017'!AB10 -> 0 | AL11: ='2017'!AD10 -> 0 | AM11: ='2017'!AE10 -> 0 | AN11: ='2017'!AF10 -> 0 | AO11: ='2017'!AG10 -> 0 | AP11: ='2017'!AH10 -> 0 | AQ11: ='2017'!AI10 -> 0 | AR11: ='2017'!AJ10 -> 0 | AS11: ='2017'!AM10 -> 780850.33 | AT11: =P11-J11 -> -711.84095
A12: 3 | B12: СОУ"Н.Вапцаров"-Силистра | C12: 559 | D12: =$D$9*C12 -> 900549 | E12: 29000 | F12: =$F$9*C12/$C$19 -> 853255.97 | G12: =F12+E12 -> 882255.97 | H12: =G12 -> 882255.97 | I12: =F12-F12*1% -> 844723.41 | J12: =F12*1% -> 8532.5597 | K12: =C12*K8/1510 -> 1743.2285 | O12: =C12*O8/2478 -> 2562.1661 | P12: =SUM(K12:O12) -> 4305.3946 | Q12: =SUM(I12,P12) -> 849028.8 | R12: 15 | S12: =R12*$S$9 -> 5595 | U12: =T12*$U$9 -> 0 | V12: =C12 -> 559 | W12: =V12*$W$9 -> 13975 | X12: 1 | Y12: =X12*$Y$9 -> 862 | Z12: 97 | AA12: =Z12*$AA$9 -> 8439 | AB12: 283 | AC12: =AB12*$AC$9 -> 20376 | AD12: 348 | AE12: =AD12*$AE$9 -> 201840 | AF12: =Q12+E12+S12+U12+W12+AA12+AC12+AE12+Y12 -> 1129115.8 | AG12: 36 | AH12: =AG12*$AH$9 -> 11736 | AI12: ='2017'!#REF! -> #REF! | AJ12: ='2017'!#REF! -> #REF! | AK12: ='2017'!AB11 -> 93555 | AL12: ='2017'!AD11 -> 0 | AM12: ='2017'!AE11 -> 0 | AN12: ='2017'!AF11 -> 1 | AO12: ='2017'!AG11 -> 5000 | AP12: ='2017'!AH11 -> 0 | AQ12: ='2017'!AI11 -> 0 | AR12: ='2017'!AJ11 -> 5000 | AS12: ='2017'!AM11 -> 1333227.1 | AT12: =P12-J12 -> -4227.1651
A13: 4 | B13: ОУ"Отец Паисий" - Силистра | C13: 428 | D13: =$D$9*C13 -> 689508 | E13: 29000 | F13: =$F$9*C13/$C$19 -> 653297.95 | G13: =F13+E13 -> 682297.95 | H13: =G13 -> 682297.95 | I13: =F13-F13*1% -> 646764.97 | J13: =F13*1% -> 6532.9795 | L13: =C13*L8/1575 -> 3838.8747 | O13: =C13*O8/2478 -> 1961.73 | P13: =SUM(K13:O13) -> 5800.6047 | Q13: =SUM(I13,P13) -> 652565.58 | S13: =R13*$S$9 -> 0 | T13: 1 | U13: =T13*$U$9 -> 3070 | V13: =C13 -> 428 | W13: =V13*$W$9 -> 10700 | Y13: =X13*$Y$9 -> 0 | AA13: =Z13*$AA$9 -> 0 | AB13: 229 | AC13: =AB13*$AC$9 -> 16488 | AD13: 246 | AE13: =AD13*$AE$9 -> 142680 | AF13: =Q13+E13+S13+U13+W13+AA13+AC13+AE13+Y13 -> 854503.58 | AG13: 15 | AH13: =AG13*$AH$9 -> 4890 | AI13: ='2017'!#REF! -> #REF! | AJ13: ='2017'!#REF! -> #REF! | AK13: ='2017'!AB12 -> 42525 | AL13: ='2017'!AD12 -> 1 | AM13: ='2017'!AE12 -> 3000 | AN13: ='2017'!AF12 -> 0 | AO13: ='2017'!AG12 -> 0 | AP13: ='2017'!AH12 -> 0 | AQ13: ='2017'!AI12 -> 0 | AR13: ='2017'!AJ12 -> 3000 | AS13: ='2017'!AM12 -> 936926.02 | AT13: =P13-J13 -> -732.37483
A14: 5 | B14: ОУ"Св.св.Кирил и Методий"-Силистра | C14: 444 | D14: =$D$9*C14 -> 715284 | E14: 29000 | F14: =$F$9*C14/$C$19 -> 677720.3 | G14: =F14+E14 -> 706720.3 | H14: =G14 -> 706720.3 | I14: =F14-F14*1% -> 670943.1 | J14: =F14*1% -> 6777.203 | L14: =C14*L8/1575 -> 3982.384 | O14: =C14*O8/2478 -> 2035.0657 | P14: =SUM(K14:O14) -> 6017.4497 | Q14: =SUM(I14,P14) -> 676960.55 | S14: =R14*$S$9 -> 0 | U14: =T14*$U$9 -> 0 | V14: =C14 -> 444 | W14: =V14*$W$9 -> 11100 | X14: 3 | Y14: =X14*$Y$9 -> 2586 | AA14: =Z14*$AA$9 -> 0 | AB14: 258 | AC14: =AB14*$AC$9 -> 18576 | AD14: 335 | AE14: =AD14*$AE$9 -> 194300 | AF14: =Q14+E14+S14+U14+W14+AA14+AC14+AE14+Y14 -> 932522.55 | AG14: 28 | AH14: =AG14*$AH$9 -> 9128 | AI14: ='2017'!#REF! -> #REF! | AJ14: ='2017'!#REF! -> #REF! | AK14: ='2017'!AB13 -> 70875 | AL14: ='2017'!AD13 -> 0 | AM14: ='2017'!AE13 -> 0 | AN14: ='2017'!AF13 -> 0 | AO14: ='2017'!AG13 -> 0 | AP14: ='2017'!AH13 -> 1 | AQ14: ='2017'!AI13 -> 6000 | AR14: ='2017'!AJ13 -> 6000 | AS14: ='2017'!AM13 -> 1010821.7 | AT14: =P14-J14 -> -759.75332
A15: 6 | B15: ОУ"Иван Вазов"-Силистра | C15: 631 | D15: =$D$9*C15 -> 1016541 | E15: 29000 | F15: =$F$9*C15/$C$19 -> 963156.56 | G15: =F15+E15 -> 992156.56 | H15: =G15 -> 992156.56 | I15: =F15-F15*1% -> 953524.99 | J15: =F15*1% -> 9631.5656 | K15: =C15*K8/1510 -> 1967.7589 | O15: =C15*O8/2478 -> 2892.1767 | P15: =SUM(K15:O15) -> 4859.9356 | Q15: =SUM(I15,P15) -> 958384.93 | S15: =R15*$S$9 -> 0 | U15: =T15*$U$9 -> 0 | V15: =C15 -> 631 | W15: =V15*$W$9 -> 15775 | Y15: =X15*$Y$9 -> 0 | AA15: =Z15*$AA$9 -> 0 | AB15: 414 | AC15: =AB15*$AC$9 -> 29808 | AD15: 505 | AE15: =AD15*$AE$9 -> 292900 | AF15: =Q15+E15+S15+U15+W15+AA15+AC15+AE15+Y15 -> 1325867.9 | AG15: 25 | AH15: =AG15*$AH$9 -> 8150 | AI15: ='2017'!#REF! -> #REF! | AJ15: ='2017'!#REF! -> #REF! | AK15: ='2017'!AB14 -> 42525 | AL15: ='2017'!AD14 -> 0 | AM15: ='2017'!AE14 -> 0 | AN15: ='2017'!AF14 -> 0 | AO15: ='2017'!AG14 -> 0 | AP15: ='2017'!AH14 -> 1 | AQ15: ='2017'!AI14 -> 6000 | AR15: ='2017'!AJ14 -> 6000 | AS15: ='2017'!AM14 -> 1541230.9 | AT15: =P15-J15 -> -4771.63
A16: 7 | B16: ОУ"Св.св.Кирил и Методий"-с.Калипетрово | C16: 92 | D16: =$D$9*C16 -> 148212 | E16: 29000 | F16: =$F$9*C16/$C$19 -> 140428.53 | G16: =F16+E16 -> 169428.53 | H16: =G16 -> 169428.53 | I16: =F16-F16*1% -> 139024.25 | J16: =F16*1% -> 1404.2853 | L16: =C16*L8/1575 -> 825.17867 | M16: =C16*M8/287 -> 4477.1578 | P16: =SUM(K16:O16) -> 5302.3365 | Q16: =SUM(I16,P16) -> 144326.58 | R16: 26 | S16: =R16*$S$9 -> 9698 | U16: =T16*$U$9 -> 0 | V16: =C16 -> 92 | W16: =V16*$W$9 -> 2300 | Y16: =X16*$Y$9 -> 0 | AA16: =Z16*$AA$9 -> 0 | AB16: 48 | AC16: =AB16*$AC$9 -> 3456 | AD16: 52 | AE16: =AD16*$AE$9 -> 30160 | AF16: =Q16+E16+S16+U16+W16+AA16+AC16+AE16+Y16 -> 218940.58 | AG16: 10 | AH16: =AG16*$AH$9 -> 3260 | AI16: ='2017'!#REF! -> #REF! | AJ16: ='2017'!#REF! -> #REF! | AK16: ='2017'!AB15 -> 14175 | AL16: ='2017'!AD15 -> 0 | AM16: ='2017'!AE15 -> 0 | AN16: ='2017'!AF15 -> 1 | AO16: ='2017'!AG15 -> 5000 | AP16: ='2017'!AH15 -> 0 | AQ16: ='2017'!AI15 -> 0 | AR16: ='2017'!AJ15 -> 5000 | AS16: ='2017'!AM15 -> 196296.27 | AT16: =P16-J16 -> 3898.0512
A17: 8 | B17: ОУ"Св.Кл.Охридски"-с.Иширково | C17: 146 | D17: =$D$9*C17 -> 235206 | E17: 29000 | F17: =$F$9*C17/$C$19 -> 222853.97 | G17: =F17+E17 -> 251853.97 | H17: =G17 -> 251853.97 | I17: =F17-F17*1% -> 220625.43 | J17: =F17*1% -> 2228.5397 | L17: =C17*L8/1575 -> 1309.5227 | M17: =C17*M8/287 -> 7105.0548 | P17: =SUM(K17:O17) -> 8414.5774 | Q17: =SUM(I17,P17) -> 229040.01 | R17: 15 | S17: =R17*$S$9 -> 5595 | U17: =T17*$U$9 -> 0 | V17: =C17 -> 146 | W17: =V17*$W$9 -> 3650 | Y17: =X17*$Y$9 -> 0 | AA17: =Z17*$AA$9 -> 0 | AB17: 66 | AC17: =AB17*$AC$9 -> 4752 | AD17: 146 | AE17: =AD17*$AE$9 -> 84680 | AF17: =Q17+E17+S17+U17+W17+AA17+AC17+AE17+Y17 -> 356717.01 | AG17: 0 | AH17: =AG17*$AH$9 -> 0 | AI17: ='2017'!#REF! -> #REF! | AJ17: ='2017'!#REF! -> #REF! | AK17: ='2017'!AB16 -> 359 | AL17: ='2017'!AD16 -> 0 | AM17: ='2017'!AE16 -> 0 | AN17: ='2017'!AF16 -> 1 | AO17: ='2017'!AG16 -> 5000 | AP17: ='2017'!AH16 -> 2 | AQ17: ='2017'!AI16 -> 12000 | AR17: ='2017'!AJ16 -> 17000 | AS17: ='2017'!AM16 -> 378630.77 | AT17: =P17-J17 -> 6186.0377
A18: 9 | B18: ОУ"Св.св.Кирил и Методий"-с.Брадвари | C18: 49 | D18: =$D$9*C18 -> 78939 | E18: 29000 | F18: =$F$9*C18/$C$19 -> 74793.457 | G18: =F18+E18 -> 103793.46 | H18: =G18 -> 103793.46 | I18: =F18-F18*1% -> 74045.522 | J18: =F18*1% -> 747.93457 | L18: =C18*L8/1575 -> 439.49733 | M18: =C18*M8/287 -> 2384.5732 | P18: =SUM(K18:O18) -> 2824.0705 | Q18: =SUM(I18,P18) -> 76869.593 | R18: 11 | S18: =R18*$S$9 -> 4103 | U18: =T18*$U$9 -> 0 | V18: =C18 -> 49 | W18: =V18*$W$9 -> 1225 | Y18: =X18*$Y$9 -> 0 | AA18: =Z18*$AA$9 -> 0 | AB18: 25 | AC18: =AB18*$AC$9 -> 1800 | AD18: 43 | AE18: =AD18*$AE$9 -> 24940 | AF18: =Q18+E18+S18+U18+W18+AA18+AC18+AE18+Y18 -> 137937.59 | AG18: 9 | AH18: =AG18*$AH$9 -> 2934 | AI18: ='2017'!#REF! -> #REF! | AJ18: ='2017'!#REF! -> #REF! | AK18: ='2017'!AB17 -> 3231 | AL18: ='2017'!AD17 -> 0 | AM18: ='2017'!AE17 -> 0 | AN18: ='2017'!AF17 -> 0 | AO18: ='2017'!AG17 -> 0 | AP18: ='2017'!AH17 -> 0 | AQ18: ='2017'!AI17 -> 0 | AR18: ='2017'!AJ17 -> 0 | AS18: ='2017'!AM17 -> 142128.26 | AT18: =P18-J18 -> 2076.1359
A19: ВСИЧКО ЗА УЧИЛИЩА | C19: =SUM(C10:C18) -> 3085 | D19: =SUM(D10:D18) -> 4969935 | E19: =SUM(E10:E18) -> 261000 | F19: =SUM(F10:F18) -> 4708935 | G19: =SUM(G10:G18) -> 4969935 | H19: =SUM(H10:H18) -> 4969935 | I19: =SUM(I10:I18) -> 4661845.7 | J19: =SUM(J10:J18) -> 47089.35 | ... P19: =SUM(P10:P18) -> 47091.26 | Q19: =SUM(I19,P19) -> 4708936.9 | R19: =SUM(R10:R18) -> 73 | S19: =SUM(S10:S18) -> 27229 | T19: =SUM(T10:T18) -> 2 | U19: =SUM(U10:U18) -> 6140 | V19: =SUM(V10:V18) -> 3085 | W19: =SUM(W10:W18) -> 77125 | X19: =SUM(X10:X18) -> 4 | Y19: =SUM(Y10:Y18) -> 3448 | ... AE19: =SUM(AE10:AE18) -> 971500 | AF19: =Q19+E19+S19+U19+W19+AA19+AC19+AE19+Y19 -> 6196309.9 | AG19: =SUM(AG10:AG18) -> 124 | AH19: =AG19*$AH$9 -> 40424 | AI19: ='2017'!#REF! -> #REF! | AJ19: ='2017'!#REF! -> #REF! | AK19: ='2017'!AB18 -> 267604 | AL19: ='2017'!AD18 -> 1 | AM19: ='2017'!AE18 -> 3000 | AN19: ='2017'!AF18 -> 3 | AO19: ='2017'!AG18 -> 15000 | AP19: ='2017'!AH18 -> 4 | AQ19: ='2017'!AI18 -> 24000 | AR19: ='2017'!AJ18 -> 42000 | AS19: ='2017'!AM18 -> 7134655 | AT19: =P19-J19 -> 1.910272
A20: 10 | B20: Резерв | C20: 71 | D20: =$D$9*C20 -> 114381 | H20: =C20*D9 -> 114381 | R20: 25 | S20: =R20*$S$9 -> 9325 | T20: -1 | U20: =T20*$U$9 -> -3070 | V20: 71 | W20: =V20*$W$9 -> 1775 | X20: 1 | Y20: =X20*$Y$9 -> 862 | Z20: -61 | AA20: =Z20*$AA$9 -> -5307 | AB20: -2 | AC20: =AB20*$AC$9 -> -144 | AD20: 16 | AE20: =AD20*$AE$9 -> 9280 | AF20: =Q20+E20+S20+U20+W20+AA20+AC20+AE20+Y20 -> 12721 | AG20: 3 | AH20: =AG20*$AH$9 -> 978 | AI20: ='2017'!#REF! -> #REF! | AJ20: ='2017'!#REF! -> #REF! | AK20: ='2017'!AB19 -> 8257 | AL20: ='2017'!AD19 -> 0 | AM20: ='2017'!AE19 -> 0 | AN20: ='2017'!AF19 -> 0 | AO20: ='2017'!AG19 -> 0 | AP20: ='2017'!AH19 -> -1 | AQ20: ='2017'!AI19 -> -6000 | AR20: ='2017'!AJ19 -> -6000 | AS20: ='2017'!AM19 -> 305854
B21: В С И Ч КО: | C21: =C19+C20 -> 3156 | D21: =D19+D20 -> 5084316 | F21: 4708935 | G21: =G19+G20 -> 4969935 | H21: =H19+H20 -> 5084316 | I21: 4661846 | J21: 47089 | P21: 47090 | Q21: =SUM(I21,P21) -> 4708936 | R21: =R19+R20 -> 98 | S21: =S19+S20 -> 36554 | T21: =T19+T20 -> 1 | U21: =U19+U20 -> 3070 | V21: =V19+V20 -> 3156 | W21: =W19+W20 -> 78900 | X21: =X19+X20 -> 5 | Y21: =Y19+Y20 -> 4310 | ... AE21: =AE19+AE20 -> 980780 | AF21: =H21+S21+U21+W21+AA21+AC21+AE21+Y21 -> 6323410 | AG21: 127 | AH21: =AG21*$AH$9 -> 41402 | AI21: ='2017'!#REF! -> #REF! | AJ21: ='2017'!#REF! -> #REF! | AK21: ='2017'!AB20 -> 45593 | AL21: ='2017'!AD20 -> 1 | AM21: ='2017'!AE20 -> 3000 | AN21: ='2017'!AF20 -> 3 | AO21: ='2017'!AG20 -> 15000 | AP21: ='2017'!AH20 -> 3 | AQ21: ='2017'!AI20 -> 18000 | AR21: ='2017'!AJ20 -> 36000 | AS21: ='2017'!AM20 -> 7210241
F22: =D19-E19 -> 4708935 | AF22: =SUM(AF10:AF18) -> 6196309.9
C23: Изготвил: | AC23: Началник:

Sheet бр. деца
AE1: Приложение № 1
A3: РАЗЧЕТ НА НАТУРАЛНИ И СТОЙНОСТНИ ПОКАЗАТЕЛИ ПО СТАНДАРТИТЕ ЗА ДЕЛЕГИРАНИТЕ ОТ ДЪРЖАВАТА ДЕЙНОСТИ ЗА ОБЩООБРАЗОВАТЕЛНИ УЧИЛИЩА ЗА ОБЩИНА СИЛИСТРА - НАЧАЛЕН ПЛАН 2017 Г.
C5: разпределение на 100% от средствата по разходен стандарт | I5: Допълнителен компонент | Q5: 100% от средствата | S5: 100% от средствата | U5: 100% от средствата | W5: 100% от средствата | Y5: 100% от средствата | AA5: 100% от средствата | AC5: 100% от средствата | AE5: Всичко средства по държавна дейност 322 | AF5: ='гориво_бр. деца'!AG5 -> 100% от средствата | AH5: ='гориво_бр. деца'!AI5 -> 100% от средствата | AJ5: ='гориво_бр. деца'!AK5 -> Всичко средства по държавна дейност 338 | AK5: ='гориво_бр. деца'!AL5 -> 100% от средствата | AQ5: ='гориво_бр. деца'!AR5 -> Всичко средства по държавна дейност 389 | AR5: ='гориво_бр. деца'!AS5 -> Всичко за училището | AS5: разлика
A6: № по ред | B6: Училище | C6: стандарт "Неспециализирани училища, без профес. гимназии" | E6: доп. Компонет - 29 000 лв. | F6: основен компонент | G6: Всичко стандарт за общообразователни училища - 100% | H6: Всичко стандарт за общообразователни училища - 100% | K6: 47089.35 | Q6: самостоятелна форма | S6: индивидуална | U6: МТБ | W6: комбинирана форма | Y6: стипендии | AA6: хранене на деца от І до ІV клас | AC6: целодневна организация от І доVІ клас и средищни | AF6: ='гориво_бр. деца'!AG6 -> Норматив за създаване на условия за приобщ. Обр. | AH6: ='гориво_бр. деца'!AI6 -> #REF! | AK6: ='гориво_бр. деца'!AL6 -> допълващ стандарт за поддръжка на автобуси
I7: 99% от осн комп | J7: разлика | K7: до 150 (0,2579) | L7: 150÷350 (0,1381) | M7: 350÷550 (0,3339) | N7: над 550 (0,2699) | O7: Общо | P7: Всичко | AK7: ='гориво_бр. деца'!AL7 -> 11÷15 м | AM7: ='гориво_бр. деца'!AN7 -> 26÷29 м | AO7: ='гориво_бр. деца'!AP7 -> над 30 м
K8: =0.25795*K6 -> 12146.698 | L8: =0.13815*K6 -> 6505.3937 | M8: =0.3339*K6 -> 15723.134 | N8: =0.26993*K6 -> 12710.828
C9: брой ученици | D9: 1611 | F9: 4708935 | I9: 47089.35 | K9: 2,7732 х 15,26 | L9: 1,3322 х 15,26 | M9: 0,8 х 15,26 | N9: 0.7 х 15,26 | Q9: брой ученици | R9: 373 | S9: брой ученици | T9: 3070 | U9: брой ученици | V9: 25 | W9: брой ученици | X9: 862 | Y9: брой ученици | Z9: 87 | AA9: брой ученици | AB9: 72 | AC9: брой ученици | AD9: 580 | AF9: ='гориво_бр. деца'!AG9 -> брой ученици | AG9: ='гориво_бр. деца'!AH9 -> 326 | AH9: ='гориво_бр. деца'!AI9 -> #REF! | AI9: ='гориво_бр. деца'!AJ9 -> #REF! | AK9: ='гориво_бр. деца'!AL9 -> бр. авт | AL9: ='гориво_бр. деца'!AM9 -> 3000 | AM9: ='гориво_бр. деца'!AN9 -> бр. авт | AN9: ='гориво_бр. деца'!AO9 -> 5000 | AO9: ='гориво_бр. деца'!AP9 -> бр. авт | AP9: ='гориво_бр. деца'!AQ9 -> 6000
A10: 1 | B10: ЕГ"П.Яворов" - Силистра | C10: 320 | D10: =$D$9*C10 -> 515520 | E10: 29000 | F10: =$F$9*C10/$C$19 -> 488447.07 | G10: =F10+E10 -> 517447.07 | H10: =G10 -> 517447.07 | I10: =F10-F10*1% -> 483562.6 | J10: =F10*1% -> 4884.4707 | L10: =C10*L8/320 -> 6505.3937 | O10: =SUM(K10:N10) -> 6505.3937 | P10: =SUM(I10,O10) -> 490067.99 | Q10: 3 | R10: =Q10*$R$9 -> 1119 | S10: 1 | T10: =S10*$T$9 -> 3070 | U10: =C10 -> 320 | V10: =U10*$V$9 -> 8000 | X10: =W10*$X$9 -> 0 | Y10: 215 | Z10: =Y10*$Z$9 -> 18705 | AD10: =AC10*$AD$9 -> 0 | AE10: =P10+E10+R10+T10+V10+Z10+AB10+AD10+X10 -> 549961.99 | AF10: ='гориво_бр. деца'!AG10 -> 1 | AG10: ='гориво_бр. деца'!AH10 -> 326 | AH10: ='гориво_бр. деца'!AI10 -> #REF! | AI10: ='гориво_бр. деца'!AJ10 -> #REF! | AJ10: ='гориво_бр. деца'!AK10 -> 359 | AK10: ='гориво_бр. деца'!AL10 -> 0 | AL10: ='гориво_бр. деца'!AM10 -> 0 | AM10: ='гориво_бр. деца'!AN10 -> 0 | ... AR10: ='гориво_бр. деца'!AS10 -> 584275.65 | AS10: =O10-J10 -> 1620.923
A11: 2 | B11: ПМГ"Св.Кл.Охридски"-Силистра | C11: 416 | D11: =$D$9*C11 -> 670176 | E11: 29000 | F11: =$F$9*C11/$C$19 -> 634981.19 | G11: =F11+E11 -> 663981.19 | H11: =G11 -> 663981.19 | I11: =F11-F11*1% -> 628631.37 | J11: =F11*1% -> 6349.8119 | M11: =C11*M8/1288 -> 5078.2793 | O11: =SUM(K11:N11) -> 5078.2793 | P11: =SUM(I11,O11) -> 633709.65 | Q11: 3 | R11: =Q11*$R$9 -> 1119 | T11: =S11*$T$9 -> 0 | U11: =C11 -> 416 | V11: =U11*$V$9 -> 10400 | X11: =W11*$X$9 -> 0 | Y11: 213 | Z11: =Y11*$Z$9 -> 18531 | AD11: =AC11*$AD$9 -> 0 | AE11: =P11+E11+R11+T11+V11+Z11+AB11+AD11+X11 -> 692759.65 | AF11: ='гориво_бр. деца'!AG11 -> 0 | AG11: ='гориво_бр. деца'!AH11 -> 0 | AH11: ='гориво_бр. деца'!AI11 -> #REF! | AI11: ='гориво_бр. деца'!AJ11 -> #REF! | AJ11: ='гориво_бр. деца'!AK11 -> 0 | AK11: ='гориво_бр. деца'!AL11 -> 0 | AL11: ='гориво_бр. деца'!AM11 -> 0 | AM11: ='гориво_бр. деца'!AN11 -> 0 | ... AR11: ='гориво_бр. деца'!AS11 -> 780850.33 | AS11: =O11-J11 -> -1271.5326
A12: 3 | B12: СОУ"Н.Вапцаров"-Силистра | C12: 559 | D12: =$D$9*C12 -> 900549 | E12: 29000 | F12: =$F$9*C12/$C$19 -> 853255.97 | G12: =F12+E12 -> 882255.97 | H12: =G12 -> 882255.97 | I12: =F12-F12*1% -> 844723.41 | J12: =F12*1% -> 8532.5597 | N12: =C12*N8/1190 -> 5970.8849 | O12: =SUM(K12:N12) -> 5970.8849 | P12: =SUM(I12,O12) -> 850694.29 | Q12: 15 | R12: =Q12*$R$9 -> 5595 | T12: =S12*$T$9 -> 0 | U12: =C12 -> 559 | V12: =U12*$V$9 -> 13975 | W12: 1 | X12: =W12*$X$9 -> 862 | Y12: 97 | Z12: =Y12*$Z$9 -> 8439 | AA12: 283 | AB12: =AA12*$AB$9 -> 20376 | AC12: 348 | AD12: =AC12*$AD$9 -> 201840 | AE12: =P12+E12+R12+T12+V12+Z12+AB12+AD12+X12 -> 1130781.3 | AF12: ='гориво_бр. деца'!AG12 -> 36 | AG12: ='гориво_бр. деца'!AH12 -> 11736 | AH12: ='гориво_бр. деца'!AI12 -> #REF! | AI12: ='гориво_бр. деца'!AJ12 -> #REF! | AJ12: ='гориво_бр. деца'!AK12 -> 93555 | AK12: ='гориво_бр. деца'!AL12 -> 0 | AL12: ='гориво_бр. деца'!AM12 -> 0 | AM12: ='гориво_бр. деца'!AN12 -> 1 | ... AR12: ='гориво_бр. деца'!AS12 -> 1333227.1 | AS12: =O12-J12 -> -2561.6748
A13: 4 | B13: ОУ"Отец Паисий" - Силистра | C13: 428 | D13: =$D$9*C13 -> 689508 | E13: 29000 | F13: =$F$9*C13/$C$19 -> 653297.95 | G13: =F13+E13 -> 682297.95 | H13: =G13 -> 682297.95 | I13: =F13-F13*1% -> 646764.97 | J13: =F13*1% -> 6532.9795 | M13: =C13*M8/1288 -> 5224.7681 | O13: =SUM(K13:N13) -> 5224.7681 | P13: =SUM(I13,O13) -> 651989.74 | R13: =Q13*$R$9 -> 0 | S13: 1 | T13: =S13*$T$9 -> 3070 | U13: =C13 -> 428 | V13: =U13*$V$9 -> 10700 | X13: =W13*$X$9 -> 0 | Z13: =Y13*$Z$9 -> 0 | AA13: 229 | AB13: =AA13*$AB$9 -> 16488 | AC13: 246 | AD13: =AC13*$AD$9 -> 142680 | AE13: =P13+E13+R13+T13+V13+Z13+AB13+AD13+X13 -> 853927.74 | AF13: ='гориво_бр. деца'!AG13 -> 15 | AG13: ='гориво_бр. деца'!AH13 -> 4890 | AH13: ='гориво_бр. деца'!AI13 -> #REF! | AI13: ='гориво_бр. деца'!AJ13 -> #REF! | AJ13: ='гориво_бр. деца'!AK13 -> 42525 | AK13: ='гориво_бр. деца'!AL13 -> 1 | AL13: ='гориво_бр. деца'!AM13 -> 3000 | AM13: ='гориво_бр. деца'!AN13 -> 0 | ... AR13: ='гориво_бр. деца'!AS13 -> 936926.02 | AS13: =O13-J13 -> -1308.2114
A14: 5 | B14: ОУ"Св.св.Кирил и Методий"-Силистра | C14: 444 | D14: =$D$9*C14 -> 715284 | E14: 29000 | F14: =$F$9*C14/$C$19 -> 677720.3 | G14: =F14+E14 -> 706720.3 | H14: =G14 -> 706720.3 | I14: =F14-F14*1% -> 670943.1 | J14: =F14*1% -> 6777.203 | M14: =C14*M8/1288 -> 5420.0866 | O14: =SUM(K14:N14) -> 5420.0866 | P14: =SUM(I14,O14) -> 676363.19 | R14: =Q14*$R$9 -> 0 | T14: =S14*$T$9 -> 0 | U14: =C14 -> 444 | V14: =U14*$V$9 -> 11100 | W14: 3 | X14: =W14*$X$9 -> 2586 | Z14: =Y14*$Z$9 -> 0 | AA14: 258 | AB14: =AA14*$AB$9 -> 18576 | AC14: 335 | AD14: =AC14*$AD$9 -> 194300 | AE14: =P14+E14+R14+T14+V14+Z14+AB14+AD14+X14 -> 931925.19 | AF14: ='гориво_бр. деца'!AG14 -> 28 | AG14: ='гориво_бр. деца'!AH14 -> 9128 | AH14: ='гориво_бр. деца'!AI14 -> #REF! | AI14: ='гориво_бр. деца'!AJ14 -> #REF! | AJ14: ='гориво_бр. деца'!AK14 -> 70875 | AK14: ='гориво_бр. деца'!AL14 -> 0 | AL14: ='гориво_бр. деца'!AM14 -> 0 | AM14: ='гориво_бр. деца'!AN14 -> 0 | ... AR14: ='гориво_бр. деца'!AS14 -> 1010821.7 | AS14: =O14-J14 -> -1357.1165
A15: 6 | B15: ОУ"Иван Вазов"-Силистра | C15: 631 | D15: =$D$9*C15 -> 1016541 | E15: 29000 | F15: =$F$9*C15/$C$19 -> 963156.56 | G15: =F15+E15 -> 992156.56 | H15: =G15 -> 992156.56 | I15: =F15-F15*1% -> 953524.99 | J15: =F15*1% -> 9631.5656 | N15: =C15*N8/1190 -> 6739.9434 | O15: =SUM(K15:N15) -> 6739.9434 | P15: =SUM(I15,O15) -> 960264.94 | R15: =Q15*$R$9 -> 0 | T15: =S15*$T$9 -> 0 | U15: =C15 -> 631 | V15: =U15*$V$9 -> 15775 | X15: =W15*$X$9 -> 0 | Z15: =Y15*$Z$9 -> 0 | AA15: 414 | AB15: =AA15*$AB$9 -> 29808 | AC15: 505 | AD15: =AC15*$AD$9 -> 292900 | AE15: =P15+E15+R15+T15+V15+Z15+AB15+AD15+X15 -> 1327747.9 | AF15: ='гориво_бр. деца'!AG15 -> 25 | AG15: ='гориво_бр. деца'!AH15 -> 8150 | AH15: ='гориво_бр. деца'!AI15 -> #REF! | AI15: ='гориво_бр. деца'!AJ15 -> #REF! | AJ15: ='гориво_бр. деца'!AK15 -> 42525 | AK15: ='гориво_бр. деца'!AL15 -> 0 | AL15: ='гориво_бр. деца'!AM15 -> 0 | AM15: ='гориво_бр. деца'!AN15 -> 0 | ... AR15: ='гориво_бр. деца'!AS15 -> 1541230.9 | AS15: =O15-J15 -> -2891.6222
A16: 7 | B16: ОУ"Св.св.Кирил и Методий"-с.Калипетрово | C16: 92 | D16: =$D$9*C16 -> 148212 | E16: 29000 | F16: =$F$9*C16/$C$19 -> 140428.53 | G16: =F16+E16 -> 169428.53 | H16: =G16 -> 169428.53 | I16: =F16-F16*1% -> 139024.25 | J16: =F16*1% -> 1404.2853 | K16: =C16*K8/287 -> 3893.715 | O16: =SUM(K16:N16) -> 3893.715 | P16: =SUM(I16,O16) -> 142917.96 | Q16: 26 | R16: =Q16*$R$9 -> 9698 | T16: =S16*$T$9 -> 0 | U16: =C16 -> 92 | V16: =U16*$V$9 -> 2300 | X16: =W16*$X$9 -> 0 | Z16: =Y16*$Z$9 -> 0 | AA16: 48 | AB16: =AA16*$AB$9 -> 3456 | AC16: 52 | AD16: =AC16*$AD$9 -> 30160 | AE16: =P16+E16+R16+T16+V16+Z16+AB16+AD16+X16 -> 217531.96 | AF16: ='гориво_бр. деца'!AG16 -> 10 | AG16: ='гориво_бр. деца'!AH16 -> 3260 | AH16: ='гориво_бр. деца'!AI16 -> #REF! | AI16: ='гориво_бр. деца'!AJ16 -> #REF! | AJ16: ='гориво_бр. деца'!AK16 -> 14175 | AK16: ='гориво_бр. деца'!AL16 -> 0 | AL16: ='гориво_бр. деца'!AM16 -> 0 | AM16: ='гориво_бр. деца'!AN16 -> 1 | ... AR16: ='гориво_бр. деца'!AS16 -> 196296.27 | AS16: =O16-J16 -> 2489.4297
A17: 8 | B17: ОУ"Св.Кл.Охридски"-с.Иширково | C17: 146 | D17: =$D$9*C17 -> 235206 | E17: 29000 | F17: =$F$9*C17/$C$19 -> 222853.97 | G17: =F17+E17 -> 251853.97 | H17: =G17 -> 251853.97 | I17: =F17-F17*1% -> 220625.43 | J17: =F17*1% -> 2228.5397 | K17: =C17*K8/287 -> 6179.1564 | O17: =SUM(K17:N17) -> 6179.1564 | P17: =SUM(I17,O17) -> 226804.59 | Q17: 15 | R17: =Q17*$R$9 -> 5595 | T17: =S17*$T$9 -> 0 | U17: =C17 -> 146 | V17: =U17*$V$9 -> 3650 | X17: =W17*$X$9 -> 0 | Z17: =Y17*$Z$9 -> 0 | AA17: 66 | AB17: =AA17*$AB$9 -> 4752 | AC17: 146 | AD17: =AC17*$AD$9 -> 84680 | AE17: =P17+E17+R17+T17+V17+Z17+AB17+AD17+X17 -> 354481.59 | AF17: ='гориво_бр. деца'!AG17 -> 0 | AG17: ='гориво_бр. деца'!AH17 -> 0 | AH17: ='гориво_бр. деца'!AI17 -> #REF! | AI17: ='гориво_бр. деца'!AJ17 -> #REF! | AJ17: ='гориво_бр. деца'!AK17 -> 359 | AK17: ='гориво_бр. деца'!AL17 -> 0 | AL17: ='гориво_бр. деца'!AM17 -> 0 | AM17: ='гориво_бр. деца'!AN17 -> 1 | ... AR17: ='гориво_бр. деца'!AS17 -> 378630.77 | AS17: =O17-J17 -> 3950.6166
A18: 9 | B18: ОУ"Св.св.Кирил и Методий"-с.Брадвари | C18: 49 | D18: =$D$9*C18 -> 78939 | E18: 29000 | F18: =$F$9*C18/$C$19 -> 74793.457 | G18: =F18+E18 -> 103793.46 | H18: =G18 -> 103793.46 | I18: =F18-F18*1% -> 74045.522 | J18: =F18*1% -> 747.93457 | K18: =C18*K8/287 -> 2073.8265 | O18: =SUM(K18:N18) -> 2073.8265 | P18: =SUM(I18,O18) -> 76119.349 | Q18: 11 | R18: =Q18*$R$9 -> 4103 | T18: =S18*$T$9 -> 0 | U18: =C18 -> 49 | V18: =U18*$V$9 -> 1225 | X18: =W18*$X$9 -> 0 | Z18: =Y18*$Z$9 -> 0 | AA18: 25 | AB18: =AA18*$AB$9 -> 1800 | AC18: 43 | AD18: =AC18*$AD$9 -> 24940 | AE18: =P18+E18+R18+T18+V18+Z18+AB18+AD18+X18 -> 137187.35 | AF18: ='гориво_бр. деца'!AG18 -> 9 | AG18: ='гориво_бр. деца'!AH18 -> 2934 | AH18: ='гориво_бр. деца'!AI18 -> #REF! | AI18: ='гориво_бр. деца'!AJ18 -> #REF! | AJ18: ='гориво_бр. деца'!AK18 -> 3231 | AK18: ='гориво_бр. деца'!AL18 -> 0 | AL18: ='гориво_бр. деца'!AM18 -> 0 | AM18: ='гориво_бр. деца'!AN18 -> 0 | ... AR18: ='гориво_бр. деца'!AS18 -> 142128.26 | AS18: =O18-J18 -> 1325.8919
A19: ВСИЧКО ЗА УЧИЛИЩА | C19: =SUM(C10:C18) -> 3085 | D19: =SUM(D10:D18) -> 4969935 | E19: =SUM(E10:E18) -> 261000 | F19: =SUM(F10:F18) -> 4708935 | G19: =SUM(G10:G18) -> 4969935 | H19: =SUM(H10:H18) -> 4969935 | I19: =SUM(I10:I18) -> 4661845.7 | J19: =SUM(J10:J18) -> 47089.35 | ... O19: =SUM(O10:O18) -> 47086.054 | P19: =SUM(I19,O19) -> 4708931.7 | Q19: =SUM(Q10:Q18) -> 73 | R19: =SUM(R10:R18) -> 27229 | S19: =SUM(S10:S18) -> 2 | T19: =SUM(T10:T18) -> 6140 | U19: =SUM(U10:U18) -> 3085 | V19: =SUM(V10:V18) -> 77125 | W19: =SUM(W10:W18) -> 4 | X19: =SUM(X10:X18) -> 3448 | ... AD19: =SUM(AD10:AD18) -> 971500 | AE19: =P19+E19+R19+T19+V19+Z19+AB19+AD19+X19 -> 6196304.7 | AF19: ='гориво_бр. деца'!AG19 -> 124 | AG19: ='гориво_бр. деца'!AH19 -> 40424 | AH19: ='гориво_бр. деца'!AI19 -> #REF! | AI19: ='гориво_бр. деца'!AJ19 -> #REF! | AJ19: ='гориво_бр. деца'!AK19 -> 267604 | AK19: ='гориво_бр. деца'!AL19 -> 1 | AL19: ='гориво_бр. деца'!AM19 -> 3000 | AM19: ='гориво_бр. деца'!AN19 -> 3 | ... AR19: ='гориво_бр. деца'!AS19 -> 7134655 | AS19: =O19-J19 -> -3.2962545 | AU19: =SUM(AE19,AJ19) -> 6463908.7
A20: 10 | B20: Резерв | C20: 71 | D20: =$D$9*C20 -> 114381 | H20: =C20*D9 -> 114381 | Q20: 25 | R20: =Q20*$R$9 -> 9325 | S20: -1 | T20: =S20*$T$9 -> -3070 | U20: 71 | V20: =U20*$V$9 -> 1775 | W20: 1 | X20: =W20*$X$9 -> 862 | Y20: -61 | Z20: =Y20*$Z$9 -> -5307 | AA20: -2 | AB20: =AA20*$AB$9 -> -144 | AC20: 16 | AD20: =AC20*$AD$9 -> 9280 | AE20: =P20+E20+R20+T20+V20+Z20+AB20+AD20+X20 -> 12721 | AF20: ='гориво_бр. деца'!AG20 -> 3 | AG20: ='гориво_бр. деца'!AH20 -> 978 | AH20: ='гориво_бр. деца'!AI20 -> #REF! | AI20: ='гориво_бр. деца'!AJ20 -> #REF! | AJ20: ='гориво_бр. деца'!AK20 -> 8257 | AK20: ='гориво_бр. деца'!AL20 -> 0 | AL20: ='гориво_бр. деца'!AM20 -> 0 | AM20: ='гориво_бр. деца'!AN20 -> 0 | ... AR20: ='гориво_бр. деца'!AS20 -> 305854 | AU20: =SUM(AE20,AJ20) -> 20978
B21: В С И Ч КО: | C21: =C19+C20 -> 3156 | D21: =D19+D20 -> 5084316 | E21: 261000 | G21: =G19+G20 -> 4969935 | H21: =H19+H20 -> 5084316 | P21: 4708935 | Q21: =Q19+Q20 -> 98 | R21: =R19+R20 -> 36554 | S21: =S19+S20 -> 1 | T21: =T19+T20 -> 3070 | U21: =U19+U20 -> 3156 | V21: =V19+V20 -> 78900 | W21: =W19+W20 -> 5 | X21: =X19+X20 -> 4310 | ... AD21: =AD19+AD20 -> 980780 | AE21: =H21+R21+T21+V21+Z21+AB21+AD21+X21 -> 6323410 | AF21: ='гориво_бр. деца'!AG21 -> 127 | AG21: ='гориво_бр. деца'!AH21 -> 41402 | AH21: ='гориво_бр. деца'!AI21 -> #REF! | AI21: ='гориво_бр. деца'!AJ21 -> #REF! | AJ21: ='гориво_бр. деца'!AK21 -> 45593 | AK21: ='гориво_бр. деца'!AL21 -> 1 | AL21: ='гориво_бр. деца'!AM21 -> 3000 | AM21: ='гориво_бр. деца'!AN21 -> 3 | ... AR21: ='гориво_бр. деца'!AS21 -> 7210241 | AU21: =SUM(AE21,AJ21) -> 6369003
F22: =D19-E19 -> 4708935 | J22: =SUM(J10:J15,J16:J18) -> 47089.35 | AE22: =SUM(AE10:AE18) -> 6196304.7
C23: Изготвил: | J23: =SUM(K23,L23,M23,N23) -> 47086.054 | K23: =SUM(K16:K18) -> 12146.698 | L23: =SUM(L10) -> 6505.3937 | M23: =SUM(M11:M15) -> 15723.134 | N23: =SUM(N10:N18) -> 12710.828 | AB23: Началник:
D24: / Т. Йвкова/ | I24: =SUM(I10:I15) -> 4228150.4 | AD24: / Нели Иванова/

Sheet малко нас. място
AA1: Приложение № 1
A3: РАЗЧЕТ НА НАТУРАЛНИ И СТОЙНОСТНИ ПОКАЗАТЕЛИ ПО СТАНДАРТИТЕ ЗА ДЕЛЕГИРАНИТЕ ОТ ДЪРЖАВАТА ДЕЙНОСТИ ЗА ОБЩООБРАЗОВАТЕЛНИ УЧИЛИЩА ЗА ОБЩИНА СИЛИСТРА - НАЧАЛЕН ПЛАН 2017 Г.
C5: разпределение на 100% от средствата по разходен стандарт | I5: Допълнителен компонент малко населено място | M5: 100% от средствата | O5: 100% от средствата | Q5: 100% от средствата | S5: 100% от средствата | U5: 100% от средствата | W5: 100% от средствата | Y5: 100% от средствата | AA5: Всичко средства по държавна дейност 322 | AB5: ='бр. деца'!AF5 -> 100% от средствата | AD5: ='бр. деца'!AH5 -> 100% от средствата | AF5: ='бр. деца'!AJ5 -> Всичко средства по държавна дейност 338 | AG5: ='бр. деца'!AK5 -> 100% от средствата | AM5: ='бр. деца'!AQ5 -> Всичко средства по държавна дейност 389 | AN5: ='бр. деца'!AR5 -> Всичко за училището | AO5: разлика
A6: № по ред | B6: Училище | C6: стандарт "Неспециализирани училища, без профес. гимназии" | E6: доп. Компонет - 29 000 лв. | F6: основен компонент | G6: Всичко стандарт за общообразователни училища - 100% | H6: Всичко стандарт за общообразователни училища - 100% | K6: 0.4% осн. Комп | M6: самостоятелна форма | O6: индивидуална | Q6: МТБ | S6: комбинирана форма | U6: стипендии | W6: хранене на деца от І до ІV клас | Y6: целодневна организация от І доVІ клас и средищни | AB6: ='бр. деца'!AF6 -> Норматив за създаване на условия за приобщ. Обр. | AD6: ='бр. деца'!AH6 -> #REF! | AG6: ='бр. деца'!AK6 -> допълващ стандарт за поддръжка на автобуси
I7: 99% от осн комп | J7: разлика | K7: Извън ОЦ | L7: Всичко | AG7: ='бр. деца'!AK7 -> 11÷15 м | AI7: ='бр. деца'!AM7 -> 26÷29 м | AK7: ='бр. деца'!AO7 -> над 30 м
C8: брой ученици | D8: 1611 | F8: 4708935 | K8: 6278.53 | M8: брой ученици | N8: 373 | O8: брой ученици | P8: 3070 | Q8: брой ученици | R8: 25 | S8: брой ученици | T8: 862 | U8: брой ученици | V8: 87 | W8: брой ученици | X8: 72 | Y8: брой ученици | Z8: 580 | AB8: ='бр. деца'!AF9 -> брой ученици | AC8: ='бр. деца'!AG9 -> 326 | AD8: ='бр. деца'!AH9 -> #REF! | AE8: ='бр. деца'!AI9 -> #REF! | AG8: ='бр. деца'!AK9 -> бр. авт | AH8: ='бр. деца'!AL9 -> 3000 | AI8: ='бр. деца'!AM9 -> бр. авт | AJ8: ='бр. деца'!AN9 -> 5000 | AK8: ='бр. деца'!AO9 -> бр. авт | AL8: ='бр. деца'!AP9 -> 6000
A9: 1 | B9: ЕГ"П.Яворов" - Силистра | C9: 320 | D9: =$D$8*C9 -> 515520 | E9: 29000 | F9: =$F$8*C9/$C$18 -> 488447.07 | G9: =F9+E9 -> 517447.07 | H9: =G9 -> 517447.07 | I9: =F9-F9*0.4% -> 486493.28 | J9: =F9*0.4% -> 1953.7883 | K9: 0 | L9: =SUM(I9,K9) -> 486493.28 | M9: 3 | N9: =M9*$N$8 -> 1119 | O9: 1 | P9: =O9*$P$8 -> 3070 | Q9: =C9 -> 320 | R9: =Q9*$R$8 -> 8000 | T9: =S9*$T$8 -> 0 | U9: 215 | V9: =U9*$V$8 -> 18705 | Z9: =Y9*$Z$8 -> 0 | AA9: =L9+E9+N9+P9+R9+V9+X9+Z9+T9 -> 546387.28 | AB9: ='бр. деца'!AF10 -> 1 | AC9: ='бр. деца'!AG10 -> 326 | AD9: ='бр. деца'!AH10 -> #REF! | AE9: ='бр. деца'!AI10 -> #REF! | AF9: ='бр. деца'!AJ10 -> 359 | AG9: ='бр. деца'!AK10 -> 0 | AH9: ='бр. деца'!AL10 -> 0 | AI9: ='бр. деца'!AM10 -> 0 | ... AN9: ='бр. деца'!AR10 -> 584275.65 | AO9: =K9-J9 -> -1953.7883
A10: 2 | B10: ПМГ"Св.Кл.Охридски"-Силистра | C10: 416 | D10: =$D$8*C10 -> 670176 | E10: 29000 | F10: =$F$8*C10/$C$18 -> 634981.19 | G10: =F10+E10 -> 663981.19 | H10: =G10 -> 663981.19 | I10: =F10-F10*0.4% -> 632441.26 | J10: =F10*0.4% -> 2539.9247 | K10: 0 | L10: =SUM(I10,K10) -> 632441.26 | M10: 3 | N10: =M10*$N$8 -> 1119 | P10: =O10*$P$8 -> 0 | Q10: =C10 -> 416 | R10: =Q10*$R$8 -> 10400 | T10: =S10*$T$8 -> 0 | U10: 213 | V10: =U10*$V$8 -> 18531 | Z10: =Y10*$Z$8 -> 0 | AA10: =L10+E10+N10+P10+R10+V10+X10+Z10+T10 -> 691491.26 | AB10: ='бр. деца'!AF11 -> 0 | AC10: ='бр. деца'!AG11 -> 0 | AD10: ='бр. деца'!AH11 -> #REF! | AE10: ='бр. деца'!AI11 -> #REF! | AF10: ='бр. деца'!AJ11 -> 0 | AG10: ='бр. деца'!AK11 -> 0 | AH10: ='бр. деца'!AL11 -> 0 | AI10: ='бр. деца'!AM11 -> 0 | ... AN10: ='бр. деца'!AR11 -> 780850.33 | AO10: =K10-J10 -> -2539.9247
A11: 3 | B11: СОУ"Н.Вапцаров"-Силистра | C11: 559 | D11: =$D$8*C11 -> 900549 | E11: 29000 | F11: =$F$8*C11/$C$18 -> 853255.97 | G11: =F11+E11 -> 882255.97 | H11: =G11 -> 882255.97 | I11: =F11-F11*0.4% -> 849842.95 | J11: =F11*0.4% -> 3413.0239 | K11: 0 | L11: =SUM(I11,K11) -> 849842.95 | M11: 15 | N11: =M11*$N$8 -> 5595 | P11: =O11*$P$8 -> 0 | Q11: =C11 -> 559 | R11: =Q11*$R$8 -> 13975 | S11: 1 | T11: =S11*$T$8 -> 862 | U11: 97 | V11: =U11*$V$8 -> 8439 | W11: 283 | X11: =W11*$X$8 -> 20376 | Y11: 348 | Z11: =Y11*$Z$8 -> 201840 | AA11: =L11+E11+N11+P11+R11+V11+X11+Z11+T11 -> 1129929.9 | AB11: ='бр. деца'!AF12 -> 36 | AC11: ='бр. деца'!AG12 -> 11736 | AD11: ='бр. деца'!AH12 -> #REF! | AE11: ='бр. деца'!AI12 -> #REF! | AF11: ='бр. деца'!AJ12 -> 93555 | AG11: ='бр. деца'!AK12 -> 0 | AH11: ='бр. деца'!AL12 -> 0 | AI11: ='бр. деца'!AM12 -> 1 | ... AN11: ='бр. деца'!AR12 -> 1333227.1 | AO11: =K11-J11 -> -3413.0239
A12: 4 | B12: ОУ"Отец Паисий" - Силистра | C12: 428 | D12: =$D$8*C12 -> 689508 | E12: 29000 | F12: =$F$8*C12/$C$18 -> 653297.95 | G12: =F12+E12 -> 682297.95 | H12: =G12 -> 682297.95 | I12: =F12-F12*0.4% -> 650684.76 | J12: =F12*0.4% -> 2613.1918 | K12: 0 | L12: =SUM(I12,K12) -> 650684.76 | N12: =M12*$N$8 -> 0 | O12: 1 | P12: =O12*$P$8 -> 3070 | Q12: =C12 -> 428 | R12: =Q12*$R$8 -> 10700 | T12: =S12*$T$8 -> 0 | V12: =U12*$V$8 -> 0 | W12: 229 | X12: =W12*$X$8 -> 16488 | Y12: 246 | Z12: =Y12*$Z$8 -> 142680 | AA12: =L12+E12+N12+P12+R12+V12+X12+Z12+T12 -> 852622.76 | AB12: ='бр. деца'!AF13 -> 15 | AC12: ='бр. деца'!AG13 -> 4890 | AD12: ='бр. деца'!AH13 -> #REF! | AE12: ='бр. деца'!AI13 -> #REF! | AF12: ='бр. деца'!AJ13 -> 42525 | AG12: ='бр. деца'!AK13 -> 1 | AH12: ='бр. деца'!AL13 -> 3000 | AI12: ='бр. деца'!AM13 -> 0 | ... AN12: ='бр. деца'!AR13 -> 936926.02 | AO12: =K12-J12 -> -2613.1918
A13: 5 | B13: ОУ"Св.св.Кирил и Методий"-Силистра | C13: 444 | D13: =$D$8*C13 -> 715284 | E13: 29000 | F13: =$F$8*C13/$C$18 -> 677720.3 | G13: =F13+E13 -> 706720.3 | H13: =G13 -> 706720.3 | I13: =F13-F13*0.4% -> 675009.42 | J13: =F13*0.4% -> 2710.8812 | K13: 0 | L13: =SUM(I13,K13) -> 675009.42 | N13: =M13*$N$8 -> 0 | P13: =O13*$P$8 -> 0 | Q13: =C13 -> 444 | R13: =Q13*$R$8 -> 11100 | S13: 3 | T13: =S13*$T$8 -> 2586 | V13: =U13*$V$8 -> 0 | W13: 258 | X13: =W13*$X$8 -> 18576 | Y13: 335 | Z13: =Y13*$Z$8 -> 194300 | AA13: =L13+E13+N13+P13+R13+V13+X13+Z13+T13 -> 930571.42 | AB13: ='бр. деца'!AF14 -> 28 | AC13: ='бр. деца'!AG14 -> 9128 | AD13: ='бр. деца'!AH14 -> #REF! | AE13: ='бр. деца'!AI14 -> #REF! | AF13: ='бр. деца'!AJ14 -> 70875 | AG13: ='бр. деца'!AK14 -> 0 | AH13: ='бр. деца'!AL14 -> 0 | AI13: ='бр. деца'!AM14 -> 0 | ... AN13: ='бр. деца'!AR14 -> 1010821.7 | AO13: =K13-J13 -> -2710.8812
A14: 6 | B14: ОУ"Иван Вазов"-Силистра | C14: 631 | D14: =$D$8*C14 -> 1016541 | E14: 29000 | F14: =$F$8*C14/$C$18 -> 963156.56 | G14: =F14+E14 -> 992156.56 | H14: =G14 -> 992156.56 | I14: =F14-F14*0.4% -> 959303.93 | J14: =F14*0.4% -> 3852.6262 | K14: 0 | L14: =SUM(I14,K14) -> 959303.93 | N14: =M14*$N$8 -> 0 | P14: =O14*$P$8 -> 0 | Q14: =C14 -> 631 | R14: =Q14*$R$8 -> 15775 | T14: =S14*$T$8 -> 0 | V14: =U14*$V$8 -> 0 | W14: 414 | X14: =W14*$X$8 -> 29808 | Y14: 505 | Z14: =Y14*$Z$8 -> 292900 | AA14: =L14+E14+N14+P14+R14+V14+X14+Z14+T14 -> 1326786.9 | AB14: ='бр. деца'!AF15 -> 25 | AC14: ='бр. деца'!AG15 -> 8150 | AD14: ='бр. деца'!AH15 -> #REF! | AE14: ='бр. деца'!AI15 -> #REF! | AF14: ='бр. деца'!AJ15 -> 42525 | AG14: ='бр. деца'!AK15 -> 0 | AH14: ='бр. деца'!AL15 -> 0 | AI14: ='бр. деца'!AM15 -> 0 | ... AN14: ='бр. деца'!AR15 -> 1541230.9 | AO14: =K14-J14 -> -3852.6262
A15: 7 | B15: ОУ"Св.св.Кирил и Методий"-с.Калипетрово | C15: 92 | D15: =$D$8*C15 -> 148212 | E15: 29000 | F15: =$F$8*C15/$C$18 -> 140428.53 | G15: =F15+E15 -> 169428.53 | H15: =G15 -> 169428.53 | I15: =F15-F15*0.4% -> 139866.82 | J15: =F15*0.4% -> 561.71413 | K15: 6278.53 | L15: =SUM(I15,K15) -> 146145.35 | M15: 26 | N15: =M15*$N$8 -> 9698 | P15: =O15*$P$8 -> 0 | Q15: =C15 -> 92 | R15: =Q15*$R$8 -> 2300 | T15: =S15*$T$8 -> 0 | V15: =U15*$V$8 -> 0 | W15: 48 | X15: =W15*$X$8 -> 3456 | Y15: 52 | Z15: =Y15*$Z$8 -> 30160 | AA15: =L15+E15+N15+P15+R15+V15+X15+Z15+T15 -> 220759.35 | AB15: ='бр. деца'!AF16 -> 10 | AC15: ='бр. деца'!AG16 -> 3260 | AD15: ='бр. деца'!AH16 -> #REF! | AE15: ='бр. деца'!AI16 -> #REF! | AF15: ='бр. деца'!AJ16 -> 14175 | AG15: ='бр. деца'!AK16 -> 0 | AH15: ='бр. деца'!AL16 -> 0 | AI15: ='бр. деца'!AM16 -> 1 | ... AN15: ='бр. деца'!AR16 -> 196296.27 | AO15: =K15-J15 -> 5716.8159
A16: 8 | B16: ОУ"Св.Кл.Охридски"-с.Иширково | C16: 146 | D16: =$D$8*C16 -> 235206 | E16: 29000 | F16: =$F$8*C16/$C$18 -> 222853.97 | G16: =F16+E16 -> 251853.97 | H16: =G16 -> 251853.97 | I16: =F16-F16*0.4% -> 221962.56 | J16: =F16*0.4% -> 891.4159 | K16: 6278.53 | L16: =SUM(I16,K16) -> 228241.09 | M16: 15 | N16: =M16*$N$8 -> 5595 | P16: =O16*$P$8 -> 0 | Q16: =C16 -> 146 | R16: =Q16*$R$8 -> 3650 | T16: =S16*$T$8 -> 0 | V16: =U16*$V$8 -> 0 | W16: 66 | X16: =W16*$X$8 -> 4752 | Y16: 146 | Z16: =Y16*$Z$8 -> 84680 | AA16: =L16+E16+N16+P16+R16+V16+X16+Z16+T16 -> 355918.09 | AB16: ='бр. деца'!AF17 -> 0 | AC16: ='бр. деца'!AG17 -> 0 | AD16: ='бр. деца'!AH17 -> #REF! | AE16: ='бр. деца'!AI17 -> #REF! | AF16: ='бр. деца'!AJ17 -> 359 | AG16: ='бр. деца'!AK17 -> 0 | AH16: ='бр. деца'!AL17 -> 0 | AI16: ='бр. деца'!AM17 -> 1 | ... AN16: ='бр. деца'!AR17 -> 378630.77 | AO16: =K16-J16 -> 5387.1141
A17: 9 | B17: ОУ"Св.св.Кирил и Методий"-с.Брадвари | C17: 49 | D17: =$D$8*C17 -> 78939 | E17: 29000 | F17: =$F$8*C17/$C$18 -> 74793.457 | G17: =F17+E17 -> 103793.46 | H17: =G17 -> 103793.46 | I17: =F17-F17*0.4% -> 74494.283 | J17: =F17*0.4% -> 299.17383 | K17: 6278.53 | L17: =SUM(I17,K17) -> 80772.813 | M17: 11 | N17: =M17*$N$8 -> 4103 | P17: =O17*$P$8 -> 0 | Q17: =C17 -> 49 | R17: =Q17*$R$8 -> 1225 | T17: =S17*$T$8 -> 0 | V17: =U17*$V$8 -> 0 | W17: 25 | X17: =W17*$X$8 -> 1800 | Y17: 43 | Z17: =Y17*$Z$8 -> 24940 | AA17: =L17+E17+N17+P17+R17+V17+X17+Z17+T17 -> 141840.81 | AB17: ='бр. деца'!AF18 -> 9 | AC17: ='бр. деца'!AG18 -> 2934 | AD17: ='бр. деца'!AH18 -> #REF! | AE17: ='бр. деца'!AI18 -> #REF! | AF17: ='бр. деца'!AJ18 -> 3231 | AG17: ='бр. деца'!AK18 -> 0 | AH17: ='бр. деца'!AL18 -> 0 | AI17: ='бр. деца'!AM18 -> 0 | ... AN17: ='бр. деца'!AR18 -> 142128.26 | AO17: =K17-J17 -> 5979.3562
A18: ВСИЧКО ЗА УЧИЛИЩА | C18: =SUM(C9:C17) -> 3085 | D18: =SUM(D9:D17) -> 4969935 | E18: =SUM(E9:E17) -> 261000 | F18: =SUM(F9:F17) -> 4708935 | G18: =SUM(G9:G17) -> 4969935 | H18: =SUM(H9:H17) -> 4969935 | I18: =SUM(I9:I17) -> 4690099.3 | J18: =SUM(J9:J17) -> 18835.74 | K18: =SUM(K9:K17) -> 18835.59 | L18: =SUM(I18,K18) -> 4708934.9 | M18: =SUM(M9:M17) -> 73 | N18: =SUM(N9:N17) -> 27229 | O18: =SUM(O9:O17) -> 2 | P18: =SUM(P9:P17) -> 6140 | Q18: =SUM(Q9:Q17) -> 3085 | R18: =SUM(R9:R17) -> 77125 | S18: =SUM(S9:S17) -> 4 | T18: =SUM(T9:T17) -> 3448 | ... Z18: =SUM(Z9:Z17) -> 971500 | AA18: =L18+E18+N18+P18+R18+V18+X18+Z18+T18 -> 6196307.9 | AB18: ='бр. деца'!AF19 -> 124 | AC18: ='бр. деца'!AG19 -> 40424 | AD18: ='бр. деца'!AH19 -> #REF! | AE18: ='бр. деца'!AI19 -> #REF! | AF18: ='бр. деца'!AJ19 -> 267604 | AG18: ='бр. деца'!AK19 -> 1 | AH18: ='бр. деца'!AL19 -> 3000 | AI18: ='бр. деца'!AM19 -> 3 | ... AN18: ='бр. деца'!AR19 -> 7134655 | AO18: =K18-J18 -> -0.15
A19: 10 | B19: Резерв | C19: 71 | D19: =$D$8*C19 -> 114381 | H19: =C19*D8 -> 114381 | M19: 25 | N19: =M19*$N$8 -> 9325 | O19: -1 | P19: =O19*$P$8 -> -3070 | Q19: 71 | R19: =Q19*$R$8 -> 1775 | S19: 1 | T19: =S19*$T$8 -> 862 | U19: -61 | V19: =U19*$V$8 -> -5307 | W19: -2 | X19: =W19*$X$8 -> -144 | Y19: 16 | Z19: =Y19*$Z$8 -> 9280 | AA19: =L19+E19+N19+P19+R19+V19+X19+Z19+T19 -> 12721 | AB19: ='бр. деца'!AF20 -> 3 | AC19: ='бр. деца'!AG20 -> 978 | AD19: ='бр. деца'!AH20 -> #REF! | AE19: ='бр. деца'!AI20 -> #REF! | AF19: ='бр. деца'!AJ20 -> 8257 | AG19: ='бр. деца'!AK20 -> 0 | AH19: ='бр. деца'!AL20 -> 0 | AI19: ='бр. деца'!AM20 -> 0 | ... AN19: ='бр. деца'!AR20 -> 305854
B20: В С И Ч КО: | C20: =C18+C19 -> 3156 | D20: =D18+D19 -> 5084316 | G20: =G18+G19 -> 4969935 | H20: =H18+H19 -> 5084316 | M20: =M18+M19 -> 98 | N20: =N18+N19 -> 36554 | O20: =O18+O19 -> 1 | P20: =P18+P19 -> 3070 | Q20: =Q18+Q19 -> 3156 | R20: =R18+R19 -> 78900 | S20: =S18+S19 -> 5 | T20: =T18+T19 -> 4310 | ... Z20: =Z18+Z19 -> 980780 | AA20: =H20+N20+P20+R20+V20+X20+Z20+T20 -> 6323410 | AB20: ='бр. деца'!AF21 -> 127 | AC20: ='бр. деца'!AG21 -> 41402 | AD20: ='бр. деца'!AH21 -> #REF! | AE20: ='бр. деца'!AI21 -> #REF! | AF20: ='бр. деца'!AJ21 -> 45593 | AG20: ='бр. деца'!AK21 -> 1 | AH20: ='бр. деца'!AL21 -> 3000 | AI20: ='бр. деца'!AM21 -> 3 | ... AN20: ='бр. деца'!AR21 -> 7210241
F21: =D18-E18 -> 4708935 | AA21: =SUM(AA9:AA17) -> 6196307.8
C22: Изготвил: | X22: Началник:

Sheet 2018
A1: Име на училище | B1: институция | C1: Стандарт за паралелка | E1: стандарт за ученик | G1: самостоятелна | I1: индивидуална | K1: комбинирана | M1: стипендии | O1: хранене | Q1: МТБ | S1: целодневна организация | W1: 322 общо | X1: 0.034 | Y1: норматив за ресурсно | AA1: ресурсно подпомагане | AC1: Общо 338 | AD1: 322+338 с 0.034 | AE1: разлики | AF1: коригиране на отрицателни разлики
C2: групи | D2: 6925 | E2: деца | F2: 1356 | G2: деца | H2: 436 | I2: деца | J2: 3592 | K2: брой | L2: 1009 | M2: брой | N2: 87 | O2: брой | P2: 72 | Q2: брой | R2: 25 | S2: групи | T2: 1486 | U2: ученици | V2: 582 | Y2: брой | Z2: 359 | AA2: брой | AB2: 2476 | AF2: 0.34703534
A3: Колона1 | B3: Колона2 | C3: Колона3 | D3: Колона4 | E3: Колона5 | F3: Колона6 | G3: Колона7 | H3: Колона8 | I3: Колона9 | J3: Колона10 | K3: Колона11 | L3: Колона12 | M3: Колона13 | N3: Колона14 | O3: Колона15 | P3: Колона16 | Q3: Колона17 | R3: Колона18 | S3: Колона19 | T3: Колона20 | U3: Колона21 | V3: Колона22 | W3: Колона23 | X3: Колона24 | Y3: Колона25 | Z3: Колона26 | AA3: Колона27 | AB3: Колона28 | AC3: Колона29 | AD3: Колона30 | AE3: Колона31 | AF3: Колона32
A4: ЕГ "П.Яворов" - Силистра | B4: 33000 | C4: 12 | D4: =C4*$D$2 -> 83100 | E4: 301 | F4: =E4*$F$2 -> 408156 | G4: 3 | H4: =G4*$H$2 -> 1308 | J4: =I4*$J$2 -> 0 | L4: =K4*$L$2 -> 0 | M4: 301 | N4: =M4*$N$2 -> 26187 | P4: =O4*$P$2 -> 0 | Q4: 300 | R4: =Q4*$R$2 -> 7500 | T4: =S4*$T$2 -> 0 | V4: =U4*$V$2 -> 0 | W4: =B4+D4+F4+H4+J4+L4+N4+P4+R4+T4+V4 -> 559251 | X4: =(Таблица2[[#This Row],[Колона2]]+Таблица2[[#This Row],[Колона4]]+Таблица2[[#This Row],[Колона6]]+Таблица2[[#This Row],[Колона20]]+Таблица2[[#This Row],[Колона22]])*$X$1 -> 17824.704 | Y4: 1 | Z4: =Y4*$Z$2 -> 359 | AB4: =AA4*$AB$2 -> 0 | AC4: =Таблица2[[#This Row],[Колона26]]+Таблица2[[#This Row],[Колона28]] -> 359 | AD4: =Таблица2[[#This Row],[Колона23]]+Таблица2[[#This Row],[Колона24]]+Таблица2[[#This Row],[Колона29]] -> 577434.7 | AE4: =Таблица2[[#This Row],[Колона30]]-'2017'!AC9 -> -6840.9423 | AF4: 6841
A5: ПМГ "Св.Кл.Охридски"-Силистра | B5: 33000 | C5: 17 | D5: =C5*$D$2 -> 117725 | E5: 412 | F5: =E5*$F$2 -> 558672 | G5: 3 | H5: =G5*$H$2 -> 1308 | J5: =I5*$J$2 -> 0 | L5: =K5*$L$2 -> 0 | M5: 329 | N5: =M5*$N$2 -> 28623 | P5: =O5*$P$2 -> 0 | Q5: 412 | R5: =Q5*$R$2 -> 10300 | T5: =S5*$T$2 -> 0 | V5: =U5*$V$2 -> 0 | W5: =B5+D5+F5+H5+J5+L5+N5+P5+R5+T5+V5 -> 749628 | X5: =(Таблица2[[#This Row],[Колона2]]+Таблица2[[#This Row],[Колона4]]+Таблица2[[#This Row],[Колона6]]+Таблица2[[#This Row],[Колона20]]+Таблица2[[#This Row],[Колона22]])*$X$1 -> 24119.498 | Z5: =Y5*$Z$2 -> 0 | AB5: =AA5*$AB$2 -> 0 | AC5: =Таблица2[[#This Row],[Колона26]]+Таблица2[[#This Row],[Колона28]] -> 0 | AD5: =Таблица2[[#This Row],[Колона23]]+Таблица2[[#This Row],[Колона24]]+Таблица2[[#This Row],[Колона29]] -> 773747.5 | AE5: =Таблица2[[#This Row],[Колона30]]-'2017'!AC10 -> -7102.8318 | AF5: 7103
A6: СУ "Н.Вапцаров"-Силистра | B6: 33000 | C6: 26 | D6: =C6*$D$2 -> 180050 | E6: 588 | F6: =E6*$F$2 -> 797328 | G6: 7 | H6: =G6*$H$2 -> 3052 | J6: =I6*$J$2 -> 0 | K6: 3 | L6: =K6*$L$2 -> 3027 | M6: 143 | N6: =M6*$N$2 -> 12441 | O6: 294 | P6: =O6*$P$2 -> 21168 | Q6: 585 | R6: =Q6*$R$2 -> 14625 | S6: 15 | T6: =S6*$T$2 -> 22290 | U6: 327 | V6: =U6*$V$2 -> 190314 | W6: =B6+D6+F6+H6+J6+L6+N6+P6+R6+T6+V6 -> 1277295 | X6: =(Таблица2[[#This Row],[Колона2]]+Таблица2[[#This Row],[Колона4]]+Таблица2[[#This Row],[Колона6]]+Таблица2[[#This Row],[Колона20]]+Таблица2[[#This Row],[Колона22]])*$X$1 -> 41581.388 | Y6: 33 | Z6: =Y6*$Z$2 -> 11847 | AA6: 33 | AB6: =AA6*$AB$2 -> 81708 | AC6: =Таблица2[[#This Row],[Колона26]]+Таблица2[[#This Row],[Колона28]] -> 93555 | AD6: =Таблица2[[#This Row],[Колона23]]+Таблица2[[#This Row],[Колона24]]+Таблица2[[#This Row],[Колона29]] -> 1412431.4 | AE6: =Таблица2[[#This Row],[Колона30]]-'2017'!AC11 -> 2496.3348 | AF6: =-Таблица2[[#This Row],[Колона31]]*AF2 -> -866.3164
A7: ОУ "Отец Паисий" - Силистра | B7: 33000 | C7: 18 | D7: =C7*$D$2 -> 124650 | E7: 415 | F7: =E7*$F$2 -> 562740 | H7: =G7*$H$2 -> 0 | I7: 1 | J7: =I7*$J$2 -> 3592 | L7: =K7*$L$2 -> 0 | N7: =M7*$N$2 -> 0 | O7: 229 | P7: =O7*$P$2 -> 16488 | Q7: 414 | R7: =Q7*$R$2 -> 10350 | S7: 10 | T7: =S7*$T$2 -> 14860 | U7: 229 | V7: =U7*$V$2 -> 133278 | W7: =B7+D7+F7+H7+J7+L7+N7+P7+R7+T7+V7 -> 898958 | X7: =(Таблица2[[#This Row],[Колона2]]+Таблица2[[#This Row],[Колона4]]+Таблица2[[#This Row],[Колона6]]+Таблица2[[#This Row],[Колона20]]+Таблица2[[#This Row],[Колона22]])*$X$1 -> 29529.952 | Y7: 15 | Z7: =Y7*$Z$2 -> 5385 | AA7: 15 | AB7: =AA7*$AB$2 -> 37140 | AC7: =Таблица2[[#This Row],[Колона26]]+Таблица2[[#This Row],[Колона28]] -> 42525 | AD7: =Таблица2[[#This Row],[Колона23]]+Таблица2[[#This Row],[Колона24]]+Таблица2[[#This Row],[Колона29]] -> 971012.95 | AE7: =Таблица2[[#This Row],[Колона30]]-'2017'!AC12 -> -53.071936 | AF7: 53
A8: ОУ "Св.св.Кирил и Методий"-Силистра | B8: 33000 | C8: 18 | D8: =C8*$D$2 -> 124650 | E8: 405 | F8: =E8*$F$2 -> 549180 | H8: =G8*$H$2 -> 0 | I8: 4 | J8: =I8*$J$2 -> 14368 | L8: =K8*$L$2 -> 0 | N8: =M8*$N$2 -> 0 | O8: 260 | P8: =O8*$P$2 -> 18720 | Q8: 405 | R8: =Q8*$R$2 -> 10125 | S8: 15 | T8: =S8*$T$2 -> 22290 | U8: 337 | V8: =U8*$V$2 -> 196134 | W8: =B8+D8+F8+H8+J8+L8+N8+P8+R8+T8+V8 -> 968467 | X8: =(Таблица2[[#This Row],[Колона2]]+Таблица2[[#This Row],[Колона4]]+Таблица2[[#This Row],[Колона6]]+Таблица2[[#This Row],[Колона20]]+Таблица2[[#This Row],[Колона22]])*$X$1 -> 31458.636 | Y8: 25 | Z8: =Y8*$Z$2 -> 8975 | AA8: 25 | AB8: =AA8*$AB$2 -> 61900 | AC8: =Таблица2[[#This Row],[Колона26]]+Таблица2[[#This Row],[Колона28]] -> 70875 | AD8: =Таблица2[[#This Row],[Колона23]]+Таблица2[[#This Row],[Колона24]]+Таблица2[[#This Row],[Колона29]] -> 1070800.6 | AE8: =Таблица2[[#This Row],[Колона30]]-'2017'!AC13 -> 4078.9259 | AF8: =-Таблица2[[#This Row],[Колона31]]*AF2 -> -1415.5314
A9: ОУ "Иван Вазов"-Силистра | B9: 33000 | C9: 27 | D9: =C9*$D$2 -> 186975 | E9: 648 | F9: =E9*$F$2 -> 878688 | H9: =G9*$H$2 -> 0 | J9: =I9*$J$2 -> 0 | L9: =K9*$L$2 -> 0 | N9: =M9*$N$2 -> 0 | O9: 420 | P9: =O9*$P$2 -> 30240 | Q9: 648 | R9: =Q9*$R$2 -> 16200 | S9: 21 | T9: =S9*$T$2 -> 31206 | U9: 504 | V9: =U9*$V$2 -> 293328 | W9: =B9+D9+F9+H9+J9+L9+N9+P9+R9+T9+V9 -> 1469637 | X9: =(Таблица2[[#This Row],[Колона2]]+Таблица2[[#This Row],[Колона4]]+Таблица2[[#This Row],[Колона6]]+Таблица2[[#This Row],[Колона20]]+Таблица2[[#This Row],[Колона22]])*$X$1 -> 48388.698 | Y9: 15 | Z9: =Y9*$Z$2 -> 5385 | AA9: 15 | AB9: =AA9*$AB$2 -> 37140 | AC9: =Таблица2[[#This Row],[Колона26]]+Таблица2[[#This Row],[Колона28]] -> 42525 | AD9: =Таблица2[[#This Row],[Колона23]]+Таблица2[[#This Row],[Колона24]]+Таблица2[[#This Row],[Колона29]] -> 1560550.7 | AE9: =Таблица2[[#This Row],[Колона30]]-'2017'!AC14 -> -11820.238 | AF9: 11820
A10: ОУ "Св.св.Кирил и Методий"-с.Калипетрово | B10: 33000 | C10: 7 | D10: =C10*$D$2 -> 48475 | E10: 66 | F10: =E10*$F$2 -> 89496 | G10: 21 | H10: =G10*$H$2 -> 9156 | J10: =I10*$J$2 -> 0 | L10: =K10*$L$2 -> 0 | N10: =M10*$N$2 -> 0 | O10: 34 | P10: =O10*$P$2 -> 2448 | Q10: 66 | R10: =Q10*$R$2 -> 1650 | S10: 2 | T10: =S10*$T$2 -> 2972 | U10: 50 | V10: =U10*$V$2 -> 29100 | W10: =B10+D10+F10+H10+J10+L10+N10+P10+R10+T10+V10 -> 216297 | X10: =(Таблица2[[#This Row],[Колона2]]+Таблица2[[#This Row],[Колона4]]+Таблица2[[#This Row],[Колона6]]+Таблица2[[#This Row],[Колона20]]+Таблица2[[#This Row],[Колона22]])*$X$1 -> 6903.462 | Y10: 5 | Z10: =Y10*$Z$2 -> 1795 | AA10: 5 | AB10: =AA10*$AB$2 -> 12380 | AC10: =Таблица2[[#This Row],[Колона26]]+Таблица2[[#This Row],[Колона28]] -> 14175 | AD10: =Таблица2[[#This Row],[Колона23]]+Таблица2[[#This Row],[Колона24]]+Таблица2[[#This Row],[Колона29]] -> 237375.46 | AE10: =Таблица2[[#This Row],[Колона30]]-'2017'!AC15 -> 33699.191 | AF10: =-Таблица2[[#This Row],[Колона31]]*AF2 -> -11694.81
A11: ОУ "Св.Кл.Охридски"-с.Иширково | B11: 33000 | C11: 7 | D11: =C11*$D$2 -> 48475 | E11: 133 | F11: =E11*$F$2 -> 180348 | G11: 13 | H11: =G11*$H$2 -> 5668 | J11: =I11*$J$2 -> 0 | L11: =K11*$L$2 -> 0 | N11: =M11*$N$2 -> 0 | O11: 71 | P11: =O11*$P$2 -> 5112 | Q11: 133 | R11: =Q11*$R$2 -> 3325 | S11: 6 | T11: =S11*$T$2 -> 8916 | U11: 133 | V11: =U11*$V$2 -> 77406 | W11: =B11+D11+F11+H11+J11+L11+N11+P11+R11+T11+V11 -> 362250 | X11: =(Таблица2[[#This Row],[Колона2]]+Таблица2[[#This Row],[Колона4]]+Таблица2[[#This Row],[Колона6]]+Таблица2[[#This Row],[Колона20]]+Таблица2[[#This Row],[Колона22]])*$X$1 -> 11836.93 | Y11: 1 | Z11: =Y11*$Z$2 -> 359 | AB11: =AA11*$AB$2 -> 0 | AC11: =Таблица2[[#This Row],[Колона26]]+Таблица2[[#This Row],[Колона28]] -> 359 | AD11: =Таблица2[[#This Row],[Колона23]]+Таблица2[[#This Row],[Колона24]]+Таблица2[[#This Row],[Колона29]] -> 374445.93 | AE11: =Таблица2[[#This Row],[Колона30]]-'2017'!AC16 -> 12815.156 | AF11: =-Таблица2[[#This Row],[Колона31]]*AF2 -> -4447.312
A12: ОУ "Св.св.Кирил и Методий"-с.Брадвари | B12: 33000 | C12: 4 | D12: =C12*$D$2 -> 27700 | E12: 40 | F12: =E12*$F$2 -> 54240 | G12: 26 | H12: =G12*$H$2 -> 11336 | J12: =I12*$J$2 -> 0 | L12: =K12*$L$2 -> 0 | N12: =M12*$N$2 -> 0 | O12: 26 | P12: =O12*$P$2 -> 1872 | Q12: 40 | R12: =Q12*$R$2 -> 1000 | S12: 2 | T12: =S12*$T$2 -> 2972 | U12: 40 | V12: =U12*$V$2 -> 23280 | W12: =B12+D12+F12+H12+J12+L12+N12+P12+R12+T12+V12 -> 155400 | X12: =(Таблица2[[#This Row],[Колона2]]+Таблица2[[#This Row],[Колона4]]+Таблица2[[#This Row],[Колона6]]+Таблица2[[#This Row],[Колона20]]+Таблица2[[#This Row],[Колона22]])*$X$1 -> 4800.528 | Y12: 9 | Z12: =Y12*$Z$2 -> 3231 | AB12: =AA12*$AB$2 -> 0 | AC12: =Таблица2[[#This Row],[Колона26]]+Таблица2[[#This Row],[Колона28]] -> 3231 | AD12: =Таблица2[[#This Row],[Колона23]]+Таблица2[[#This Row],[Колона24]]+Таблица2[[#This Row],[Колона29]] -> 163431.53 | AE12: =Таблица2[[#This Row],[Колона30]]-'2017'!AC17 -> 21303.273 | AF12: =-Таблица2[[#This Row],[Колона31]]*AF2 -> -7392.9885
A13: Общо | B13: =SUBTOTAL(109,Таблица2[Колона2]) -> 297000 | C13: =SUBTOTAL(109,Таблица2[Колона3]) -> 136 | D13: =SUBTOTAL(109,Таблица2[Колона4]) -> 941800 | E13: =SUBTOTAL(109,Таблица2[Колона5]) -> 3008 | F13: =SUBTOTAL(109,Таблица2[Колона6]) -> 4078848 | G13: =SUBTOTAL(109,Таблица2[Колона7]) -> 73 | H13: =SUBTOTAL(109,Таблица2[Колона8]) -> 31828 | I13: =SUBTOTAL(109,Таблица2[Колона9]) -> 5 | J13: =SUBTOTAL(109,Таблица2[Колона10]) -> 17960 | K13: =SUBTOTAL(109,Таблица2[Колона11]) -> 3 | L13: =SUBTOTAL(109,Таблица2[Колона12]) -> 3027 | M13: =SUBTOTAL(109,Таблица2[Колона13]) -> 773 | N13: =SUBTOTAL(109,Таблица2[Колона14]) -> 67251 | O13: =SUBTOTAL(109,Таблица2[Колона15]) -> 1334 | P13: =SUBTOTAL(109,Таблица2[Колона16]) -> 96048 | Q13: =SUBTOTAL(109,Таблица2[Колона17]) -> 3003 | R13: =SUBTOTAL(109,Таблица2[Колона18]) -> 75075 | S13: =SUBTOTAL(109,Таблица2[Колона19]) -> 71 | T13: =SUBTOTAL(109,Таблица2[Колона20]) -> 105506 | U13: =SUBTOTAL(109,Таблица2[Колона21]) -> 1620 | V13: =SUBTOTAL(109,Таблица2[Колона22]) -> 942840 | W13: =SUBTOTAL(109,Таблица2[Колона23]) -> 6657183 | X13: =SUBTOTAL(109,Таблица2[Колона24]) -> 216443.8 | Y13: =SUBTOTAL(109,Таблица2[Колона25]) -> 104 | Z13: =SUBTOTAL(109,Таблица2[Колона26]) -> 37336 | AA13: =SUBTOTAL(109,Таблица2[Колона27]) -> 93 | AB13: =SUBTOTAL(109,Таблица2[Колона28]) -> 230268 | AC13: =SUBTOTAL(109,Таблица2[Колона29]) -> 267604 | AD13: =SUBTOTAL(109,Таблица2[Колона30]) -> 7141230.8 | AE13: =SUBTOTAL(109,Таблица2[Колона31]) -> 48575.796 | AF13: =SUBTOTAL(109,Таблица2[Колона32]) -> 0.041585171
AC15: -25817 | AD15: 74393

Sheet Приложение 1
A1: Приложение 1 към Заповед №ЗК-344/23.02.2018 г. | AK1: Всичко средства по държавна дейност 389
A2: Име на училище | B2: институция | C2: Стандарт за паралелка | E2: стандарт за ученик | G2: Извън общински център 0.2% | H2: =Таблица28[[#Totals],[Колона6]]-G3 -> 4249723 | J2: самостоятелна | L2: индивидуална | N2: комбинирана | P2: стипендии | R2: хранене | T2: МТБ | V2: целодневна организация | Z2: Д-ст 322 | AA2: комп. на (-) разлики | AB2: Всичко 322 | AC2: норматив за ресурсно | AE2: ресурсно подпомагане | AG2: Общо 338 | AH2: допълващ стандарт за поддръжка на автобуси - 389 д-ст | AL2: Дейност 322+338+389 | AM2: Дейност 322 + 338 + 389
C3: групи | D3: 7229.73 | E3: деца | F3: =1370+(0.034*1370) -> 1416.58 | G3: =Таблица28[[#Totals],[Колона6]]*0.2% -> 8516.479 | J3: деца | K3: 436 | L3: деца | M3: 3592 | N3: брой | O3: 1009 | P3: брой | Q3: 87 | R3: брой | S3: 72 | T3: брой | U3: 25 | V3: групи | W3: =1486+(1486*0.034) -> 1536.524 | X3: ученици | Y3: =582+(582*0.034) -> 601.788 | AC3: брой | AD3: 359 | AE3: брой | AF3: 2476 | AH3: места
A4: Колона1 | B4: Колона2 | C4: Колона3 | D4: Колона4 | E4: Колона5 | F4: Колона6 | G4: Колона7 | H4: Колона8 | I4: Колона9 | J4: Колона10 | K4: Колона11 | L4: Колона12 | M4: Колона13 | N4: Колона14 | O4: Колона15 | P4: Колона16 | Q4: Колона17 | R4: Колона18 | S4: Колона19 | T4: Колона20 | U4: Колона21 | V4: Колона22 | W4: Колона23 | X4: Колона24 | Y4: Колона25 | Z4: Колона26 | AA4: Колона27 | AB4: Колона28 | AC4: Колона29 | AD4: Колона30 | AE4: Колона31 | AF4: Колона32 | AG4: Колона33 | AH4: 11-15 | AI4: 26-29 | AJ4: над 30
A5: ЕГ "П.Яворов" - Силистра | B5: 34122 | C5: 12 | D5: =C5*$D$3 -> 86756.76 | E5: 300 | F5: =E5*$F$3 -> 424974 | H5: =$H$2/Таблица28[[#Totals],[Колона5]]*Таблица28[[#This Row],[Колона5]] -> 424124.05 | I5: =Таблица28[[#This Row],[Колона7]]+Таблица28[[#This Row],[Колона8]] -> 424124.05 | J5: 3 | K5: =J5*$K$3 -> 1308 | L5: 1 | M5: =L5*$M$3 -> 3592 | O5: =N5*$O$3 -> 0 | P5: 301 | Q5: =P5*$Q$3 -> 26187 | S5: =R5*$S$3 -> 0 | T5: 300 | U5: =T5*$U$3 -> 7500 | W5: =V5*$W$3 -> 0 | Y5: =X5*$Y$3 -> 0 | Z5: =B5+D5+I5+K5+M5+O5+Q5+S5+U5+W5+Y5 -> 583589.81 | AA5: 6841 | AB5: =Таблица28[[#This Row],[Колона26]]+Таблица28[[#This Row],[Колона27]] -> 590430.81 | AC5: 1 | AD5: =AC5*$AD$3 -> 359 | AF5: =AE5*$AF$3 -> 0 | AG5: =Таблица28[[#This Row],[Колона30]]+Таблица28[[#This Row],[Колона32]] -> 359 | AK5: =AH5+AI5+AJ5 -> 0 | AL5: =Таблица28[[#This Row],[Колона28]]+Таблица28[[#This Row],[Колона33]]+AK5 -> 590789.81 | AM5: 590790
A6: ПМГ "Св.Кл.Охридски"-Силистра | B6: 34122 | C6: 17 | D6: =C6*$D$3 -> 122905.41 | E6: 412 | F6: =E6*$F$3 -> 583630.96 | H6: =$H$2/Таблица28[[#Totals],[Колона5]]*Таблица28[[#This Row],[Колона5]] -> 582463.7 | I6: =Таблица28[[#This Row],[Колона7]]+Таблица28[[#This Row],[Колона8]] -> 582463.7 | J6: 3 | K6: =J6*$K$3 -> 1308 | M6: =L6*$M$3 -> 0 | O6: =N6*$O$3 -> 0 | P6: 329 | Q6: =P6*$Q$3 -> 28623 | S6: =R6*$S$3 -> 0 | T6: 412 | U6: =T6*$U$3 -> 10300 | W6: =V6*$W$3 -> 0 | Y6: =X6*$Y$3 -> 0 | Z6: =B6+D6+I6+K6+M6+O6+Q6+S6+U6+W6+Y6 -> 779722.11 | AA6: 7103 | AB6: =Таблица28[[#This Row],[Колона26]]+Таблица28[[#This Row],[Колона27]] -> 786825.11 | AD6: =AC6*$AD$3 -> 0 | AF6: =AE6*$AF$3 -> 0 | AG6: =Таблица28[[#This Row],[Колона30]]+Таблица28[[#This Row],[Колона32]] -> 0 | AK6: =AH6+AI6+AJ6 -> 0 | AL6: =Таблица28[[#This Row],[Колона28]]+Таблица28[[#This Row],[Колона33]]+AK6 -> 786825.11 | AM6: 786825
A7: СУ "Н.Вапцаров"-Силистра | B7: 34122 | C7: 26 | D7: =C7*$D$3 -> 187972.98 | E7: 588 | F7: =E7*$F$3 -> 832949.04 | H7: =$H$2/Таблица28[[#Totals],[Колона5]]*Таблица28[[#This Row],[Колона5]] -> 831283.14 | I7: =Таблица28[[#This Row],[Колона7]]+Таблица28[[#This Row],[Колона8]] -> 831283.14 | J7: 7 | K7: =J7*$K$3 -> 3052 | M7: =L7*$M$3 -> 0 | N7: 3 | O7: =N7*$O$3 -> 3027 | P7: 143 | Q7: =P7*$Q$3 -> 12441 | R7: 294 | S7: =R7*$S$3 -> 21168 | T7: 588 | U7: =T7*$U$3 -> 14700 | V7: 15 | W7: =V7*$W$3 -> 23047.86 | X7: 327 | Y7: =X7*$Y$3 -> 196784.68 | Z7: =B7+D7+I7+K7+M7+O7+Q7+S7+U7+W7+Y7 -> 1327598.7 | AA7: -866 | AB7: =Таблица28[[#This Row],[Колона26]]+Таблица28[[#This Row],[Колона27]] -> 1326732.7 | AC7: 33 | AD7: =AC7*$AD$3 -> 11847 | AE7: 33 | AF7: =AE7*$AF$3 -> 81708 | AG7: =Таблица28[[#This Row],[Колона30]]+Таблица28[[#This Row],[Колона32]] -> 93555 | AI7: 5000 | AK7: =AH7+AI7+AJ7 -> 5000 | AL7: =Таблица28[[#This Row],[Колона28]]+Таблица28[[#This Row],[Колона33]]+AK7 -> 1425287.7 | AM7: 1425287
A8: ОУ "Отец Паисий" - Силистра | B8: 34122 | C8: 18 | D8: =C8*$D$3 -> 130135.14 | E8: 414 | F8: =E8*$F$3 -> 586464.12 | H8: =$H$2/Таблица28[[#Totals],[Колона5]]*Таблица28[[#This Row],[Колона5]] -> 585291.19 | I8: =Таблица28[[#This Row],[Колона7]]+Таблица28[[#This Row],[Колона8]] -> 585291.19 | K8: =J8*$K$3 -> 0 | L8: 2 | M8: =L8*$M$3 -> 7184 | O8: =N8*$O$3 -> 0 | Q8: =P8*$Q$3 -> 0 | R8: 229 | S8: =R8*$S$3 -> 16488 | T8: 414 | U8: =T8*$U$3 -> 10350 | V8: 10 | W8: =V8*$W$3 -> 15365.24 | X8: 229 | Y8: =X8*$Y$3 -> 137809.45 | Z8: =B8+D8+I8+K8+M8+O8+Q8+S8+U8+W8+Y8 -> 936745.02 | AA8: 53 | AB8: =Таблица28[[#This Row],[Колона26]]+Таблица28[[#This Row],[Колона27]] -> 936798.02 | AC8: 15 | AD8: =AC8*$AD$3 -> 5385 | AE8: 15 | AF8: =AE8*$AF$3 -> 37140 | AG8: =Таблица28[[#This Row],[Колона30]]+Таблица28[[#This Row],[Колона32]] -> 42525 | AH8: 3000 | AK8: =AH8+AI8+AJ8 -> 3000 | AL8: =Таблица28[[#This Row],[Колона28]]+Таблица28[[#This Row],[Колона33]]+AK8 -> 982323.02 | AM8: 982323
A9: ОУ "Св.св.Кирил и Методий"-Силистра | B9: 34122 | C9: 18 | D9: =C9*$D$3 -> 130135.14 | E9: 405 | F9: =E9*$F$3 -> 573714.9 | H9: =$H$2/Таблица28[[#Totals],[Колона5]]*Таблица28[[#This Row],[Колона5]] -> 572567.47 | I9: =Таблица28[[#This Row],[Колона7]]+Таблица28[[#This Row],[Колона8]] -> 572567.47 | K9: =J9*$K$3 -> 0 | L9: 4 | M9: =L9*$M$3 -> 14368 | O9: =N9*$O$3 -> 0 | Q9: =P9*$Q$3 -> 0 | R9: 260 | S9: =R9*$S$3 -> 18720 | T9: 405 | U9: =T9*$U$3 -> 10125 | V9: 15 | W9: =V9*$W$3 -> 23047.86 | X9: 337 | Y9: =X9*$Y$3 -> 202802.56 | Z9: =B9+D9+I9+K9+M9+O9+Q9+S9+U9+W9+Y9 -> 1005888 | AA9: -1416 | AB9: =Таблица28[[#This Row],[Колона26]]+Таблица28[[#This Row],[Колона27]] -> 1004472 | AC9: 25 | AD9: =AC9*$AD$3 -> 8975 | AE9: 25 | AF9: =AE9*$AF$3 -> 61900 | AG9: =Таблица28[[#This Row],[Колона30]]+Таблица28[[#This Row],[Колона32]] -> 70875 | AJ9: 6000 | AK9: =AH9+AI9+AJ9 -> 6000 | AL9: =Таблица28[[#This Row],[Колона28]]+Таблица28[[#This Row],[Колона33]]+AK9 -> 1081347 | AM9: 1081347
A10: ОУ "Иван Вазов"-Силистра | B10: 34122 | C10: 27 | D10: =C10*$D$3 -> 195202.71 | E10: 648 | F10: =E10*$F$3 -> 917943.84 | H10: =$H$2/Таблица28[[#Totals],[Колона5]]*Таблица28[[#This Row],[Колона5]] -> 916107.95 | I10: =Таблица28[[#This Row],[Колона7]]+Таблица28[[#This Row],[Колона8]] -> 916107.95 | K10: =J10*$K$3 -> 0 | M10: =L10*$M$3 -> 0 | O10: =N10*$O$3 -> 0 | Q10: =P10*$Q$3 -> 0 | R10: 420 | S10: =R10*$S$3 -> 30240 | T10: 648 | U10: =T10*$U$3 -> 16200 | V10: 21 | W10: =V10*$W$3 -> 32267.004 | X10: 504 | Y10: =X10*$Y$3 -> 303301.15 | Z10: =B10+D10+I10+K10+M10+O10+Q10+S10+U10+W10+Y10 -> 1527440.8 | AA10: 11820 | AB10: =Таблица28[[#This Row],[Колона26]]+Таблица28[[#This Row],[Колона27]] -> 1539260.8 | AC10: 15 | AD10: =AC10*$AD$3 -> 5385 | AE10: 15 | AF10: =AE10*$AF$3 -> 37140 | AG10: =Таблица28[[#This Row],[Колона30]]+Таблица28[[#This Row],[Колона32]] -> 42525 | AJ10: 6000 | AK10: =AH10+AI10+AJ10 -> 6000 | AL10: =Таблица28[[#This Row],[Колона28]]+Таблица28[[#This Row],[Колона33]]+AK10 -> 1587785.8 | AM10: 1587786
A11: ОУ "Св.св.Кирил и Методий"-с.Калипетрово | B11: 34122 | C11: 7 | D11: =C11*$D$3 -> 50608.11 | E11: 66 | F11: =E11*$F$3 -> 93494.28 | G11: =G3/(Таблица28[[#This Row],[Колона5]]+E12+E13)*Таблица28[[#This Row],[Колона5]] -> 2351.831 | H11: =$H$2/Таблица28[[#Totals],[Колона5]]*Таблица28[[#This Row],[Колона5]] -> 93307.291 | I11: =Таблица28[[#This Row],[Колона7]]+Таблица28[[#This Row],[Колона8]] -> 95659.122 | J11: 21 | K11: =J11*$K$3 -> 9156 | M11: =L11*$M$3 -> 0 | O11: =N11*$O$3 -> 0 | Q11: =P11*$Q$3 -> 0 | R11: 34 | S11: =R11*$S$3 -> 2448 | T11: 66 | U11: =T11*$U$3 -> 1650 | V11: 2 | W11: =V11*$W$3 -> 3073.048 | X11: 50 | Y11: =X11*$Y$3 -> 30089.4 | Z11: =B11+D11+I11+K11+M11+O11+Q11+S11+U11+W11+Y11 -> 226805.68 | AA11: -11695 | AB11: =Таблица28[[#This Row],[Колона26]]+Таблица28[[#This Row],[Колона27]] -> 215110.68 | AC11: 5 | AD11: =AC11*$AD$3 -> 1795 | AE11: 5 | AF11: =AE11*$AF$3 -> 12380 | AG11: =Таблица28[[#This Row],[Колона30]]+Таблица28[[#This Row],[Колона32]] -> 14175 | AI11: 5000 | AK11: =AH11+AI11+AJ11 -> 5000 | AL11: =Таблица28[[#This Row],[Колона28]]+Таблица28[[#This Row],[Колона33]]+AK11 -> 234285.68 | AM11: 234286
A12: ОУ "Св.Кл.Охридски"-с.Иширково | B12: 34122 | C12: 7 | D12: =C12*$D$3 -> 50608.11 | E12: 133 | F12: =E12*$F$3 -> 188405.14 | G12: =G3/(E11+Таблица28[[#This Row],[Колона5]]+E13)*Таблица28[[#This Row],[Колона5]] -> 4739.2958 | H12: =$H$2/Таблица28[[#Totals],[Колона5]]*Таблица28[[#This Row],[Колона5]] -> 188028.33 | I12: =Таблица28[[#This Row],[Колона7]]+Таблица28[[#This Row],[Колона8]] -> 192767.63 | J12: 13 | K12: =J12*$K$3 -> 5668 | M12: =L12*$M$3 -> 0 | O12: =N12*$O$3 -> 0 | Q12: =P12*$Q$3 -> 0 | R12: 71 | S12: =R12*$S$3 -> 5112 | T12: 133 | U12: =T12*$U$3 -> 3325 | V12: 6 | W12: =V12*$W$3 -> 9219.144 | X12: 133 | Y12: =X12*$Y$3 -> 80037.804 | Z12: =B12+D12+I12+K12+M12+O12+Q12+S12+U12+W12+Y12 -> 380859.68 | AA12: -4447 | AB12: =Таблица28[[#This Row],[Колона26]]+Таблица28[[#This Row],[Колона27]] -> 376412.68 | AC12: 1 | AD12: =AC12*$AD$3 -> 359 | AF12: =AE12*$AF$3 -> 0 | AG12: =Таблица28[[#This Row],[Колона30]]+Таблица28[[#This Row],[Колона32]] -> 359 | AJ12: 12000 | AK12: =AH12+AI12+AJ12 -> 12000 | AL12: =Таблица28[[#This Row],[Колона28]]+Таблица28[[#This Row],[Колона33]]+AK12 -> 388771.68 | AM12: 388772
A13: ОУ "Св.св.Кирил и Методий"-с.Брадвари | B13: 34122 | C13: 4 | D13: =C13*$D$3 -> 28918.92 | E13: 40 | F13: =E13*$F$3 -> 56663.2 | G13: =G3/(E11+E12++Таблица28[[#This Row],[Колона5]])*Таблица28[[#This Row],[Колона5]] -> 1425.3521 | H13: =$H$2/Таблица28[[#Totals],[Колона5]]*Таблица28[[#This Row],[Колона5]] -> 56549.874 | I13: =Таблица28[[#This Row],[Колона7]]+Таблица28[[#This Row],[Колона8]] -> 57975.226 | J13: 26 | K13: =J13*$K$3 -> 11336 | M13: =L13*$M$3 -> 0 | O13: =N13*$O$3 -> 0 | Q13: =P13*$Q$3 -> 0 | R13: 26 | S13: =R13*$S$3 -> 1872 | T13: 40 | U13: =T13*$U$3 -> 1000 | V13: 2 | W13: =V13*$W$3 -> 3073.048 | X13: 40 | Y13: =X13*$Y$3 -> 24071.52 | Z13: =B13+D13+I13+K13+M13+O13+Q13+S13+U13+W13+Y13 -> 162368.71 | AA13: -7393 | AB13: =Таблица28[[#This Row],[Колона26]]+Таблица28[[#This Row],[Колона27]] -> 154975.71 | AC13: 9 | AD13: =AC13*$AD$3 -> 3231 | AF13: =AE13*$AF$3 -> 0 | AG13: =Таблица28[[#This Row],[Колона30]]+Таблица28[[#This Row],[Колона32]] -> 3231 | AK13: =AH13+AI13+AJ13 -> 0 | AL13: =Таблица28[[#This Row],[Колона28]]+Таблица28[[#This Row],[Колона33]]+AK13 -> 158206.71 | AM13: 158207
A14: Общо | B14: =SUBTOTAL(109,Таблица28[Колона2]) -> 307098 | C14: =SUBTOTAL(109,Таблица28[Колона3]) -> 136 | D14: =SUBTOTAL(109,Таблица28[Колона4]) -> 983243.28 | E14: =SUBTOTAL(109,Таблица28[Колона5]) -> 3006 | F14: =SUBTOTAL(109,Таблица28[Колона6]) -> 4258239.5 | G14: =SUBTOTAL(109,Таблица28[Колона7]) -> 8516.479 | H14: =SUBTOTAL(109,Таблица28[Колона8]) -> 4249723 | I14: =SUBTOTAL(109,Таблица28[Колона9]) -> 4258239.5 | J14: =SUBTOTAL(109,Таблица28[Колона10]) -> 73 | K14: =SUBTOTAL(109,Таблица28[Колона11]) -> 31828 | L14: =SUBTOTAL(109,Таблица28[Колона12]) -> 7 | M14: =SUBTOTAL(109,Таблица28[Колона13]) -> 25144 | N14: =SUBTOTAL(109,Таблица28[Колона14]) -> 3 | O14: =SUBTOTAL(109,Таблица28[Колона15]) -> 3027 | P14: =SUBTOTAL(109,Таблица28[Колона16]) -> 773 | Q14: =SUBTOTAL(109,Таблица28[Колона17]) -> 67251 | R14: =SUBTOTAL(109,Таблица28[Колона18]) -> 1334 | S14: =SUBTOTAL(109,Таблица28[Колона19]) -> 96048 | T14: =SUBTOTAL(109,Таблица28[Колона20]) -> 3006 | U14: =SUBTOTAL(109,Таблица28[Колона21]) -> 75150 | V14: =SUBTOTAL(109,Таблица28[Колона22]) -> 71 | W14: =SUBTOTAL(109,Таблица28[Колона23]) -> 109093.2 | X14: =SUBTOTAL(109,Таблица28[Колона24]) -> 1620 | Y14: =SUBTOTAL(109,Таблица28[Колона25]) -> 974896.56 | Z14: =SUBTOTAL(109,Таблица28[Колона26]) -> 6931018.5 | AA14: =SUBTOTAL(109,Таблица28[Колона27]) -> 0 | AB14: =SUBTOTAL(109,Таблица28[Колона28]) -> 6931018.5 | AC14: =SUBTOTAL(109,Таблица28[Колона29]) -> 104 | AD14: =SUBTOTAL(109,Таблица28[Колона30]) -> 37336 | AE14: =SUBTOTAL(109,Таблица28[Колона31]) -> 93 | AF14: =SUBTOTAL(109,Таблица28[Колона32]) -> 230268 | AG14: =SUBTOTAL(109,Таблица28[Колона33]) -> 267604 | AH14: =SUM(AH5:AH13) -> 3000 | AI14: =SUM(AI5:AI13) -> 10000 | AJ14: =SUM(AJ5:AJ13) -> 24000 | AK14: =AH14+AI14+AJ14 -> 37000 | AL14: =SUM(AL5:AL13) -> 7235622.5 | AM14: =SUM(AM5:AM13) -> 7235623
E15: =E16-Таблица28[[#Totals],[Колона5]] -> 20 | F15: =F16-Таблица28[[#Totals],[Колона6]] -> 28331.6 | J15: 0 | K15: 0 | L15: =L16-Таблица28[[#Totals],[Колона12]] -> -6 | M15: =M16-Таблица28[[#Totals],[Колона13]] -> -21552 | N15: =N16-Таблица28[[#Totals],[Колона14]] -> -2 | O15: =O16-Таблица28[[#Totals],[Колона15]] -> -2018 | P15: =P16-Таблица28[[#Totals],[Колона16]] -> 57 | Q15: =Q16-Таблица28[[#Totals],[Колона17]] -> 4959 | R15: =R16-Таблица28[[#Totals],[Колона18]] -> 10 | S15: =S16-Таблица28[[#Totals],[Колона19]] -> 720 | T15: =T16-Таблица28[[#Totals],[Колона20]] -> 20 | U15: =U16-Таблица28[[#Totals],[Колона21]] -> 500 | V15: 0 | W15: 0 | X15: =X16-Таблица28[[#Totals],[Колона24]] -> 11 | Y15: =Y16-Таблица28[[#Totals],[Колона25]] -> 6619.668 | Z15: =Z16-Таблица28[[#Totals],[Колона26]] -> 17559.784 | AC15: =AC16-Таблица28[[#Totals],[Колона29]] -> 21 | AD15: =AD16-Таблица28[[#Totals],[Колона30]] -> 7539 | AE15: =AE16-Таблица28[[#Totals],[Колона31]] -> -31 | AF15: =AF16-Таблица28[[#Totals],[Колона32]] -> -76756 | AG15: =AG16-Таблица28[[#Totals],[Колона33]] -> -69217 | AH15: 0 | AI15: 5000 | AJ15: 0 | AK15: 5000 | AM15: =Z15+AG15+AK15 -> -46657.216
B16: 307098 | D16: 983243 | E16: 3026 | F16: =E16*F3 -> 4286571.1 | J16: 73 | K16: 31828 | L16: 1 | M16: =L16*M3 -> 3592 | N16: 1 | O16: =N16*O3 -> 1009 | P16: 830 | Q16: =P16*Q3 -> 72210 | R16: 1344 | S16: =R16*S3 -> 96768 | T16: 3026 | U16: =T16*U3 -> 75650 | V16: 71 | W16: 109093 | X16: 1631 | Y16: =X16*Y3 -> 981516.23 | Z16: =B16+D16+F16+K16+M16+O16+Q16+S16+U16+W16+Y16 -> 6948578.3 | AC16: 125 | AD16: =AC16*AD3 -> 44875 | AE16: 62 | AF16: =AE16*AF3 -> 153512 | AG16: =AD16+AF16 -> 198387 | AH16: 3000 | AI16: 15000 | AJ16: 24000 | AK16: 42000 | AM16: =Z16+AG16+AK16 -> 7188965.3
B18: Изготвил: Елина Тончева
