Workbook

Sheet 2017
P1: Приложение №2
A2: базова формула 2017 и натури 01.01.2018 гг
A5: № по ред | B5: Детски градини | C5: стандарт за деца от 2 до 4 г (100%) | G5: Всичко стандарт за деца от 2 до 4 г | H5: стандарт за деца от 5 до 6 г. (100%) | J5: доп. Компонент УПР | M5: Всичко стандарт за деца от 5 до 6 г. | N5: стандарта за яслената група | P5: норматив за хранене на 5 и 6 год. | R5: Всичко за държавна дейност 311 | S5: Норматив за създаване на у-я за приобщаващо образов. Дейност 338 | U5: ресурсно подпомагане | W5: Всичко за държавна дейност 338 | X5: Всичко за градината
C6: брой деца | D6: 2126 | F6: =D17-E6 -> 1447806 | H6: брой деца | I6: 2391 | J6: доп. Компонент - 19 000 лв. | L6: =I17-J17-K8 -> 1237299 | N6: брой деца | O6: 1265 | P6: брой деца | Q6: 72 | S6: брой деца | T6: 359 | U6: брой деца | V6: 2476
A7: 1 | B7: 2 | C7: 3 | D7: 4 | E7: 5 | F7: 6 | G7: 7 | H7: 8 | I7: 9 | J7: 10 | K7: 11 | L7: 12 | M7: 13 | N7: 14 | O7: 15 | P7: 16 | Q7: 17 | R7: 18 | S7: 19 | T7: 20 | W7: 21 | X7: 22
A8: 1 | B8: ДГ "Нарцис" | C8: 99 | D8: =C8*$D$6 -> 210474 | F8: =$F$6*C8/$C$17 -> 210474 | G8: =$F$6*C8/$C$17+E8 -> 210474 | H8: 52 | I8: =H8*$I$6 -> 124332 | J8: 19000 | L8: =H8*$L$6/$H$17 -> 109235.23 | M8: =J8+L8+K8 -> 128235.23 | N8: 27 | O8: =N8*$O$6 -> 34155 | P8: =H8 -> 52 | Q8: =P8*$Q$6 -> 3744 | R8: =G8+M8+O8+Q8 -> 376608.23 | S8: 5 | T8: =S8*$T$6 -> 1795 | U8: 5 | V8: =U8*V6 -> 12380 | W8: =T8+V8 -> 14175 | X8: =SUM(R8,W8) -> 390783.23
A9: 2 | B9: ДГ "Роза" | C9: 128 | D9: =C9*$D$6 -> 272128 | F9: =$F$6*C9/$C$17 -> 272128 | G9: =$F$6*C9/$C$17+E9 -> 272128 | H9: 116 | I9: =H9*$I$6 -> 277356 | J9: 19000 | L9: =H9*$L$6/$H$17 -> 243678.58 | M9: =J9+L9 -> 262678.58 | N9: 0 | O9: =N9*$O$6 -> 0 | P9: =H9 -> 116 | Q9: =P9*$Q$6 -> 8352 | R9: =G9+M9+O9+Q9 -> 543158.58 | S9: 7 | T9: =S9*$T$6 -> 2513 | U9: 0 | V9: =U9*V7 -> 0 | W9: =T9+V9 -> 2513 | X9: =SUM(R9,W9) -> 545671.58
A10: 3 | B10: ДГ "Ян Бибиян" | C10: 59 | D10: =C10*$D$6 -> 125434 | F10: =$F$6*C10/$C$17 -> 125434 | G10: =$F$6*C10/$C$17+E10 -> 125434 | H10: 64 | I10: =H10*$I$6 -> 153024 | J10: 19000 | L10: =H10*$L$6/$H$17 -> 134443.35 | M10: =J10+L10 -> 153443.35 | N10: 0 | O10: =N10*$O$6 -> 0 | P10: =H10 -> 64 | Q10: =P10*$Q$6 -> 4608 | R10: =G10+M10+O10+Q10 -> 283485.35 | S10: 4 | T10: =S10*$T$6 -> 1436 | U10: 0 | V10: =U10*V8 -> 0 | W10: =T10+V10 -> 1436 | X10: =SUM(R10,W10) -> 284921.35
A11: 4 | B11: ДГ "Добруджа" | C11: 66 | D11: =C11*$D$6 -> 140316 | F11: =$F$6*C11/$C$17 -> 140316 | G11: =$F$6*C11/$C$17+E11 -> 140316 | H11: 76 | I11: =H11*$I$6 -> 181716 | J11: 19000 | L11: =H11*$L$6/$H$17 -> 159651.48 | M11: =J11+L11 -> 178651.48 | N11: 0 | O11: =N11*$O$6 -> 0 | P11: =H11 -> 76 | Q11: =P11*$Q$6 -> 5472 | R11: =G11+M11+O11+Q11 -> 324439.48 | S11: 4 | T11: =S11*$T$6 -> 1436 | U11: 0 | V11: =U11*V9 -> 0 | W11: =T11+V11 -> 1436 | X11: =SUM(R11,W11) -> 325875.48
A12: 5 | B12: ДГ "Радост" - Силистра | C12: 66 | D12: =C12*$D$6 -> 140316 | F12: =$F$6*C12/$C$17 -> 140316 | G12: =$F$6*C12/$C$17+E12 -> 140316 | H12: 57 | I12: =H12*$I$6 -> 136287 | J12: 19000 | L12: =H12*$L$6/$H$17 -> 119738.61 | M12: =J12+L12 -> 138738.61 | N12: 0 | O12: =N12*$O$6 -> 0 | P12: =H12 -> 57 | Q12: =P12*$Q$6 -> 4104 | R12: =G12+M12+O12+Q12 -> 283158.61 | S12: 6 | T12: =S12*$T$6 -> 2154 | U12: 0 | V12: =U12*V10 -> 0 | W12: =T12+V12 -> 2154 | X12: =SUM(R12,W12) -> 285312.61
A13: 6 | B13: ДГ "Иглика" - Силистра | C13: 121 | D13: =C13*$D$6 -> 257246 | F13: =$F$6*C13/$C$17 -> 257246 | G13: =$F$6*C13/$C$17+E13 -> 257246 | H13: 99 | I13: =H13*$I$6 -> 236709 | J13: 19000 | L13: =H13*$L$6/$H$17 -> 207967.06 | M13: =J13+L13 -> 226967.06 | N13: 0 | O13: =N13*$O$6 -> 0 | P13: =H13 -> 99 | Q13: =P13*$Q$6 -> 7128 | R13: =G13+M13+O13+Q13 -> 491341.06 | S13: 10 | T13: =S13*$T$6 -> 3590 | U13: 10 | V13: =U13*V6 -> 24760 | W13: =T13+V13 -> 28350 | X13: =SUM(R13,W13) -> 519691.06
A14: 7 | B14: ДГ "Здравец"- с. Калипетрово | C14: 21 | D14: =C14*$D$6 -> 44646 | F14: =$F$6*C14/$C$17 -> 44646 | G14: =$F$6*C14/$C$17+E14 -> 44646 | H14: 20 | I14: =H14*$I$6 -> 47820 | J14: 19000 | L14: =H14*$L$6/$H$17 -> 42013.548 | M14: =J14+L14 -> 61013.548 | N14: 0 | O14: =N14*$O$6 -> 0 | P14: =H14 -> 20 | Q14: =P14*$Q$6 -> 1440 | R14: =G14+M14+O14+Q14 -> 107099.55 | S14: 0 | T14: =S14*$T$6 -> 0 | U14: 0 | V14: =U14*V12 -> 0 | W14: =T14+V14 -> 0 | X14: =SUM(R14,W14) -> 107099.55
A15: 8 | B15: ДГ "Мир" - с. Айдемир | C15: 56 | D15: =C15*$D$6 -> 119056 | F15: =$F$6*C15/$C$17 -> 119056 | G15: =$F$6*C15/$C$17+E15 -> 119056 | H15: 65 | I15: =H15*$I$6 -> 155415 | J15: 19000 | L15: =H15*$L$6/$H$17 -> 136544.03 | M15: =J15+L15 -> 155544.03 | N15: 13 | O15: =N15*$O$6 -> 16445 | P15: =H15 -> 65 | Q15: =P15*$Q$6 -> 4680 | R15: =G15+M15+O15+Q15 -> 295725.03 | S15: 3 | T15: =S15*$T$6 -> 1077 | U15: 0 | V15: =U15*V13 -> 0 | W15: =T15+V15 -> 1077 | X15: =SUM(R15,W15) -> 296802.03
A16: 9 | B16: ДГ "Детелина"- с. Иширково | C16: 65 | D16: =C16*$D$6 -> 138190 | F16: =$F$6*C16/$C$17 -> 138190 | G16: =$F$6*C16/$C$17+E16 -> 138190 | H16: 40 | I16: =H16*$I$6 -> 95640 | J16: 19000 | L16: =H16*$L$6/$H$17 -> 84027.097 | M16: =J16+L16 -> 103027.1 | N16: 0 | O16: =N16*$O$6 -> 0 | P16: =H16 -> 40 | Q16: =P16*$Q$6 -> 2880 | R16: =G16+M16+O16+Q16 -> 244097.1 | S16: 0 | T16: =S16*$T$6 -> 0 | U16: 0 | V16: =U16*V14 -> 0 | W16: =T16+V16 -> 0 | X16: =SUM(R16,W16) -> 244097.1
B17: Всичко за ДГ: | C17: =SUM(C8:C16) -> 681 | D17: =SUM(D8:D16) -> 1447806 | F17: =$F$6*C17/$C$17 -> 1447806 | G17: =SUM(G8:G16) -> 1447806 | H17: =SUM(H8:H16) -> 589 | I17: =SUM(I8:I16) -> 1408299 | J17: =SUM(J8:J16) -> 171000 | L17: =SUM(L8:L16) -> 1237299 | M17: =SUM(M8:M16) -> 1408299 | N17: =SUM(N8:N16) -> 40 | O17: =SUM(O8:O16) -> 50600 | P17: =SUM(P8:P16) -> 589 | Q17: =SUM(Q8:Q16) -> 42408 | R17: =G17+M17+O17+Q17 -> 2949113 | S17: =SUM(S8:S16) -> 39 | T17: =S17*$T$6 -> 14001 | U17: =SUM(U8:U16) -> 15 | V17: =SUM(V8:V16) -> 37140 | W17: =T17+V17 -> 51141 | X17: =SUM(R17,W17) -> 3000254
B18: резерв | C18: =C19-C17 -> -38 | D18: =D19-D17 -> -80788 | H18: =H19-H17 -> 96 | I18: =I19-I17 -> 229536 | N18: =N19-N17 -> -3 | O18: =O19-O17 -> -3795 | P18: =P19-P17 -> 96 | Q18: =Q19-Q17 -> 6912 | R18: =D18+M18+O18+Q18+I18 -> 151865 | S18: =S19-S17 -> 7 | T18: =T19-T17 -> 2513 | W18: =T18 -> 2513 | X18: =SUM(R18,T18) -> 154378
B19: Всичко: | C19: 643 | D19: =C19*D6 -> 1367018 | H19: 685 | I19: =H19*I6 -> 1637835 | N19: 37 | O19: =N19*O6 -> 46805 | P19: 685 | Q19: =P19*Q6 -> 49320 | R19: =D19+M19+O19+Q19+I19 -> 3100978 | S19: 46 | T19: =S19*$T$6 -> 16514 | W19: =T19 -> 16514 | X19: =SUM(R19,T19) -> 3117492

Sheet 2018
A2: Име на ДГ | B2: институция | C2: Стандарт за група в ДГ | E2: Яслени групи към детски градини | G2: 5 - 6 год. | I2: 2 - 4 год. | K2: 0.034 | L2: Хранене | N2: 311 | O2: норматив за ресурсно | Q2: ресурсно подпомагане | S2: Общо 3 1 338 | T2: 311+338 | U2: разлики
C3: групи | D3: 3887 | E3: деца | F3: 1074 | G3: деца | H3: 2032 | I3: деца | J3: 1807 | L3: брой | M3: 72 | O3: брой | P3: 359 | Q3: брой | R3: 2476
B4: Колона2 | C4: Колона3 | D4: Колона4 | E4: Колона5 | F4: Колона6 | G4: Колона7 | H4: Колона8 | I4: Колона9 | J4: Колона10 | K4: Колона11 | L4: Колона12 | M4: Колона13 | N4: Колона14 | O4: Колона15 | P4: Колона16 | Q4: Колона17 | R4: Колона18 | S4: Колона19 | T4: Колона22 | U4: Колона23
A5: ДГ "Нарцис" - Силистра | B5: 20000 | C5: 6 | D5: =C5*$D$3 -> 23322 | E5: 27 | F5: =E5*$F$3 -> 28998 | G5: 52 | H5: =G5*$H$3 -> 105664 | I5: 99 | J5: =I5*$J$3 -> 178893 | K5: =(Таблица2[[#This Row],[Колона2]]+Таблица2[[#This Row],[Колона4]]+Таблица2[[#This Row],[Колона6]]+Таблица2[[#This Row],[Колона8]]+Таблица2[[#This Row],[Колона10]])*$K$2 -> 12133.818 | L5: 52 | M5: =L5*$M$3 -> 3744 | N5: =Таблица2[[#This Row],[Колона2]]+Таблица2[[#This Row],[Колона4]]+Таблица2[[#This Row],[Колона6]]+Таблица2[[#This Row],[Колона8]]+Таблица2[[#This Row],[Колона10]]+Таблица2[[#This Row],[Колона13]]+Таблица2[[#This Row],[Колона11]] -> 372754.82 | O5: 5 | P5: =O5*$P$3 -> 1795 | Q5: 5 | R5: =Q5*$R$3 -> 12380 | S5: =Таблица2[[#This Row],[Колона16]]+Таблица2[[#This Row],[Колона18]] -> 14175 | T5: =Таблица2[[#This Row],[Колона2]]+Таблица2[[#This Row],[Колона4]]+Таблица2[[#This Row],[Колона6]]+Таблица2[[#This Row],[Колона8]]+Таблица2[[#This Row],[Колона10]]+Таблица2[[#This Row],[Колона13]]+Таблица2[[#This Row],[Колона19]]+Таблица2[[#This Row],[Колона11]] -> 386929.82 | U5: =Таблица2[[#This Row],[Колона22]]-'2017'!X8 -> -3853.4078
A6: ДГ "Роза" - Силистра | B6: 20000 | C6: 8 | D6: =C6*$D$3 -> 31096 | E6: 0 | F6: =E6*$F$3 -> 0 | G6: 116 | H6: =G6*$H$3 -> 235712 | I6: 128 | J6: =I6*$J$3 -> 231296 | K6: =(Таблица2[[#This Row],[Колона2]]+Таблица2[[#This Row],[Колона4]]+Таблица2[[#This Row],[Колона6]]+Таблица2[[#This Row],[Колона8]]+Таблица2[[#This Row],[Колона10]])*$K$2 -> 17615.536 | L6: 116 | M6: =L6*$M$3 -> 8352 | N6: =Таблица2[[#This Row],[Колона2]]+Таблица2[[#This Row],[Колона4]]+Таблица2[[#This Row],[Колона6]]+Таблица2[[#This Row],[Колона8]]+Таблица2[[#This Row],[Колона10]]+Таблица2[[#This Row],[Колона13]]+Таблица2[[#This Row],[Колона11]] -> 544071.54 | O6: 7 | P6: =O6*$P$3 -> 2513 | Q6: 0 | R6: =Q6*$R$3 -> 0 | S6: =Таблица2[[#This Row],[Колона16]]+Таблица2[[#This Row],[Колона18]] -> 2513 | T6: =Таблица2[[#This Row],[Колона2]]+Таблица2[[#This Row],[Колона4]]+Таблица2[[#This Row],[Колона6]]+Таблица2[[#This Row],[Колона8]]+Таблица2[[#This Row],[Колона10]]+Таблица2[[#This Row],[Колона13]]+Таблица2[[#This Row],[Колона19]]+Таблица2[[#This Row],[Колона11]] -> 546584.54 | U6: =Таблица2[[#This Row],[Колона22]]-'2017'!X9 -> 912.95535
A7: ДГ "Ян Бибиян" - Силистра | B7: 20000 | C7: 4 | D7: =C7*$D$3 -> 15548 | E7: 0 | F7: =E7*$F$3 -> 0 | G7: 64 | H7: =G7*$H$3 -> 130048 | I7: 59 | J7: =I7*$J$3 -> 106613 | K7: =(Таблица2[[#This Row],[Колона2]]+Таблица2[[#This Row],[Колона4]]+Таблица2[[#This Row],[Колона6]]+Таблица2[[#This Row],[Колона8]]+Таблица2[[#This Row],[Колона10]])*$K$2 -> 9255.106 | L7: 64 | M7: =L7*$M$3 -> 4608 | N7: =Таблица2[[#This Row],[Колона2]]+Таблица2[[#This Row],[Колона4]]+Таблица2[[#This Row],[Колона6]]+Таблица2[[#This Row],[Колона8]]+Таблица2[[#This Row],[Колона10]]+Таблица2[[#This Row],[Колона13]]+Таблица2[[#This Row],[Колона11]] -> 286072.11 | O7: 4 | P7: =O7*$P$3 -> 1436 | Q7: 0 | R7: =Q7*$R$3 -> 0 | S7: =Таблица2[[#This Row],[Колона16]]+Таблица2[[#This Row],[Колона18]] -> 1436 | T7: =Таблица2[[#This Row],[Колона2]]+Таблица2[[#This Row],[Колона4]]+Таблица2[[#This Row],[Колона6]]+Таблица2[[#This Row],[Колона8]]+Таблица2[[#This Row],[Колона10]]+Таблица2[[#This Row],[Колона13]]+Таблица2[[#This Row],[Колона19]]+Таблица2[[#This Row],[Колона11]] -> 287508.11 | U7: =Таблица2[[#This Row],[Колона22]]-'2017'!X10 -> 2586.7512
A8: ДГ "Добруджа" - Силистра | B8: 20000 | C8: 5 | D8: =C8*$D$3 -> 19435 | E8: 0 | F8: =E8*$F$3 -> 0 | G8: 76 | H8: =G8*$H$3 -> 154432 | I8: 66 | J8: =I8*$J$3 -> 119262 | K8: =(Таблица2[[#This Row],[Колона2]]+Таблица2[[#This Row],[Колона4]]+Таблица2[[#This Row],[Колона6]]+Таблица2[[#This Row],[Колона8]]+Таблица2[[#This Row],[Колона10]])*$K$2 -> 10646.386 | L8: 76 | M8: =L8*$M$3 -> 5472 | N8: =Таблица2[[#This Row],[Колона2]]+Таблица2[[#This Row],[Колона4]]+Таблица2[[#This Row],[Колона6]]+Таблица2[[#This Row],[Колона8]]+Таблица2[[#This Row],[Колона10]]+Таблица2[[#This Row],[Колона13]]+Таблица2[[#This Row],[Колона11]] -> 329247.39 | O8: 4 | P8: =O8*$P$3 -> 1436 | Q8: 0 | R8: =Q8*$R$3 -> 0 | S8: =Таблица2[[#This Row],[Колона16]]+Таблица2[[#This Row],[Колона18]] -> 1436 | T8: =Таблица2[[#This Row],[Колона2]]+Таблица2[[#This Row],[Колона4]]+Таблица2[[#This Row],[Колона6]]+Таблица2[[#This Row],[Колона8]]+Таблица2[[#This Row],[Колона10]]+Таблица2[[#This Row],[Колона13]]+Таблица2[[#This Row],[Колона19]]+Таблица2[[#This Row],[Колона11]] -> 330683.39 | U8: =Таблица2[[#This Row],[Колона22]]-'2017'!X11 -> 4807.9021
A9: ДГ "Радост" - Силистра | B9: 20000 | C9: 4 | D9: =C9*$D$3 -> 15548 | E9: 0 | F9: =E9*$F$3 -> 0 | G9: 57 | H9: =G9*$H$3 -> 115824 | I9: 66 | J9: =I9*$J$3 -> 119262 | K9: =(Таблица2[[#This Row],[Колона2]]+Таблица2[[#This Row],[Колона4]]+Таблица2[[#This Row],[Колона6]]+Таблица2[[#This Row],[Колона8]]+Таблица2[[#This Row],[Колона10]])*$K$2 -> 9201.556 | L9: 57 | M9: =L9*$M$3 -> 4104 | N9: =Таблица2[[#This Row],[Колона2]]+Таблица2[[#This Row],[Колона4]]+Таблица2[[#This Row],[Колона6]]+Таблица2[[#This Row],[Колона8]]+Таблица2[[#This Row],[Колона10]]+Таблица2[[#This Row],[Колона13]]+Таблица2[[#This Row],[Колона11]] -> 283939.56 | O9: 6 | P9: =O9*$P$3 -> 2154 | Q9: 0 | R9: =Q9*$R$3 -> 0 | S9: =Таблица2[[#This Row],[Колона16]]+Таблица2[[#This Row],[Колона18]] -> 2154 | T9: =Таблица2[[#This Row],[Колона2]]+Таблица2[[#This Row],[Колона4]]+Таблица2[[#This Row],[Колона6]]+Таблица2[[#This Row],[Колона8]]+Таблица2[[#This Row],[Колона10]]+Таблица2[[#This Row],[Колона13]]+Таблица2[[#This Row],[Колона19]]+Таблица2[[#This Row],[Колона11]] -> 286093.56 | U9: =Таблица2[[#This Row],[Колона22]]-'2017'!X12 -> 780.9431
A10: ДГ "Иглика" - Силистра | B10: 20000 | C10: 8 | D10: =C10*$D$3 -> 31096 | E10: 0 | F10: =E10*$F$3 -> 0 | G10: 99 | H10: =G10*$H$3 -> 201168 | I10: 121 | J10: =I10*$J$3 -> 218647 | K10: =(Таблица2[[#This Row],[Колона2]]+Таблица2[[#This Row],[Колона4]]+Таблица2[[#This Row],[Колона6]]+Таблица2[[#This Row],[Колона8]]+Таблица2[[#This Row],[Колона10]])*$K$2 -> 16010.974 | L10: 99 | M10: =L10*$M$3 -> 7128 | N10: =Таблица2[[#This Row],[Колона2]]+Таблица2[[#This Row],[Колона4]]+Таблица2[[#This Row],[Колона6]]+Таблица2[[#This Row],[Колона8]]+Таблица2[[#This Row],[Колона10]]+Таблица2[[#This Row],[Колона13]]+Таблица2[[#This Row],[Колона11]] -> 494049.97 | O10: 10 | P10: =O10*$P$3 -> 3590 | Q10: 10 | R10: =Q10*$R$3 -> 24760 | S10: =Таблица2[[#This Row],[Колона16]]+Таблица2[[#This Row],[Колона18]] -> 28350 | T10: =Таблица2[[#This Row],[Колона2]]+Таблица2[[#This Row],[Колона4]]+Таблица2[[#This Row],[Колона6]]+Таблица2[[#This Row],[Колона8]]+Таблица2[[#This Row],[Колона10]]+Таблица2[[#This Row],[Колона13]]+Таблица2[[#This Row],[Колона19]]+Таблица2[[#This Row],[Колона11]] -> 522399.97 | U10: =Таблица2[[#This Row],[Колона22]]-'2017'!X13 -> 2708.9095
A11: ДГ "Здравец" - Калипетрово | B11: 20000 | C11: 2 | D11: =C11*$D$3 -> 7774 | E11: 0 | F11: =E11*$F$3 -> 0 | G11: 20 | H11: =G11*$H$3 -> 40640 | I11: 21 | J11: =I11*$J$3 -> 37947 | K11: =(Таблица2[[#This Row],[Колона2]]+Таблица2[[#This Row],[Колона4]]+Таблица2[[#This Row],[Колона6]]+Таблица2[[#This Row],[Колона8]]+Таблица2[[#This Row],[Колона10]])*$K$2 -> 3616.274 | L11: 20 | M11: =L11*$M$3 -> 1440 | N11: =Таблица2[[#This Row],[Колона2]]+Таблица2[[#This Row],[Колона4]]+Таблица2[[#This Row],[Колона6]]+Таблица2[[#This Row],[Колона8]]+Таблица2[[#This Row],[Колона10]]+Таблица2[[#This Row],[Колона13]]+Таблица2[[#This Row],[Колона11]] -> 111417.27 | O11: 0 | P11: =O11*$P$3 -> 0 | Q11: 0 | R11: =Q11*$R$3 -> 0 | S11: =Таблица2[[#This Row],[Колона16]]+Таблица2[[#This Row],[Колона18]] -> 0 | T11: =Таблица2[[#This Row],[Колона2]]+Таблица2[[#This Row],[Колона4]]+Таблица2[[#This Row],[Колона6]]+Таблица2[[#This Row],[Колона8]]+Таблица2[[#This Row],[Колона10]]+Таблица2[[#This Row],[Колона13]]+Таблица2[[#This Row],[Колона19]]+Таблица2[[#This Row],[Колона11]] -> 111417.27 | U11: =Таблица2[[#This Row],[Колона22]]-'2017'!X14 -> 4317.7256
A12: ДГ "Мир" - Айдемир | B12: 20000 | C12: 6 | D12: =C12*$D$3 -> 23322 | E12: 13 | F12: =E12*$F$3 -> 13962 | G12: 65 | H12: =G12*$H$3 -> 132080 | I12: 56 | J12: =I12*$J$3 -> 101192 | K12: =(Таблица2[[#This Row],[Колона2]]+Таблица2[[#This Row],[Колона4]]+Таблица2[[#This Row],[Колона6]]+Таблица2[[#This Row],[Колона8]]+Таблица2[[#This Row],[Колона10]])*$K$2 -> 9878.904 | L12: 65 | M12: =L12*$M$3 -> 4680 | N12: =Таблица2[[#This Row],[Колона2]]+Таблица2[[#This Row],[Колона4]]+Таблица2[[#This Row],[Колона6]]+Таблица2[[#This Row],[Колона8]]+Таблица2[[#This Row],[Колона10]]+Таблица2[[#This Row],[Колона13]]+Таблица2[[#This Row],[Колона11]] -> 305114.9 | O12: 3 | P12: =O12*$P$3 -> 1077 | Q12: 0 | R12: =Q12*$R$3 -> 0 | S12: =Таблица2[[#This Row],[Колона16]]+Таблица2[[#This Row],[Колона18]] -> 1077 | T12: =Таблица2[[#This Row],[Колона2]]+Таблица2[[#This Row],[Колона4]]+Таблица2[[#This Row],[Колона6]]+Таблица2[[#This Row],[Колона8]]+Таблица2[[#This Row],[Колона10]]+Таблица2[[#This Row],[Колона13]]+Таблица2[[#This Row],[Колона19]]+Таблица2[[#This Row],[Колона11]] -> 306191.9 | U12: =Таблица2[[#This Row],[Колона22]]-'2017'!X15 -> 9389.8717
A13: ДГ "Детелина" - Иширково | B13: 20000 | C13: 4 | D13: =C13*$D$3 -> 15548 | E13: 0 | F13: =E13*$F$3 -> 0 | G13: 40 | H13: =G13*$H$3 -> 81280 | I13: 65 | J13: =I13*$J$3 -> 117455 | K13: =(Таблица2[[#This Row],[Колона2]]+Таблица2[[#This Row],[Колона4]]+Таблица2[[#This Row],[Колона6]]+Таблица2[[#This Row],[Колона8]]+Таблица2[[#This Row],[Колона10]])*$K$2 -> 7965.622 | L13: 40 | M13: =L13*$M$3 -> 2880 | N13: =Таблица2[[#This Row],[Колона2]]+Таблица2[[#This Row],[Колона4]]+Таблица2[[#This Row],[Колона6]]+Таблица2[[#This Row],[Колона8]]+Таблица2[[#This Row],[Колона10]]+Таблица2[[#This Row],[Колона13]]+Таблица2[[#This Row],[Колона11]] -> 245128.62 | O13: 0 | P13: =O13*$P$3 -> 0 | Q13: 0 | R13: =Q13*$R$3 -> 0 | S13: =Таблица2[[#This Row],[Колона16]]+Таблица2[[#This Row],[Колона18]] -> 0 | T13: =Таблица2[[#This Row],[Колона2]]+Таблица2[[#This Row],[Колона4]]+Таблица2[[#This Row],[Колона6]]+Таблица2[[#This Row],[Колона8]]+Таблица2[[#This Row],[Колона10]]+Таблица2[[#This Row],[Колона13]]+Таблица2[[#This Row],[Колона19]]+Таблица2[[#This Row],[Колона11]] -> 245128.62 | U13: =Таблица2[[#This Row],[Колона22]]-'2017'!X16 -> 1031.5252
A14: Общо | B14: =SUBTOTAL(109,Таблица2[Колона2]) -> 180000 | C14: =SUBTOTAL(109,Таблица2[Колона3]) -> 47 | D14: =SUBTOTAL(109,Таблица2[Колона4]) -> 182689 | E14: =SUBTOTAL(109,Таблица2[Колона5]) -> 40 | F14: =SUBTOTAL(109,Таблица2[Колона6]) -> 42960 | G14: =SUBTOTAL(109,Таблица2[Колона7]) -> 589 | H14: =SUBTOTAL(109,Таблица2[Колона8]) -> 1196848 | I14: =SUBTOTAL(109,Таблица2[Колона9]) -> 681 | J14: =SUBTOTAL(109,Таблица2[Колона10]) -> 1230567 | K14: =SUBTOTAL(109,Таблица2[Колона11]) -> 96324.176 | L14: =SUBTOTAL(109,Таблица2[Колона12]) -> 589 | M14: =SUBTOTAL(109,Таблица2[Колона13]) -> 42408 | N14: =SUBTOTAL(109,Таблица2[Колона14]) -> 2971796.2 | O14: =SUBTOTAL(109,Таблица2[Колона15]) -> 39 | P14: =SUBTOTAL(109,Таблица2[Колона16]) -> 14001 | Q14: =SUBTOTAL(109,Таблица2[Колона17]) -> 15 | R14: =SUBTOTAL(109,Таблица2[Колона18]) -> 37140 | S14: =SUBTOTAL(109,Таблица2[Колона19]) -> 51141 | T14: =SUBTOTAL(109,Таблица2[Колона22]) -> 3022937.2 | U14: =SUBTOTAL(109,Таблица2[Колона23]) -> 22683.176

Sheet Приложение 2
A1: Приложение 2 към Заповед №ЗК-344/23.02.2018 г. | B1: с р е д с т в а по ф о р м у л а | T1: средства над определените по стандарти за д-ст 311
A2: Име на ДГ | B2: институция | C2: Стандарт за група в ДГ | E2: Яслени групи към детски градини | G2: 5 - 6 год. | I2: =Таблица24[[#Totals],[Колона8]]*0.5% -> 6379.5473 | J2: =Таблица24[[#Totals],[Колона8]]-Таблица24[[#Totals],[Колона9]] -> 1269529.9 | K2: средства по стандарт за 5-6 год. | L2: 2 - 4 год. | N2: =Таблица24[[#Totals],[Колона13]]*0.5% -> 6583.8399 | O2: =Таблица24[[#Totals],[Колона13]]-Таблица24[[#Totals],[Колона14]] -> 1310184.1 | P2: средства по стандарт за 2-4 год. | Q2: средства по формула за д-ст 311 | R2: компенсиране на (-) разлики | S2: 311 след компенсиране на разликите | T2: Хранене | V2: Общо за д-ст 311 | W2: норматив за ресурсно | Y2: ресурсно подпомагане | AA2: Общо 3 1 338 | AB2: 311+338 | AC2: разлики
C3: групи | D3: 4133.93 | E3: деца | F3: 1208.746 | G3: деца | H3: 2166.23 | I3: ЛК 0.5% | L3: деца | M3: 1933.58 | N3: ЛК 0.5% | T3: брой | U3: 72 | W3: брой | X3: 359 | Y3: брой | Z3: 2476 | AD3: 0.3 | AE3: разлики | AF3: =(AE5+AE6+AE7+AE8+AE9+AE10+AE13)/7 -> 1869.6975
A4: Колона1 | B4: Колона2 | C4: Колона3 | D4: Колона4 | E4: Колона5 | F4: Колона6 | G4: Колона7 | H4: Колона8 | I4: Колона9 | J4: Колона10 | K4: Колона11 | L4: Колона12 | M4: Колона13 | N4: Колона14 | O4: Колона15 | P4: Колона16 | Q4: Колона17 | R4: Колона18 | S4: Колона19 | T4: Колона20 | U4: Колона21 | V4: Колона22 | W4: Колона23 | X4: Колона24 | Y4: Колона25 | Z4: Колона26 | AA4: Колона27 | AB4: Колона28 | AC4: Колона232 | AD4: Колона242 | AE4: Колона253 | AF4: Колона264 | AG4: бюджет 20185
A5: ДГ "Нарцис" - Силистра | B5: 20680 | C5: 6 | D5: =C5*$D$3 -> 24803.58 | E5: 27 | F5: =E5*$F$3 -> 32636.142 | G5: 52 | H5: =G5*$H$3 -> 112643.96 | I5: =I2/3 -> 2126.5158 | J5: =$J$2/Таблица24[[#Totals],[Колона7]]*Таблица24[[#This Row],[Колона7]] -> 112080.74 | K5: =Таблица24[[#This Row],[Колона9]]+Таблица24[[#This Row],[Колона10]] -> 114207.26 | L5: 99 | M5: =L5*$M$3 -> 191424.42 | N5: =N2/3 -> 2194.6133 | O5: =$O$2/Таблица24[[#Totals],[Колона12]]*Таблица24[[#This Row],[Колона12]] -> 190467.3 | P5: =Таблица24[[#This Row],[Колона14]]+Таблица24[[#This Row],[Колона15]] -> 192661.91 | Q5: =Таблица24[[#This Row],[Колона2]]+Таблица24[[#This Row],[Колона4]]+Таблица24[[#This Row],[Колона6]]+Таблица24[[#This Row],[Колона11]]+Таблица24[[#This Row],[Колона16]] -> 384988.89 | R5: 6090 | S5: =Таблица24[[#This Row],[Колона17]]+Таблица24[[#This Row],[Колона18]] -> 391078.89 | T5: 52 | U5: =T5*$U$3 -> 3744 | V5: =Таблица24[[#This Row],[Колона19]]+Таблица24[[#This Row],[Колона21]] -> 394822.89 | W5: 5 | X5: =W5*$X$3 -> 1795 | Y5: 5 | Z5: =Y5*$Z$3 -> 12380 | AA5: =Таблица24[[#This Row],[Колона24]]+Таблица24[[#This Row],[Колона26]] -> 14175 | AB5: =Таблица24[[#This Row],[Колона22]]+Таблица24[[#This Row],[Колона27]] -> 408997.89 | AC5: -3853.4078 | AD5: 7961 | AE5: =Таблица24[[#This Row],[Колона232]]+Таблица24[[#This Row],[Колона242]] -> 4107.5922 | AF5: =(AE7+AE8+AE9+AE10+AE13+AE6+AE5)/7 -> 1869.6975 | AG5: =Таблица24[[#This Row],[Колона28]]+Таблица24[[#This Row],[Колона253]] -> 413105.48
A6: ДГ "Роза" - Силистра | B6: 20680 | C6: 8 | D6: =C6*$D$3 -> 33071.44 | E6: 0 | F6: =E6*$F$3 -> 0 | G6: 116 | H6: =G6*$H$3 -> 251282.68 | J6: =$J$2/Таблица24[[#Totals],[Колона7]]*Таблица24[[#This Row],[Колона7]] -> 250026.27 | K6: =Таблица24[[#This Row],[Колона9]]+Таблица24[[#This Row],[Колона10]] -> 250026.27 | L6: 128 | M6: =L6*$M$3 -> 247498.24 | O6: =$O$2/Таблица24[[#Totals],[Колона12]]*Таблица24[[#This Row],[Колона12]] -> 246260.75 | P6: =Таблица24[[#This Row],[Колона14]]+Таблица24[[#This Row],[Колона15]] -> 246260.75 | Q6: =Таблица24[[#This Row],[Колона2]]+Таблица24[[#This Row],[Колона4]]+Таблица24[[#This Row],[Колона6]]+Таблица24[[#This Row],[Колона11]]+Таблица24[[#This Row],[Колона16]] -> 550038.46 | R6: 2351 | S6: =Таблица24[[#This Row],[Колона17]]+Таблица24[[#This Row],[Колона18]] -> 552389.46 | T6: 116 | U6: =T6*$U$3 -> 8352 | V6: =Таблица24[[#This Row],[Колона19]]+Таблица24[[#This Row],[Колона21]] -> 560741.46 | W6: 7 | X6: =W6*$X$3 -> 2513 | Y6: 0 | Z6: =Y6*$Z$3 -> 0 | AA6: =Таблица24[[#This Row],[Колона24]]+Таблица24[[#This Row],[Колона26]] -> 2513 | AB6: =Таблица24[[#This Row],[Колона22]]+Таблица24[[#This Row],[Колона27]] -> 563254.46 | AC6: 912.95535 | AD6: =-Таблица24[[#This Row],[Колона232]]*30% -> -273.88661 | AE6: =Таблица24[[#This Row],[Колона232]]+Таблица24[[#This Row],[Колона242]] -> 639.06875 | AF6: =(AE8+AE9+AE10+AE5+AE13+AE7+AE6)/7 -> 1869.6975 | AG6: =Таблица24[[#This Row],[Колона28]]+Таблица24[[#This Row],[Колона242]] -> 562980.57
A7: ДГ "Ян Бибиян" - Силистра | B7: 20680 | C7: 4 | D7: =C7*$D$3 -> 16535.72 | E7: 0 | F7: =E7*$F$3 -> 0 | G7: 64 | H7: =G7*$H$3 -> 138638.72 | J7: =$J$2/Таблица24[[#Totals],[Колона7]]*Таблица24[[#This Row],[Колона7]] -> 137945.53 | K7: =Таблица24[[#This Row],[Колона9]]+Таблица24[[#This Row],[Колона10]] -> 137945.53 | L7: 59 | M7: =L7*$M$3 -> 114081.22 | O7: =$O$2/Таблица24[[#Totals],[Колона12]]*Таблица24[[#This Row],[Колона12]] -> 113510.81 | P7: =Таблица24[[#This Row],[Колона14]]+Таблица24[[#This Row],[Колона15]] -> 113510.81 | Q7: =Таблица24[[#This Row],[Колона2]]+Таблица24[[#This Row],[Колона4]]+Таблица24[[#This Row],[Колона6]]+Таблица24[[#This Row],[Колона11]]+Таблица24[[#This Row],[Колона16]] -> 288672.06 | R7: -870.31853 | S7: =Таблица24[[#This Row],[Колона17]]+Таблица24[[#This Row],[Колона18]] -> 287801.74 | T7: 64 | U7: =T7*$U$3 -> 4608 | V7: =Таблица24[[#This Row],[Колона19]]+Таблица24[[#This Row],[Колона21]] -> 292409.74 | W7: 4 | X7: =W7*$X$3 -> 1436 | Y7: 0 | Z7: =Y7*$Z$3 -> 0 | AA7: =Таблица24[[#This Row],[Колона24]]+Таблица24[[#This Row],[Колона26]] -> 1436 | AB7: =Таблица24[[#This Row],[Колона22]]+Таблица24[[#This Row],[Колона27]] -> 293845.74 | AC7: 2586.7512 | AD7: =-Таблица24[[#This Row],[Колона232]]*30% -> -776.02535 | AE7: =Таблица24[[#This Row],[Колона232]]+Таблица24[[#This Row],[Колона242]] -> 1810.7258 | AF7: =(AE9+AE10+AE5+AE6+AE13+AE8+AE7)/7 -> 1869.6975 | AG7: =Таблица24[[#This Row],[Колона28]]+Таблица24[[#This Row],[Колона242]] -> 293069.72
A8: ДГ "Добруджа" - Силистра | B8: 20680 | C8: 5 | D8: =C8*$D$3 -> 20669.65 | E8: 0 | F8: =E8*$F$3 -> 0 | G8: 76 | H8: =G8*$H$3 -> 164633.48 | J8: =$J$2/Таблица24[[#Totals],[Колона7]]*Таблица24[[#This Row],[Колона7]] -> 163810.31 | K8: =Таблица24[[#This Row],[Колона9]]+Таблица24[[#This Row],[Колона10]] -> 163810.31 | L8: 66 | M8: =L8*$M$3 -> 127616.28 | O8: =$O$2/Таблица24[[#Totals],[Колона12]]*Таблица24[[#This Row],[Колона12]] -> 126978.2 | P8: =Таблица24[[#This Row],[Колона14]]+Таблица24[[#This Row],[Колона15]] -> 126978.2 | Q8: =Таблица24[[#This Row],[Колона2]]+Таблица24[[#This Row],[Колона4]]+Таблица24[[#This Row],[Колона6]]+Таблица24[[#This Row],[Колона11]]+Таблица24[[#This Row],[Колона16]] -> 332138.16 | R8: -2832.4178 | S8: =Таблица24[[#This Row],[Колона17]]+Таблица24[[#This Row],[Колона18]] -> 329305.74 | T8: 76 | U8: =T8*$U$3 -> 5472 | V8: =Таблица24[[#This Row],[Колона19]]+Таблица24[[#This Row],[Колона21]] -> 334777.74 | W8: 4 | X8: =W8*$X$3 -> 1436 | Y8: 0 | Z8: =Y8*$Z$3 -> 0 | AA8: =Таблица24[[#This Row],[Колона24]]+Таблица24[[#This Row],[Колона26]] -> 1436 | AB8: =Таблица24[[#This Row],[Колона22]]+Таблица24[[#This Row],[Колона27]] -> 336213.74 | AC8: 4807.9021 | AD8: =-Таблица24[[#This Row],[Колона232]]*30% -> -1442.3706 | AE8: =Таблица24[[#This Row],[Колона232]]+Таблица24[[#This Row],[Колона242]] -> 3365.5315 | AF8: =(AE10+AE13+AE7+AE6+AE5+AE9+AE8)/7 -> 1869.6975 | AG8: =Таблица24[[#This Row],[Колона28]]+Таблица24[[#This Row],[Колона242]] -> 334771.37
A9: ДГ "Радост" - Силистра | B9: 20680 | C9: 4 | D9: =C9*$D$3 -> 16535.72 | E9: 0 | F9: =E9*$F$3 -> 0 | G9: 57 | H9: =G9*$H$3 -> 123475.11 | I9: =I2/3 -> 2126.5158 | J9: =$J$2/Таблица24[[#Totals],[Колона7]]*Таблица24[[#This Row],[Колона7]] -> 122857.73 | K9: =Таблица24[[#This Row],[Колона9]]+Таблица24[[#This Row],[Колона10]] -> 124984.25 | L9: 66 | M9: =L9*$M$3 -> 127616.28 | N9: =N2/3 -> 2194.6133 | O9: =$O$2/Таблица24[[#Totals],[Колона12]]*Таблица24[[#This Row],[Колона12]] -> 126978.2 | P9: =Таблица24[[#This Row],[Колона14]]+Таблица24[[#This Row],[Колона15]] -> 129172.81 | Q9: =Таблица24[[#This Row],[Колона2]]+Таблица24[[#This Row],[Колона4]]+Таблица24[[#This Row],[Колона6]]+Таблица24[[#This Row],[Колона11]]+Таблица24[[#This Row],[Колона16]] -> 291372.78 | R9: 922.69424 | S9: =Таблица24[[#This Row],[Колона17]]+Таблица24[[#This Row],[Колона18]] -> 292295.48 | T9: 57 | U9: =T9*$U$3 -> 4104 | V9: =Таблица24[[#This Row],[Колона19]]+Таблица24[[#This Row],[Колона21]] -> 296399.48 | W9: 6 | X9: =W9*$X$3 -> 2154 | Y9: 0 | Z9: =Y9*$Z$3 -> 0 | AA9: =Таблица24[[#This Row],[Колона24]]+Таблица24[[#This Row],[Колона26]] -> 2154 | AB9: =Таблица24[[#This Row],[Колона22]]+Таблица24[[#This Row],[Колона27]] -> 298553.48 | AC9: 780.9431 | AD9: =-Таблица24[[#This Row],[Колона232]]*30% -> -234.28293 | AE9: =Таблица24[[#This Row],[Колона232]]+Таблица24[[#This Row],[Колона242]] -> 546.66017 | AF9: =(AE7+AE8+AE13+AE10+AE9+AE6+AE5)/7 -> 1869.6975 | AG9: =Таблица24[[#This Row],[Колона28]]+Таблица24[[#This Row],[Колона242]] -> 298319.19
A10: ДГ "Иглика" - Силистра | B10: 20680 | C10: 8 | D10: =C10*$D$3 -> 33071.44 | E10: 0 | F10: =E10*$F$3 -> 0 | G10: 99 | H10: =G10*$H$3 -> 214456.77 | I10: =I2/3 -> 2126.5158 | J10: =$J$2/Таблица24[[#Totals],[Колона7]]*Таблица24[[#This Row],[Колона7]] -> 213384.49 | K10: =Таблица24[[#This Row],[Колона9]]+Таблица24[[#This Row],[Колона10]] -> 215511 | L10: 121 | M10: =L10*$M$3 -> 233963.18 | N10: =N2/3 -> 2194.6133 | O10: =$O$2/Таблица24[[#Totals],[Колона12]]*Таблица24[[#This Row],[Колона12]] -> 232793.36 | P10: =Таблица24[[#This Row],[Колона14]]+Таблица24[[#This Row],[Колона15]] -> 234987.98 | Q10: =Таблица24[[#This Row],[Колона2]]+Таблица24[[#This Row],[Колона4]]+Таблица24[[#This Row],[Колона6]]+Таблица24[[#This Row],[Колона11]]+Таблица24[[#This Row],[Колона16]] -> 504250.42 | R10: 255.39036 | S10: =Таблица24[[#This Row],[Колона17]]+Таблица24[[#This Row],[Колона18]] -> 504505.81 | T10: 99 | U10: =T10*$U$3 -> 7128 | V10: =Таблица24[[#This Row],[Колона19]]+Таблица24[[#This Row],[Колона21]] -> 511633.81 | W10: 10 | X10: =W10*$X$3 -> 3590 | Y10: 10 | Z10: =Y10*$Z$3 -> 24760 | AA10: =Таблица24[[#This Row],[Колона24]]+Таблица24[[#This Row],[Колона26]] -> 28350 | AB10: =Таблица24[[#This Row],[Колона22]]+Таблица24[[#This Row],[Колона27]] -> 539983.81 | AC10: 2708.9095 | AD10: =-Таблица24[[#This Row],[Колона232]]*30% -> -812.67285 | AE10: =Таблица24[[#This Row],[Колона232]]+Таблица24[[#This Row],[Колона242]] -> 1896.2366 | AF10: =(AE8+AE13+AE7+AE6+AE5+AE9+AE10)/7 -> 1869.6975 | AG10: =Таблица24[[#This Row],[Колона28]]+Таблица24[[#This Row],[Колона242]] -> 539171.14
A11: ДГ "Здравец" - Калипетрово | B11: 20680 | C11: 2 | D11: =C11*$D$3 -> 8267.86 | E11: 0 | F11: =E11*$F$3 -> 0 | G11: 20 | H11: =G11*$H$3 -> 43324.6 | J11: =$J$2/Таблица24[[#Totals],[Колона7]]*Таблица24[[#This Row],[Колона7]] -> 43107.977 | K11: =Таблица24[[#This Row],[Колона9]]+Таблица24[[#This Row],[Колона10]] -> 43107.977 | L11: 21 | M11: =L11*$M$3 -> 40605.18 | O11: =$O$2/Таблица24[[#Totals],[Колона12]]*Таблица24[[#This Row],[Колона12]] -> 40402.154 | P11: =Таблица24[[#This Row],[Колона14]]+Таблица24[[#This Row],[Колона15]] -> 40402.154 | Q11: =Таблица24[[#This Row],[Колона2]]+Таблица24[[#This Row],[Колона4]]+Таблица24[[#This Row],[Колона6]]+Таблица24[[#This Row],[Колона11]]+Таблица24[[#This Row],[Колона16]] -> 112457.99 | R11: -2351.2107 | S11: =Таблица24[[#This Row],[Колона17]]+Таблица24[[#This Row],[Колона18]] -> 110106.78 | T11: 20 | U11: =T11*$U$3 -> 1440 | V11: =Таблица24[[#This Row],[Колона19]]+Таблица24[[#This Row],[Колона21]] -> 111546.78 | W11: 0 | X11: =W11*$X$3 -> 0 | Y11: 0 | Z11: =Y11*$Z$3 -> 0 | AA11: =Таблица24[[#This Row],[Колона24]]+Таблица24[[#This Row],[Колона26]] -> 0 | AB11: =Таблица24[[#This Row],[Колона22]]+Таблица24[[#This Row],[Колона27]] -> 111546.78 | AC11: 4317.7256 | AD11: =-Таблица24[[#This Row],[Колона232]]*30% -> -1295.3177 | AE11: =Таблица24[[#This Row],[Колона232]]+Таблица24[[#This Row],[Колона242]] -> 3022.4079 | AF11: 3022 | AG11: =Таблица24[[#This Row],[Колона28]]+Таблица24[[#This Row],[Колона242]] -> 110251.46
A12: ДГ "Мир" - Айдемир | B12: 20680 | C12: 6 | D12: =C12*$D$3 -> 24803.58 | E12: 13 | F12: =E12*$F$3 -> 15713.698 | G12: 65 | H12: =G12*$H$3 -> 140804.95 | J12: =$J$2/Таблица24[[#Totals],[Колона7]]*Таблица24[[#This Row],[Колона7]] -> 140100.93 | K12: =Таблица24[[#This Row],[Колона9]]+Таблица24[[#This Row],[Колона10]] -> 140100.93 | L12: 56 | M12: =L12*$M$3 -> 108280.48 | O12: =$O$2/Таблица24[[#Totals],[Колона12]]*Таблица24[[#This Row],[Колона12]] -> 107739.08 | P12: =Таблица24[[#This Row],[Колона14]]+Таблица24[[#This Row],[Колона15]] -> 107739.08 | Q12: =Таблица24[[#This Row],[Колона2]]+Таблица24[[#This Row],[Колона4]]+Таблица24[[#This Row],[Колона6]]+Таблица24[[#This Row],[Колона11]]+Таблица24[[#This Row],[Колона16]] -> 309037.28 | R12: -4004.5937 | S12: =Таблица24[[#This Row],[Колона17]]+Таблица24[[#This Row],[Колона18]] -> 305032.69 | T12: 65 | U12: =T12*$U$3 -> 4680 | V12: =Таблица24[[#This Row],[Колона19]]+Таблица24[[#This Row],[Колона21]] -> 309712.69 | W12: 3 | X12: =W12*$X$3 -> 1077 | Y12: 0 | Z12: =Y12*$Z$3 -> 0 | AA12: =Таблица24[[#This Row],[Колона24]]+Таблица24[[#This Row],[Колона26]] -> 1077 | AB12: =Таблица24[[#This Row],[Колона22]]+Таблица24[[#This Row],[Колона27]] -> 310789.69 | AC12: 9389.8717 | AD12: =-Таблица24[[#This Row],[Колона232]]*30% -> -2816.9615 | AE12: =Таблица24[[#This Row],[Колона232]]+Таблица24[[#This Row],[Колона242]] -> 6572.9102 | AF12: 6573 | AG12: =Таблица24[[#This Row],[Колона28]]+Таблица24[[#This Row],[Колона242]] -> 307972.73
A13: ДГ "Детелина" - Иширково | B13: 20680 | C13: 4 | D13: =C13*$D$3 -> 16535.72 | E13: 0 | F13: =E13*$F$3 -> 0 | G13: 40 | H13: =G13*$H$3 -> 86649.2 | J13: =$J$2/Таблица24[[#Totals],[Колона7]]*Таблица24[[#This Row],[Колона7]] -> 86215.954 | K13: =Таблица24[[#This Row],[Колона9]]+Таблица24[[#This Row],[Колона10]] -> 86215.954 | L13: 65 | M13: =L13*$M$3 -> 125682.7 | O13: =$O$2/Таблица24[[#Totals],[Колона12]]*Таблица24[[#This Row],[Колона12]] -> 125054.29 | P13: =Таблица24[[#This Row],[Колона14]]+Таблица24[[#This Row],[Колона15]] -> 125054.29 | Q13: =Таблица24[[#This Row],[Колона2]]+Таблица24[[#This Row],[Колона4]]+Таблица24[[#This Row],[Колона6]]+Таблица24[[#This Row],[Колона11]]+Таблица24[[#This Row],[Колона16]] -> 248485.96 | R13: 439.24651 | S13: =Таблица24[[#This Row],[Колона17]]+Таблица24[[#This Row],[Колона18]] -> 248925.21 | T13: 40 | U13: =T13*$U$3 -> 2880 | V13: =Таблица24[[#This Row],[Колона19]]+Таблица24[[#This Row],[Колона21]] -> 251805.21 | W13: 0 | X13: =W13*$X$3 -> 0 | Y13: 0 | Z13: =Y13*$Z$3 -> 0 | AA13: =Таблица24[[#This Row],[Колона24]]+Таблица24[[#This Row],[Колона26]] -> 0 | AB13: =Таблица24[[#This Row],[Колона22]]+Таблица24[[#This Row],[Колона27]] -> 251805.21 | AC13: 1031.5252 | AD13: =-Таблица24[[#This Row],[Колона232]]*30% -> -309.45757 | AE13: =Таблица24[[#This Row],[Колона232]]+Таблица24[[#This Row],[Колона242]] -> 722.06766 | AF13: =(AE9+AE8+AE7+AE6+AE5+AE10+AE13)/7 -> 1869.6975 | AG13: =Таблица24[[#This Row],[Колона28]]+Таблица24[[#This Row],[Колона242]] -> 251495.75
A14: Общо | B14: =SUBTOTAL(109,Таблица24[Колона2]) -> 186120 | C14: =SUBTOTAL(109,Таблица24[Колона3]) -> 47 | D14: =SUBTOTAL(109,Таблица24[Колона4]) -> 194294.71 | E14: =SUBTOTAL(109,Таблица24[Колона5]) -> 40 | F14: =SUBTOTAL(109,Таблица24[Колона6]) -> 48349.84 | G14: =SUBTOTAL(109,Таблица24[Колона7]) -> 589 | H14: =SUBTOTAL(109,Таблица24[Колона8]) -> 1275909.5 | I14: =SUBTOTAL(109,Таблица24[Колона9]) -> 6379.5473 | J14: =SUBTOTAL(109,Таблица24[Колона10]) -> 1269529.9 | K14: =SUBTOTAL(109,Таблица24[Колона11]) -> 1275909.5 | L14: =SUBTOTAL(109,Таблица24[Колона12]) -> 681 | M14: =SUBTOTAL(109,Таблица24[Колона13]) -> 1316768 | N14: =SUBTOTAL(109,Таблица24[Колона14]) -> 6583.8399 | O14: =SUBTOTAL(109,Таблица24[Колона15]) -> 1310184.1 | P14: =SUBTOTAL(109,Таблица24[Колона16]) -> 1316768 | Q14: =SUBTOTAL(109,Таблица24[Колона17]) -> 3021442 | R14: =SUBTOTAL(109,Таблица24[Колона18]) -> -0.20964591 | S14: =SUBTOTAL(109,Таблица24[Колона19]) -> 3021441.8 | T14: =SUBTOTAL(109,Таблица24[Колона20]) -> 589 | U14: =SUBTOTAL(109,Таблица24[Колона21]) -> 42408 | V14: =SUBTOTAL(109,Таблица24[Колона22]) -> 3063849.8 | W14: =SUBTOTAL(109,Таблица24[Колона23]) -> 39 | X14: =SUBTOTAL(109,Таблица24[Колона24]) -> 14001 | Y14: =SUBTOTAL(109,Таблица24[Колона25]) -> 15 | Z14: =SUBTOTAL(109,Таблица24[Колона26]) -> 37140 | AA14: =SUBTOTAL(109,Таблица24[Колона27]) -> 51141 | AB14: =SUBTOTAL(109,Таблица24[Колона28]) -> 3114990.8 | AC14: =SUBTOTAL(109,Таблица24[Колона232]) -> 22683.176 | AD14: =SUBTOTAL(109,Таблица24[Колона242]) -> 0.024858065 | AE14: =SUBTOTAL(109,Таблица24[Колона253]) -> 22683.201 | AG14: =SUBTOTAL(109,Таблица24[бюджет 20185]) -> 3111137.4
A15: Резерв | B15: 0 | C15: 0 | D15: 0 | E15: =E16-Таблица24[[#Totals],[Колона5]] -> -3 | F15: =F16-Таблица24[[#Totals],[Колона6]] -> -3626.238 | G15: =G16-Таблица24[[#Totals],[Колона7]] -> -1 | H15: =H16-Таблица24[[#Totals],[Колона8]] -> -2166.23 | L15: =L16-Таблица24[[#Totals],[Колона12]] -> -7 | M15: =M16-Таблица24[[#Totals],[Колона13]] -> -13535.06 | T15: =T16-Таблица24[[#Totals],[Колона20]] -> -1 | U15: =U16-Таблица24[[#Totals],[Колона21]] -> -72 | V15: =V16-Таблица24[[#Totals],[Колона22]] -> -19399.028 | W15: =W16-Таблица24[[#Totals],[Колона23]] -> -6 | X15: =X16-Таблица24[[#Totals],[Колона24]] -> -2154 | Y15: =Y16-Таблица24[[#Totals],[Колона25]] -> -10 | Z15: =Z16-Таблица24[[#Totals],[Колона26]] -> -24760 | AA15: =AA16-Таблица24[[#Totals],[Колона27]] -> -26914 | AB15: =AB16-Таблица24[[#Totals],[Колона28]] -> -46313.028
B16: 186120 | C16: 47 | D16: 194295 | E16: 37 | F16: =E16*F3 -> 44723.602 | G16: 588 | H16: =G16*H3 -> 1273743.2 | L16: 674 | M16: =L16*M3 -> 1303232.9 | T16: 588 | U16: =T16*U3 -> 42336 | V16: =B16+D16+F16+H16+M16+U16 -> 3044450.8 | W16: 33 | X16: =W16*X3 -> 11847 | Y16: 5 | Z16: =Y16*Z3 -> 12380 | AA16: =X16+Z16 -> 24227 | AB16: =AA16+V16 -> 3068677.8
