Workbook

Sheet Sheet2
AB1: Приложение № 1
A3: РАЗЧЕТ НА НАТУРАЛНИ И СТОЙНОСТНИ ПОКАЗАТЕЛИ ПО СТАНДАРТИТЕ ЗА ДЕЛЕГИРАНИТЕ ОТ ДЪРЖАВАТА ДЕЙНОСТИ ЗА ОБЩООБРАЗОВАТЕЛНИ УЧИЛИЩА ЗА ОБЩИНА СИЛИСТРА - НАЧАЛЕН ПЛАН 2017 Г.
C5: разпределение на 100% от средствата по разходен стандарт | L5: 100% от средствата | N5: 100% от средствата | P5: 100% от средствата | R5: 100% от средствата | T5: 100% от средствата | V5: 100% от средствата | X5: 100% от средствата | Z5: 100% от средствата | AB5: Всичко средства по държавна дейност 322
A6: № по ред | B6: Училище | C6: стандарт "Неспециализирани училища, без профес. гимназии" | E6: доп. Компонет - 29 000 лв. | H6: Всичко стандарт за общообразователни училища - 100% | I6: Всичко стандарт за общообразователни училища - 100% | L6: самостоятелна форма | N6: индивидуална | P6: Норматив за създаване на условия за приобщ. Обр. | R6: МТБ | T6: комбинирана форма | V6: стипендии | X6: хранене на деца от І до ІV клас | Z6: целодневна организация от І доVІ клас и средищни
F7: малко училище до 100 | G7: малко училище до 150
C8: брой ученици | D8: 1517.13 | F8: 120 | G8: 80 | L8: брой ученици | M8: 373 | N8: брой ученици | O8: 3070 | P8: брой ученици | Q8: 326 | R8: брой ученици | S8: 25 | T8: брой ученици | U8: 862 | V8: брой ученици | W8: 87 | X8: брой ученици | Y8: 72 | Z8: брой ученици | AA8: 580
A9: 1 | B9: ЕГ"П.Яворов" - Силистра | C9: 320 | D9: =$D$8*C9 -> 485481.6 | E9: 29000 | H9: =D9+E9 -> 514481.6 | I9: =H9 -> 514481.6 | L9: 3 | M9: =L9*$M$8 -> 1119 | N9: 1 | O9: =N9*$O$8 -> 3070 | P9: 1 | Q9: =P9*$Q$8 -> 326 | R9: =C9 -> 320 | S9: =R9*$S$8 -> 8000 | U9: =T9*$U$8 -> 0 | V9: 215 | W9: =V9*$W$8 -> 18705 | AA9: =Z9*$AA$8 -> 0 | AB9: =I9+M9+O9+Q9+S9+W9+Y9+AA9+U9 -> 545701.6
A10: 2 | B10: ПМГ"Св.Кл.Охридски"-Силистра | C10: 416 | D10: =$D$8*C10 -> 631126.08 | E10: 29000 | H10: =D10+E10 -> 660126.08 | I10: =H10 -> 660126.08 | L10: 3 | M10: =L10*$M$8 -> 1119 | O10: =N10*$O$8 -> 0 | P10: 0 | Q10: =P10*$Q$8 -> 0 | R10: =C10 -> 416 | S10: =R10*$S$8 -> 10400 | U10: =T10*$U$8 -> 0 | V10: 213 | W10: =V10*$W$8 -> 18531 | AA10: =Z10*$AA$8 -> 0 | AB10: =I10+M10+O10+Q10+S10+W10+Y10+AA10+U10 -> 690176.08
A11: 3 | B11: СОУ"Н.Вапцаров"-Силистра | C11: 559 | D11: =$D$8*C11 -> 848075.67 | E11: 29000 | H11: =D11+E11 -> 877075.67 | I11: =H11 -> 877075.67 | L11: 15 | M11: =L11*$M$8 -> 5595 | O11: =N11*$O$8 -> 0 | P11: 36 | Q11: =P11*$Q$8 -> 11736 | R11: =C11 -> 559 | S11: =R11*$S$8 -> 13975 | T11: 1 | U11: =T11*$U$8 -> 862 | V11: 97 | W11: =V11*$W$8 -> 8439 | X11: 283 | Y11: =X11*$Y$8 -> 20376 | Z11: 348 | AA11: =Z11*$AA$8 -> 201840 | AB11: =I11+M11+O11+Q11+S11+W11+Y11+AA11+U11 -> 1139898.7
A12: 4 | B12: ОУ"Отец Паисий" - Силистра | C12: 428 | D12: =$D$8*C12 -> 649331.64 | E12: 29000 | H12: =D12+E12 -> 678331.64 | I12: =H12 -> 678331.64 | M12: =L12*$M$8 -> 0 | N12: 1 | O12: =N12*$O$8 -> 3070 | P12: 15 | Q12: =P12*$Q$8 -> 4890 | R12: =C12 -> 428 | S12: =R12*$S$8 -> 10700 | U12: =T12*$U$8 -> 0 | W12: =V12*$W$8 -> 0 | X12: 229 | Y12: =X12*$Y$8 -> 16488 | Z12: 246 | AA12: =Z12*$AA$8 -> 142680 | AB12: =I12+M12+O12+Q12+S12+W12+Y12+AA12+U12 -> 856159.64
A13: 5 | B13: ОУ"Св.св.Кирил и Методий"-Силистра | C13: 444 | D13: =$D$8*C13 -> 673605.72 | E13: 29000 | H13: =D13+E13 -> 702605.72 | I13: =H13 -> 702605.72 | M13: =L13*$M$8 -> 0 | O13: =N13*$O$8 -> 0 | P13: 29 | Q13: =P13*$Q$8 -> 9454 | R13: =C13 -> 444 | S13: =R13*$S$8 -> 11100 | T13: 3 | U13: =T13*$U$8 -> 2586 | W13: =V13*$W$8 -> 0 | X13: 258 | Y13: =X13*$Y$8 -> 18576 | Z13: 335 | AA13: =Z13*$AA$8 -> 194300 | AB13: =I13+M13+O13+Q13+S13+W13+Y13+AA13+U13 -> 938621.72
A14: 6 | B14: ОУ"Иван Вазов"-Силистра | C14: 631 | D14: =$D$8*C14 -> 957309.03 | E14: 29000 | H14: =D14+E14 -> 986309.03 | I14: =H14 -> 986309.03 | M14: =L14*$M$8 -> 0 | O14: =N14*$O$8 -> 0 | P14: 25 | Q14: =P14*$Q$8 -> 8150 | R14: =C14 -> 631 | S14: =R14*$S$8 -> 15775 | U14: =T14*$U$8 -> 0 | W14: =V14*$W$8 -> 0 | X14: 414 | Y14: =X14*$Y$8 -> 29808 | Z14: 505 | AA14: =Z14*$AA$8 -> 292900 | AB14: =I14+M14+O14+Q14+S14+W14+Y14+AA14+U14 -> 1332942
A15: 7 | B15: ОУ"Св.св.Кирил и Методий"-с.Калипетрово | C15: 92 | D15: =$D$8*C15 -> 139575.96 | E15: 29000 | F15: =F8*C15 -> 11040 | H15: =D15+E15 -> 168575.96 | I15: =H15 -> 168575.96 | L15: 26 | M15: =L15*$M$8 -> 9698 | O15: =N15*$O$8 -> 0 | P15: 10 | Q15: =P15*$Q$8 -> 3260 | R15: =C15 -> 92 | S15: =R15*$S$8 -> 2300 | U15: =T15*$U$8 -> 0 | W15: =V15*$W$8 -> 0 | X15: 48 | Y15: =X15*$Y$8 -> 3456 | Z15: 52 | AA15: =Z15*$AA$8 -> 30160 | AB15: =I15+M15+O15+Q15+S15+W15+Y15+AA15+U15 -> 217449.96
A16: 8 | B16: ОУ"Св.Кл.Охридски"-с.Иширково | C16: 146 | D16: =$D$8*C16 -> 221500.98 | E16: 29000 | G16: =G8*C16 -> 11680 | H16: =D16+E16 -> 250500.98 | I16: =H16 -> 250500.98 | L16: 15 | M16: =L16*$M$8 -> 5595 | O16: =N16*$O$8 -> 0 | P16: 1 | Q16: =P16*$Q$8 -> 326 | R16: =C16 -> 146 | S16: =R16*$S$8 -> 3650 | U16: =T16*$U$8 -> 0 | W16: =V16*$W$8 -> 0 | X16: 66 | Y16: =X16*$Y$8 -> 4752 | Z16: 146 | AA16: =Z16*$AA$8 -> 84680 | AB16: =I16+M16+O16+Q16+S16+W16+Y16+AA16+U16 -> 349503.98
A17: 9 | B17: ОУ"Св.св.Кирил и Методий"-с.Брадвари | C17: 49 | D17: =$D$8*C17 -> 74339.37 | E17: 29000 | F17: =F8*C17 -> 5880 | H17: =D17+E17 -> 103339.37 | I17: =H17 -> 103339.37 | L17: 11 | M17: =L17*$M$8 -> 4103 | O17: =N17*$O$8 -> 0 | P17: 9 | Q17: =P17*$Q$8 -> 2934 | R17: =C17 -> 49 | S17: =R17*$S$8 -> 1225 | U17: =T17*$U$8 -> 0 | W17: =V17*$W$8 -> 0 | X17: 25 | Y17: =X17*$Y$8 -> 1800 | Z17: 43 | AA17: =Z17*$AA$8 -> 24940 | AB17: =I17+M17+O17+Q17+S17+W17+Y17+AA17+U17 -> 138341.37
A18: ВСИЧКО ЗА УЧИЛИЩА | C18: =SUM(C9:C17) -> 3085 | D18: =SUM(D9:D17) -> 4680346.1 | E18: =SUM(E9:E17) -> 261000 | H18: =SUM(H9:H17) -> 4941346.1 | I18: =SUM(I9:I17) -> 4941346.1 | L18: =SUM(L9:L17) -> 73 | M18: =SUM(M9:M17) -> 27229 | N18: =SUM(N9:N17) -> 2 | O18: =SUM(O9:O17) -> 6140 | P18: =SUM(P9:P17) -> 126 | Q18: =SUM(Q9:Q17) -> 41076 | R18: =SUM(R9:R17) -> 3085 | S18: =SUM(S9:S17) -> 77125 | ... AA18: =SUM(AA9:AA17) -> 971500 | AB18: =I18+M18+O18+Q18+S18+W18+Y18+AA18+U18 -> 6208795.1
A19: 10 | B19: Резерв | C19: 71 | D19: =$D$8*C19 -> 107716.23 | I19: =C19*D8 -> 107716.23 | L19: 25 | M19: =L19*$M$8 -> 9325 | N19: -1 | O19: =N19*$O$8 -> -3070 | P19: 1 | Q19: =P19*$Q$8 -> 326 | R19: 71 | S19: =R19*$S$8 -> 1775 | T19: 1 | U19: =T19*$U$8 -> 862 | V19: -61 | W19: =V19*$W$8 -> -5307 | X19: -2 | Y19: =X19*$Y$8 -> -144 | Z19: 16 | AA19: =Z19*$AA$8 -> 9280 | AB19: =I19+M19+O19+Q19+S19+W19+Y19+AA19+U19 -> 120763.23
B20: В С И Ч КО: | C20: =C18+C19 -> 3156 | D20: =D18+D19 -> 4788062.3 | H20: =H18+H19 -> 4941346.1 | I20: =I18+I19 -> 5049062.3 | L20: =L18+L19 -> 98 | M20: =M18+M19 -> 36554 | N20: =N18+N19 -> 1 | O20: =O18+O19 -> 3070 | P20: =P18+P19 -> 127 | Q20: =Q18+Q19 -> 41402 | R20: =R18+R19 -> 3156 | S20: =S18+S19 -> 78900 | ... AA20: =AA18+AA19 -> 980780 | AB20: =I20+M20+O20+Q20+S20+W20+Y20+AA20+U20 -> 6329558.3
C22: Изготвил: | Y22: Началник:
D23: / Т. Йвкова/ | AA23: / Нели Иванова/

Sheet гориво_бр. деца
AF1: Приложение № 1
A3: РАЗЧЕТ НА НАТУРАЛНИ И СТОЙНОСТНИ ПОКАЗАТЕЛИ ПО СТАНДАРТИТЕ ЗА ДЕЛЕГИРАНИТЕ ОТ ДЪРЖАВАТА ДЕЙНОСТИ ЗА ОБЩООБРАЗОВАТЕЛНИ УЧИЛИЩА ЗА ОБЩИНА СИЛИСТРА - НАЧАЛЕН ПЛАН 2017 Г.
C5: разпределение на 100% от средствата по разходен стандарт | I5: Допълнителен компонент | R5: 100% от средствата | T5: 100% от средствата | V5: 100% от средствата | X5: 100% от средствата | Z5: 100% от средствата | AB5: 100% от средствата | AD5: 100% от средствата | AF5: Всичко средства по държавна дейност 322 | AG5: 100% от средствата | AI5: 100% от средствата | AK5: =#REF! -> #REF! | AL5: =#REF! -> #REF! | AR5: =#REF! -> #REF! | AS5: =#REF! -> #REF! | AT5: разлика
A6: № по ред | B6: Училище | C6: стандарт "Неспециализирани училища, без профес. гимназии" | E6: доп. Компонет - 29 000 лв. | F6: основен компонент | G6: Всичко стандарт за общообразователни училища - 100% | H6: Всичко стандарт за общообразователни училища - 100% | K6: 18835.6 | M6: 28253.4 | R6: самостоятелна форма | T6: индивидуална | V6: МТБ | X6: комбинирана форма | Z6: стипендии | AB6: хранене на деца от І до ІV клас | AD6: целодневна организация от І доVІ клас и средищни | AG6: Норматив за създаване на условия за приобщ. Обр. | AI6: =#REF! -> #REF! | AL6: =#REF! -> #REF!
I7: 99% от осн комп | J7: разлика | K7: газ 0,25 | L7: без гас 0,75 | M7: до 150 уч (0,5) | N7: от 150 до 350 уч(0,10) | O7: над 350 (0,4) | P7: Общо | Q7: Всичко | AL7: =#REF! -> #REF! | AN7: =#REF! -> #REF! | AP7: =#REF! -> #REF!
K8: =0.25*K6 -> 4708.9 | L8: =0.75*K6 -> 14126.7 | M8: =0.49434*M6 -> 13966.786 | N8: =0.10374*M6 -> 2931.0077 | O8: =0.402*M6 -> 11357.867
C9: брой ученици | D9: 1611 | F9: 4708935 | K9: 1,46906 х6,10 | L9: 0,51077х6,10 | M9: 5,3165x9,16 | N9: 1 x 9,16 | O9: 0,5 x 9,16 | R9: брой ученици | S9: 373 | T9: брой ученици | U9: 3070 | V9: брой ученици | W9: 25 | X9: брой ученици | Y9: 862 | Z9: брой ученици | AA9: 87 | AB9: брой ученици | AC9: 72 | AD9: брой ученици | AE9: 580 | AG9: брой ученици | AH9: 326 | AI9: =#REF! -> #REF! | AJ9: =#REF! -> #REF! | AL9: =#REF! -> #REF! | AM9: =#REF! -> #REF! | AN9: =#REF! -> #REF! | AO9: =#REF! -> #REF! | AP9: =#REF! -> #REF! | AQ9: =#REF! -> #REF!
A10: 1 | B10: ЕГ"П.Яворов" - Силистра | C10: 320 | D10: =$D$9*C10 -> 515520 | E10: 29000 | F10: =$F$9*C10/$C$19 -> 488447.07 | G10: =F10+E10 -> 517447.07 | H10: =G10 -> 517447.07 | I10: =F10-F10*1% -> 483562.6 | J10: =F10*1% -> 4884.4707 | K10: =C10*K8/1510 -> 997.91258 | N10: =C10*N8/320 -> 2931.0077 | P10: =SUM(K10:O10) -> 3928.9203 | Q10: =SUM(I10,P10) -> 487491.52 | R10: 3 | S10: =R10*$S$9 -> 1119 | T10: 1 | U10: =T10*$U$9 -> 3070 | V10: =C10 -> 320 | W10: =V10*$W$9 -> 8000 | Y10: =X10*$Y$9 -> 0 | Z10: 215 | AA10: =Z10*$AA$9 -> 18705 | AE10: =AD10*$AE$9 -> 0 | AF10: =Q10+E10+S10+U10+W10+AA10+AC10+AE10+Y10 -> 547385.52 | AG10: 1 | AH10: =AG10*$AH$9 -> 326 | AI10: =#REF! -> #REF! | AJ10: =#REF! -> #REF! | AK10: =#REF! -> #REF! | AL10: =#REF! -> #REF! | AM10: =#REF! -> #REF! | AN10: =#REF! -> #REF! | AO10: =#REF! -> #REF! | AP10: =#REF! -> #REF! | ... AS10: =#REF! -> #REF! | AT10: =P10-J10 -> -955.55037
A11: 2 | B11: ПМГ"Св.Кл.Охридски"-Силистра | C11: 416 | D11: =$D$9*C11 -> 670176 | E11: 29000 | F11: =$F$9*C11/$C$19 -> 634981.19 | G11: =F11+E11 -> 663981.19 | H11: =G11 -> 663981.19 | I11: =F11-F11*1% -> 628631.37 | J11: =F11*1% -> 6349.8119 | L11: =C11*L8/1575 -> 3731.2427 | O11: =C11*O8/2478 -> 1906.7282 | P11: =SUM(K11:O11) -> 5637.9709 | Q11: =SUM(I11,P11) -> 634269.35 | R11: 3 | S11: =R11*$S$9 -> 1119 | U11: =T11*$U$9 -> 0 | V11: =C11 -> 416 | W11: =V11*$W$9 -> 10400 | Y11: =X11*$Y$9 -> 0 | Z11: 213 | AA11: =Z11*$AA$9 -> 18531 | AE11: =AD11*$AE$9 -> 0 | AF11: =Q11+E11+S11+U11+W11+AA11+AC11+AE11+Y11 -> 693319.35 | AG11: 0 | AH11: =AG11*$AH$9 -> 0 | AI11: =#REF! -> #REF! | AJ11: =#REF! -> #REF! | AK11: =#REF! -> #REF! | AL11: =#REF! -> #REF! | AM11: =#REF! -> #REF! | AN11: =#REF! -> #REF! | AO11: =#REF! -> #REF! | AP11: =#REF! -> #REF! | ... AS11: =#REF! -> #REF! | AT11: =P11-J11 -> -711.84095
A12: 3 | B12: СОУ"Н.Вапцаров"-Силистра | C12: 559 | D12: =$D$9*C12 -> 900549 | E12: 29000 | F12: =$F$9*C12/$C$19 -> 853255.97 | G12: =F12+E12 -> 882255.97 | H12: =G12 -> 882255.97 | I12: =F12-F12*1% -> 844723.41 | J12: =F12*1% -> 8532.5597 | K12: =C12*K8/1510 -> 1743.2285 | O12: =C12*O8/2478 -> 2562.1661 | P12: =SUM(K12:O12) -> 4305.3946 | Q12: =SUM(I12,P12) -> 849028.8 | R12: 15 | S12: =R12*$S$9 -> 5595 | U12: =T12*$U$9 -> 0 | V12: =C12 -> 559 | W12: =V12*$W$9 -> 13975 | X12: 1 | Y12: =X12*$Y$9 -> 862 | Z12: 97 | AA12: =Z12*$AA$9 -> 8439 | AB12: 283 | AC12: =AB12*$AC$9 -> 20376 | AD12: 348 | AE12: =AD12*$AE$9 -> 201840 | AF12: =Q12+E12+S12+U12+W12+AA12+AC12+AE12+Y12 -> 1129115.8 | AG12: 36 | AH12: =AG12*$AH$9 -> 11736 | AI12: =#REF! -> #REF! | AJ12: =#REF! -> #REF! | AK12: =#REF! -> #REF! | AL12: =#REF! -> #REF! | AM12: =#REF! -> #REF! | AN12: =#REF! -> #REF! | AO12: =#REF! -> #REF! | AP12: =#REF! -> #REF! | ... AS12: =#REF! -> #REF! | AT12: =P12-J12 -> -4227.1651
A13: 4 | B13: ОУ"Отец Паисий" - Силистра | C13: 428 | D13: =$D$9*C13 -> 689508 | E13: 29000 | F13: =$F$9*C13/$C$19 -> 653297.95 | G13: =F13+E13 -> 682297.95 | H13: =G13 -> 682297.95 | I13: =F13-F13*1% -> 646764.97 | J13: =F13*1% -> 6532.9795 | L13: =C13*L8/1575 -> 3838.8747 | O13: =C13*O8/2478 -> 1961.73 | P13: =SUM(K13:O13) -> 5800.6047 | Q13: =SUM(I13,P13) -> 652565.58 | S13: =R13*$S$9 -> 0 | T13: 1 | U13: =T13*$U$9 -> 3070 | V13: =C13 -> 428 | W13: =V13*$W$9 -> 10700 | Y13: =X13*$Y$9 -> 0 | AA13: =Z13*$AA$9 -> 0 | AB13: 229 | AC13: =AB13*$AC$9 -> 16488 | AD13: 246 | AE13: =AD13*$AE$9 -> 142680 | AF13: =Q13+E13+S13+U13+W13+AA13+AC13+AE13+Y13 -> 854503.58 | AG13: 15 | AH13: =AG13*$AH$9 -> 4890 | AI13: =#REF! -> #REF! | AJ13: =#REF! -> #REF! | AK13: =#REF! -> #REF! | AL13: =#REF! -> #REF! | AM13: =#REF! -> #REF! | AN13: =#REF! -> #REF! | AO13: =#REF! -> #REF! | AP13: =#REF! -> #REF! | ... AS13: =#REF! -> #REF! | AT13: =P13-J13 -> -732.37483
A14: 5 | B14: ОУ"Св.св.Кирил и Методий"-Силистра | C14: 444 | D14: =$D$9*C14 -> 715284 | E14: 29000 | F14: =$F$9*C14/$C$19 -> 677720.3 | G14: =F14+E14 -> 706720.3 | H14: =G14 -> 706720.3 | I14: =F14-F14*1% -> 670943.1 | J14: =F14*1% -> 6777.203 | L14: =C14*L8/1575 -> 3982.384 | O14: =C14*O8/2478 -> 2035.0657 | P14: =SUM(K14:O14) -> 6017.4497 | Q14: =SUM(I14,P14) -> 676960.55 | S14: =R14*$S$9 -> 0 | U14: =T14*$U$9 -> 0 | V14: =C14 -> 444 | W14: =V14*$W$9 -> 11100 | X14: 3 | Y14: =X14*$Y$9 -> 2586 | AA14: =Z14*$AA$9 -> 0 | AB14: 258 | AC14: =AB14*$AC$9 -> 18576 | AD14: 335 | AE14: =AD14*$AE$9 -> 194300 | AF14: =Q14+E14+S14+U14+W14+AA14+AC14+AE14+Y14 -> 932522.55 | AG14: 28 | AH14: =AG14*$AH$9 -> 9128 | AI14: =#REF! -> #REF! | AJ14: =#REF! -> #REF! | AK14: =#REF! -> #REF! | AL14: =#REF! -> #REF! | AM14: =#REF! -> #REF! | AN14: =#REF! -> #REF! | AO14: =#REF! -> #REF! | AP14: =#REF! -> #REF! | ... AS14: =#REF! -> #REF! | AT14: =P14-J14 -> -759.75332
A15: 6 | B15: ОУ"Иван Вазов"-Силистра | C15: 631 | D15: =$D$9*C15 -> 1016541 | E15: 29000 | F15: =$F$9*C15/$C$19 -> 963156.56 | G15: =F15+E15 -> 992156.56 | H15: =G15 -> 992156.56 | I15: =F15-F15*1% -> 953524.99 | J15: =F15*1% -> 9631.5656 | K15: =C15*K8/1510 -> 1967.7589 | O15: =C15*O8/2478 -> 2892.1767 | P15: =SUM(K15:O15) -> 4859.9356 | Q15: =SUM(I15,P15) -> 958384.93 | S15: =R15*$S$9 -> 0 | U15: =T15*$U$9 -> 0 | V15: =C15 -> 631 | W15: =V15*$W$9 -> 15775 | Y15: =X15*$Y$9 -> 0 | AA15: =Z15*$AA$9 -> 0 | AB15: 414 | AC15: =AB15*$AC$9 -> 29808 | AD15: 505 | AE15: =AD15*$AE$9 -> 292900 | AF15: =Q15+E15+S15+U15+W15+AA15+AC15+AE15+Y15 -> 1325867.9 | AG15: 25 | AH15: =AG15*$AH$9 -> 8150 | AI15: =#REF! -> #REF! | AJ15: =#REF! -> #REF! | AK15: =#REF! -> #REF! | AL15: =#REF! -> #REF! | AM15: =#REF! -> #REF! | AN15: =#REF! -> #REF! | AO15: =#REF! -> #REF! | AP15: =#REF! -> #REF! | ... AS15: =#REF! -> #REF! | AT15: =P15-J15 -> -4771.63
A16: 7 | B16: ОУ"Св.св.Кирил и Методий"-с.Калипетрово | C16: 92 | D16: =$D$9*C16 -> 148212 | E16: 29000 | F16: =$F$9*C16/$C$19 -> 140428.53 | G16: =F16+E16 -> 169428.53 | H16: =G16 -> 169428.53 | I16: =F16-F16*1% -> 139024.25 | J16: =F16*1% -> 1404.2853 | L16: =C16*L8/1575 -> 825.17867 | M16: =C16*M8/287 -> 4477.1578 | P16: =SUM(K16:O16) -> 5302.3365 | Q16: =SUM(I16,P16) -> 144326.58 | R16: 26 | S16: =R16*$S$9 -> 9698 | U16: =T16*$U$9 -> 0 | V16: =C16 -> 92 | W16: =V16*$W$9 -> 2300 | Y16: =X16*$Y$9 -> 0 | AA16: =Z16*$AA$9 -> 0 | AB16: 48 | AC16: =AB16*$AC$9 -> 3456 | AD16: 52 | AE16: =AD16*$AE$9 -> 30160 | AF16: =Q16+E16+S16+U16+W16+AA16+AC16+AE16+Y16 -> 218940.58 | AG16: 10 | AH16: =AG16*$AH$9 -> 3260 | AI16: =#REF! -> #REF! | AJ16: =#REF! -> #REF! | AK16: =#REF! -> #REF! | AL16: =#REF! -> #REF! | AM16: =#REF! -> #REF! | AN16: =#REF! -> #REF! | AO16: =#REF! -> #REF! | AP16: =#REF! -> #REF! | ... AS16: =#REF! -> #REF! | AT16: =P16-J16 -> 3898.0512
A17: 8 | B17: ОУ"Св.Кл.Охридски"-с.Иширково | C17: 146 | D17: =$D$9*C17 -> 235206 | E17: 29000 | F17: =$F$9*C17/$C$19 -> 222853.97 | G17: =F17+E17 -> 251853.97 | H17: =G17 -> 251853.97 | I17: =F17-F17*1% -> 220625.43 | J17: =F17*1% -> 2228.5397 | L17: =C17*L8/1575 -> 1309.5227 | M17: =C17*M8/287 -> 7105.0548 | P17: =SUM(K17:O17) -> 8414.5774 | Q17: =SUM(I17,P17) -> 229040.01 | R17: 15 | S17: =R17*$S$9 -> 5595 | U17: =T17*$U$9 -> 0 | V17: =C17 -> 146 | W17: =V17*$W$9 -> 3650 | Y17: =X17*$Y$9 -> 0 | AA17: =Z17*$AA$9 -> 0 | AB17: 66 | AC17: =AB17*$AC$9 -> 4752 | AD17: 146 | AE17: =AD17*$AE$9 -> 84680 | AF17: =Q17+E17+S17+U17+W17+AA17+AC17+AE17+Y17 -> 356717.01 | AG17: 0 | AH17: =AG17*$AH$9 -> 0 | AI17: =#REF! -> #REF! | AJ17: =#REF! -> #REF! | AK17: =#REF! -> #REF! | AL17: =#REF! -> #REF! | AM17: =#REF! -> #REF! | AN17: =#REF! -> #REF! | AO17: =#REF! -> #REF! | AP17: =#REF! -> #REF! | ... AS17: =#REF! -> #REF! | AT17: =P17-J17 -> 6186.0377
A18: 9 | B18: ОУ"Св.св.Кирил и Методий"-с.Брадвари | C18: 49 | D18: =$D$9*C18 -> 78939 | E18: 29000 | F18: =$F$9*C18/$C$19 -> 74793.457 | G18: =F18+E18 -> 103793.46 | H18: =G18 -> 103793.46 | I18: =F18-F18*1% -> 74045.522 | J18: =F18*1% -> 747.93457 | L18: =C18*L8/1575 -> 439.49733 | M18: =C18*M8/287 -> 2384.5732 | P18: =SUM(K18:O18) -> 2824.0705 | Q18: =SUM(I18,P18) -> 76869.593 | R18: 11 | S18: =R18*$S$9 -> 4103 | U18: =T18*$U$9 -> 0 | V18: =C18 -> 49 | W18: =V18*$W$9 -> 1225 | Y18: =X18*$Y$9 -> 0 | AA18: =Z18*$AA$9 -> 0 | AB18: 25 | AC18: =AB18*$AC$9 -> 1800 | AD18: 43 | AE18: =AD18*$AE$9 -> 24940 | AF18: =Q18+E18+S18+U18+W18+AA18+AC18+AE18+Y18 -> 137937.59 | AG18: 9 | AH18: =AG18*$AH$9 -> 2934 | AI18: =#REF! -> #REF! | AJ18: =#REF! -> #REF! | AK18: =#REF! -> #REF! | AL18: =#REF! -> #REF! | AM18: =#REF! -> #REF! | AN18: =#REF! -> #REF! | AO18: =#REF! -> #REF! | AP18: =#REF! -> #REF! | ... AS18: =#REF! -> #REF! | AT18: =P18-J18 -> 2076.1359
A19: ВСИЧКО ЗА УЧИЛИЩА | C19: =SUM(C10:C18) -> 3085 | D19: =SUM(D10:D18) -> 4969935 | E19: =SUM(E10:E18) -> 261000 | F19: =SUM(F10:F18) -> 4708935 | G19: =SUM(G10:G18) -> 4969935 | H19: =SUM(H10:H18) -> 4969935 | I19: =SUM(I10:I18) -> 4661845.7 | J19: =SUM(J10:J18) -> 47089.35 | ... P19: =SUM(P10:P18) -> 47091.26 | Q19: =SUM(I19,P19) -> 4708936.9 | R19: =SUM(R10:R18) -> 73 | S19: =SUM(S10:S18) -> 27229 | T19: =SUM(T10:T18) -> 2 | U19: =SUM(U10:U18) -> 6140 | V19: =SUM(V10:V18) -> 3085 | W19: =SUM(W10:W18) -> 77125 | X19: =SUM(X10:X18) -> 4 | Y19: =SUM(Y10:Y18) -> 3448 | ... AE19: =SUM(AE10:AE18) -> 971500 | AF19: =Q19+E19+S19+U19+W19+AA19+AC19+AE19+Y19 -> 6196309.9 | AG19: =SUM(AG10:AG18) -> 124 | AH19: =AG19*$AH$9 -> 40424 | AI19: =#REF! -> #REF! | AJ19: =#REF! -> #REF! | AK19: =#REF! -> #REF! | AL19: =#REF! -> #REF! | AM19: =#REF! -> #REF! | AN19: =#REF! -> #REF! | AO19: =#REF! -> #REF! | AP19: =#REF! -> #REF! | ... AS19: =#REF! -> #REF! | AT19: =P19-J19 -> 1.910272
A20: 10 | B20: Резерв | C20: 71 | D20: =$D$9*C20 -> 114381 | H20: =C20*D9 -> 114381 | R20: 25 | S20: =R20*$S$9 -> 9325 | T20: -1 | U20: =T20*$U$9 -> -3070 | V20: 71 | W20: =V20*$W$9 -> 1775 | X20: 1 | Y20: =X20*$Y$9 -> 862 | Z20: -61 | AA20: =Z20*$AA$9 -> -5307 | AB20: -2 | AC20: =AB20*$AC$9 -> -144 | AD20: 16 | AE20: =AD20*$AE$9 -> 9280 | AF20: =Q20+E20+S20+U20+W20+AA20+AC20+AE20+Y20 -> 12721 | AG20: 3 | AH20: =AG20*$AH$9 -> 978 | AI20: =#REF! -> #REF! | AJ20: =#REF! -> #REF! | AK20: =#REF! -> #REF! | AL20: =#REF! -> #REF! | AM20: =#REF! -> #REF! | AN20: =#REF! -> #REF! | AO20: =#REF! -> #REF! | AP20: =#REF! -> #REF! | ... AS20: =#REF! -> #REF!
B21: В С И Ч КО: | C21: =C19+C20 -> 3156 | D21: =D19+D20 -> 5084316 | F21: 4708935 | G21: =G19+G20 -> 4969935 | H21: =H19+H20 -> 5084316 | I21: 4661846 | J21: 47089 | P21: 47090 | Q21: =SUM(I21,P21) -> 4708936 | R21: =R19+R20 -> 98 | S21: =S19+S20 -> 36554 | T21: =T19+T20 -> 1 | U21: =U19+U20 -> 3070 | V21: =V19+V20 -> 3156 | W21: =W19+W20 -> 78900 | X21: =X19+X20 -> 5 | Y21: =Y19+Y20 -> 4310 | ... AE21: =AE19+AE20 -> 980780 | AF21: =H21+S21+U21+W21+AA21+AC21+AE21+Y21 -> 6323410 | AG21: 127 | AH21: =AG21*$AH$9 -> 41402 | AI21: =#REF! -> #REF! | AJ21: =#REF! -> #REF! | AK21: =#REF! -> #REF! | AL21: =#REF! -> #REF! | AM21: =#REF! -> #REF! | AN21: =#REF! -> #REF! | AO21: =#REF! -> #REF! | AP21: =#REF! -> #REF! | ... AS21: =#REF! -> #REF!
F22: =D19-E19 -> 4708935 | AF22: =SUM(AF10:AF18) -> 6196309.9
C23: Изготвил: | AC23: Началник:

Sheet бр. деца
AE1: Приложение № 1
A3: РАЗЧЕТ НА НАТУРАЛНИ И СТОЙНОСТНИ ПОКАЗАТЕЛИ ПО СТАНДАРТИТЕ ЗА ДЕЛЕГИРАНИТЕ ОТ ДЪРЖАВАТА ДЕЙНОСТИ ЗА ОБЩООБРАЗОВАТЕЛНИ УЧИЛИЩА ЗА ОБЩИНА СИЛИСТРА - НАЧАЛЕН ПЛАН 2017 Г.
C5: разпределение на 100% от средствата по разходен стандарт | I5: Допълнителен компонент | Q5: 100% от средствата | S5: 100% от средствата | U5: 100% от средствата | W5: 100% от средствата | Y5: 100% от средствата | AA5: 100% от средствата | AC5: 100% от средствата | AE5: Всичко средства по държавна дейност 322 | AF5: ='гориво_бр. деца'!AG5 -> 100% от средствата | AH5: ='гориво_бр. деца'!AI5 -> 100% от средствата | AJ5: ='гориво_бр. деца'!AK5 -> #REF! | AK5: ='гориво_бр. деца'!AL5 -> #REF! | AQ5: ='гориво_бр. деца'!AR5 -> #REF! | AR5: ='гориво_бр. деца'!AS5 -> #REF! | AS5: разлика
A6: № по ред | B6: Училище | C6: стандарт "Неспециализирани училища, без профес. гимназии" | E6: доп. Компонет - 29 000 лв. | F6: основен компонент | G6: Всичко стандарт за общообразователни училища - 100% | H6: Всичко стандарт за общообразователни училища - 100% | K6: 47089.35 | Q6: самостоятелна форма | S6: индивидуална | U6: МТБ | W6: комбинирана форма | Y6: стипендии | AA6: хранене на деца от І до ІV клас | AC6: целодневна организация от І доVІ клас и средищни | AF6: ='гориво_бр. деца'!AG6 -> Норматив за създаване на условия за приобщ. Обр. | AH6: ='гориво_бр. деца'!AI6 -> #REF! | AK6: ='гориво_бр. деца'!AL6 -> #REF!
I7: 99% от осн комп | J7: разлика | K7: до 150 (0,2579) | L7: 150÷350 (0,1381) | M7: 350÷550 (0,3339) | N7: над 550 (0,2699) | O7: Общо | P7: Всичко | AK7: ='гориво_бр. деца'!AL7 -> #REF! | AM7: ='гориво_бр. деца'!AN7 -> #REF! | AO7: ='гориво_бр. деца'!AP7 -> #REF!
K8: =0.25795*K6 -> 12146.698 | L8: =0.13815*K6 -> 6505.3937 | M8: =0.3339*K6 -> 15723.134 | N8: =0.26993*K6 -> 12710.828
C9: брой ученици | D9: 1611 | F9: 4708935 | I9: 47089.35 | K9: 2,7732 х 15,26 | L9: 1,3322 х 15,26 | M9: 0,8 х 15,26 | N9: 0.7 х 15,26 | Q9: брой ученици | R9: 373 | S9: брой ученици | T9: 3070 | U9: брой ученици | V9: 25 | W9: брой ученици | X9: 862 | Y9: брой ученици | Z9: 87 | AA9: брой ученици | AB9: 72 | AC9: брой ученици | AD9: 580 | AF9: ='гориво_бр. деца'!AG9 -> брой ученици | AG9: ='гориво_бр. деца'!AH9 -> 326 | AH9: ='гориво_бр. деца'!AI9 -> #REF! | AI9: ='гориво_бр. деца'!AJ9 -> #REF! | AK9: ='гориво_бр. деца'!AL9 -> #REF! | AL9: ='гориво_бр. деца'!AM9 -> #REF! | AM9: ='гориво_бр. деца'!AN9 -> #REF! | AN9: ='гориво_бр. деца'!AO9 -> #REF! | AO9: ='гориво_бр. деца'!AP9 -> #REF! | AP9: ='гориво_бр. деца'!AQ9 -> #REF!
A10: 1 | B10: ЕГ"П.Яворов" - Силистра | C10: 320 | D10: =$D$9*C10 -> 515520 | E10: 29000 | F10: =$F$9*C10/$C$19 -> 488447.07 | G10: =F10+E10 -> 517447.07 | H10: =G10 -> 517447.07 | I10: =F10-F10*1% -> 483562.6 | J10: =F10*1% -> 4884.4707 | L10: =C10*L8/320 -> 6505.3937 | O10: =SUM(K10:N10) -> 6505.3937 | P10: =SUM(I10,O10) -> 490067.99 | Q10: 3 | R10: =Q10*$R$9 -> 1119 | S10: 1 | T10: =S10*$T$9 -> 3070 | U10: =C10 -> 320 | V10: =U10*$V$9 -> 8000 | X10: =W10*$X$9 -> 0 | Y10: 215 | Z10: =Y10*$Z$9 -> 18705 | AD10: =AC10*$AD$9 -> 0 | AE10: =P10+E10+R10+T10+V10+Z10+AB10+AD10+X10 -> 549961.99 | AF10: ='гориво_бр. деца'!AG10 -> 1 | AG10: ='гориво_бр. деца'!AH10 -> 326 | AH10: ='гориво_бр. деца'!AI10 -> #REF! | AI10: ='гориво_бр. деца'!AJ10 -> #REF! | AJ10: ='гориво_бр. деца'!AK10 -> #REF! | AK10: ='гориво_бр. деца'!AL10 -> #REF! | AL10: ='гориво_бр. деца'!AM10 -> #REF! | AM10: ='гориво_бр. деца'!AN10 -> #REF! | ... AR10: ='гориво_бр. деца'!AS10 -> #REF! | AS10: =O10-J10 -> 1620.923
A11: 2 | B11: ПМГ"Св.Кл.Охридски"-Силистра | C11: 416 | D11: =$D$9*C11 -> 670176 | E11: 29000 | F11: =$F$9*C11/$C$19 -> 634981.19 | G11: =F11+E11 -> 663981.19 | H11: =G11 -> 663981.19 | I11: =F11-F11*1% -> 628631.37 | J11: =F11*1% -> 6349.8119 | M11: =C11*M8/1288 -> 5078.2793 | O11: =SUM(K11:N11) -> 5078.2793 | P11: =SUM(I11,O11) -> 633709.65 | Q11: 3 | R11: =Q11*$R$9 -> 1119 | T11: =S11*$T$9 -> 0 | U11: =C11 -> 416 | V11: =U11*$V$9 -> 10400 | X11: =W11*$X$9 -> 0 | Y11: 213 | Z11: =Y11*$Z$9 -> 18531 | AD11: =AC11*$AD$9 -> 0 | AE11: =P11+E11+R11+T11+V11+Z11+AB11+AD11+X11 -> 692759.65 | AF11: ='гориво_бр. деца'!AG11 -> 0 | AG11: ='гориво_бр. деца'!AH11 -> 0 | AH11: ='гориво_бр. деца'!AI11 -> #REF! | AI11: ='гориво_бр. деца'!AJ11 -> #REF! | AJ11: ='гориво_бр. деца'!AK11 -> #REF! | AK11: ='гориво_бр. деца'!AL11 -> #REF! | AL11: ='гориво_бр. деца'!AM11 -> #REF! | AM11: ='гориво_бр. деца'!AN11 -> #REF! | ... AR11: ='гориво_бр. деца'!AS11 -> #REF! | AS11: =O11-J11 -> -1271.5326
A12: 3 | B12: СОУ"Н.Вапцаров"-Силистра | C12: 559 | D12: =$D$9*C12 -> 900549 | E12: 29000 | F12: =$F$9*C12/$C$19 -> 853255.97 | G12: =F12+E12 -> 882255.97 | H12: =G12 -> 882255.97 | I12: =F12-F12*1% -> 844723.41 | J12: =F12*1% -> 8532.5597 | N12: =C12*N8/1190 -> 5970.8849 | O12: =SUM(K12:N12) -> 5970.8849 | P12: =SUM(I12,O12) -> 850694.29 | Q12: 15 | R12: =Q12*$R$9 -> 5595 | T12: =S12*$T$9 -> 0 | U12: =C12 -> 559 | V12: =U12*$V$9 -> 13975 | W12: 1 | X12: =W12*$X$9 -> 862 | Y12: 97 | Z12: =Y12*$Z$9 -> 8439 | AA12: 283 | AB12: =AA12*$AB$9 -> 20376 | AC12: 348 | AD12: =AC12*$AD$9 -> 201840 | AE12: =P12+E12+R12+T12+V12+Z12+AB12+AD12+X12 -> 1130781.3 | AF12: ='гориво_бр. деца'!AG12 -> 36 | AG12: ='гориво_бр. деца'!AH12 -> 11736 | AH12: ='гориво_бр. деца'!AI12 -> #REF! | AI12: ='гориво_бр. деца'!AJ12 -> #REF! | AJ12: ='гориво_бр. деца'!AK12 -> #REF! | AK12: ='гориво_бр. деца'!AL12 -> #REF! | AL12: ='гориво_бр. деца'!AM12 -> #REF! | AM12: ='гориво_бр. деца'!AN12 -> #REF! | ... AR12: ='гориво_бр. деца'!AS12 -> #REF! | AS12: =O12-J12 -> -2561.6748
A13: 4 | B13: ОУ"Отец Паисий" - Силистра | C13: 428 | D13: =$D$9*C13 -> 689508 | E13: 29000 | F13: =$F$9*C13/$C$19 -> 653297.95 | G13: =F13+E13 -> 682297.95 | H13: =G13 -> 682297.95 | I13: =F13-F13*1% -> 646764.97 | J13: =F13*1% -> 6532.9795 | M13: =C13*M8/1288 -> 5224.7681 | O13: =SUM(K13:N13) -> 5224.7681 | P13: =SUM(I13,O13) -> 651989.74 | R13: =Q13*$R$9 -> 0 | S13: 1 | T13: =S13*$T$9 -> 3070 | U13: =C13 -> 428 | V13: =U13*$V$9 -> 10700 | X13: =W13*$X$9 -> 0 | Z13: =Y13*$Z$9 -> 0 | AA13: 229 | AB13: =AA13*$AB$9 -> 16488 | AC13: 246 | AD13: =AC13*$AD$9 -> 142680 | AE13: =P13+E13+R13+T13+V13+Z13+AB13+AD13+X13 -> 853927.74 | AF13: ='гориво_бр. деца'!AG13 -> 15 | AG13: ='гориво_бр. деца'!AH13 -> 4890 | AH13: ='гориво_бр. деца'!AI13 -> #REF! | AI13: ='гориво_бр. деца'!AJ13 -> #REF! | AJ13: ='гориво_бр. деца'!AK13 -> #REF! | AK13: ='гориво_бр. деца'!AL13 -> #REF! | AL13: ='гориво_бр. деца'!AM13 -> #REF! | AM13: ='гориво_бр. деца'!AN13 -> #REF! | ... AR13: ='гориво_бр. деца'!AS13 -> #REF! | AS13: =O13-J13 -> -1308.2114
A14: 5 | B14: ОУ"Св.св.Кирил и Методий"-Силистра | C14: 444 | D14: =$D$9*C14 -> 715284 | E14: 29000 | F14: =$F$9*C14/$C$19 -> 677720.3 | G14: =F14+E14 -> 706720.3 | H14: =G14 -> 706720.3 | I14: =F14-F14*1% -> 670943.1 | J14: =F14*1% -> 6777.203 | M14: =C14*M8/1288 -> 5420.0866 | O14: =SUM(K14:N14) -> 5420.0866 | P14: =SUM(I14,O14) -> 676363.19 | R14: =Q14*$R$9 -> 0 | T14: =S14*$T$9 -> 0 | U14: =C14 -> 444 | V14: =U14*$V$9 -> 11100 | W14: 3 | X14: =W14*$X$9 -> 2586 | Z14: =Y14*$Z$9 -> 0 | AA14: 258 | AB14: =AA14*$AB$9 -> 18576 | AC14: 335 | AD14: =AC14*$AD$9 -> 194300 | AE14: =P14+E14+R14+T14+V14+Z14+AB14+AD14+X14 -> 931925.19 | AF14: ='гориво_бр. деца'!AG14 -> 28 | AG14: ='гориво_бр. деца'!AH14 -> 9128 | AH14: ='гориво_бр. деца'!AI14 -> #REF! | AI14: ='гориво_бр. деца'!AJ14 -> #REF! | AJ14: ='гориво_бр. деца'!AK14 -> #REF! | AK14: ='гориво_бр. деца'!AL14 -> #REF! | AL14: ='гориво_бр. деца'!AM14 -> #REF! | AM14: ='гориво_бр. деца'!AN14 -> #REF! | ... AR14: ='гориво_бр. деца'!AS14 -> #REF! | AS14: =O14-J14 -> -1357.1165
A15: 6 | B15: ОУ"Иван Вазов"-Силистра | C15: 631 | D15: =$D$9*C15 -> 1016541 | E15: 29000 | F15: =$F$9*C15/$C$19 -> 963156.56 | G15: =F15+E15 -> 992156.56 | H15: =G15 -> 992156.56 | I15: =F15-F15*1% -> 953524.99 | J15: =F15*1% -> 9631.5656 | N15: =C15*N8/1190 -> 6739.9434 | O15: =SUM(K15:N15) -> 6739.9434 | P15: =SUM(I15,O15) -> 960264.94 | R15: =Q15*$R$9 -> 0 | T15: =S15*$T$9 -> 0 | U15: =C15 -> 631 | V15: =U15*$V$9 -> 15775 | X15: =W15*$X$9 -> 0 | Z15: =Y15*$Z$9 -> 0 | AA15: 414 | AB15: =AA15*$AB$9 -> 29808 | AC15: 505 | AD15: =AC15*$AD$9 -> 292900 | AE15: =P15+E15+R15+T15+V15+Z15+AB15+AD15+X15 -> 1327747.9 | AF15: ='гориво_бр. деца'!AG15 -> 25 | AG15: ='гориво_бр. деца'!AH15 -> 8150 | AH15: ='гориво_бр. деца'!AI15 -> #REF! | AI15: ='гориво_бр. деца'!AJ15 -> #REF! | AJ15: ='гориво_бр. деца'!AK15 -> #REF! | AK15: ='гориво_бр. деца'!AL15 -> #REF! | AL15: ='гориво_бр. деца'!AM15 -> #REF! | AM15: ='гориво_бр. деца'!AN15 -> #REF! | ... AR15: ='гориво_бр. деца'!AS15 -> #REF! | AS15: =O15-J15 -> -2891.6222
A16: 7 | B16: ОУ"Св.св.Кирил и Методий"-с.Калипетрово | C16: 92 | D16: =$D$9*C16 -> 148212 | E16: 29000 | F16: =$F$9*C16/$C$19 -> 140428.53 | G16: =F16+E16 -> 169428.53 | H16: =G16 -> 169428.53 | I16: =F16-F16*1% -> 139024.25 | J16: =F16*1% -> 1404.2853 | K16: =C16*K8/287 -> 3893.715 | O16: =SUM(K16:N16) -> 3893.715 | P16: =SUM(I16,O16) -> 142917.96 | Q16: 26 | R16: =Q16*$R$9 -> 9698 | T16: =S16*$T$9 -> 0 | U16: =C16 -> 92 | V16: =U16*$V$9 -> 2300 | X16: =W16*$X$9 -> 0 | Z16: =Y16*$Z$9 -> 0 | AA16: 48 | AB16: =AA16*$AB$9 -> 3456 | AC16: 52 | AD16: =AC16*$AD$9 -> 30160 | AE16: =P16+E16+R16+T16+V16+Z16+AB16+AD16+X16 -> 217531.96 | AF16: ='гориво_бр. деца'!AG16 -> 10 | AG16: ='гориво_бр. деца'!AH16 -> 3260 | AH16: ='гориво_бр. деца'!AI16 -> #REF! | AI16: ='гориво_бр. деца'!AJ16 -> #REF! | AJ16: ='гориво_бр. деца'!AK16 -> #REF! | AK16: ='гориво_бр. деца'!AL16 -> #REF! | AL16: ='гориво_бр. деца'!AM16 -> #REF! | AM16: ='гориво_бр. деца'!AN16 -> #REF! | ... AR16: ='гориво_бр. деца'!AS16 -> #REF! | AS16: =O16-J16 -> 2489.4297
A17: 8 | B17: ОУ"Св.Кл.Охридски"-с.Иширково | C17: 146 | D17: =$D$9*C17 -> 235206 | E17: 29000 | F17: =$F$9*C17/$C$19 -> 222853.97 | G17: =F17+E17 -> 251853.97 | H17: =G17 -> 251853.97 | I17: =F17-F17*1% -> 220625.43 | J17: =F17*1% -> 2228.5397 | K17: =C17*K8/287 -> 6179.1564 | O17: =SUM(K17:N17) -> 6179.1564 | P17: =SUM(I17,O17) -> 226804.59 | Q17: 15 | R17: =Q17*$R$9 -> 5595 | T17: =S17*$T$9 -> 0 | U17: =C17 -> 146 | V17: =U17*$V$9 -> 3650 | X17: =W17*$X$9 -> 0 | Z17: =Y17*$Z$9 -> 0 | AA17: 66 | AB17: =AA17*$AB$9 -> 4752 | AC17: 146 | AD17: =AC17*$AD$9 -> 84680 | AE17: =P17+E17+R17+T17+V17+Z17+AB17+AD17+X17 -> 354481.59 | AF17: ='гориво_бр. деца'!AG17 -> 0 | AG17: ='гориво_бр. деца'!AH17 -> 0 | AH17: ='гориво_бр. деца'!AI17 -> #REF! | AI17: ='гориво_бр. деца'!AJ17 -> #REF! | AJ17: ='гориво_бр. деца'!AK17 -> #REF! | AK17: ='гориво_бр. деца'!AL17 -> #REF! | AL17: ='гориво_бр. деца'!AM17 -> #REF! | AM17: ='гориво_бр. деца'!AN17 -> #REF! | ... AR17: ='гориво_бр. деца'!AS17 -> #REF! | AS17: =O17-J17 -> 3950.6166
A18: 9 | B18: ОУ"Св.св.Кирил и Методий"-с.Брадвари | C18: 49 | D18: =$D$9*C18 -> 78939 | E18: 29000 | F18: =$F$9*C18/$C$19 -> 74793.457 | G18: =F18+E18 -> 103793.46 | H18: =G18 -> 103793.46 | I18: =F18-F18*1% -> 74045.522 | J18: =F18*1% -> 747.93457 | K18: =C18*K8/287 -> 2073.8265 | O18: =SUM(K18:N18) -> 2073.8265 | P18: =SUM(I18,O18) -> 76119.349 | Q18: 11 | R18: =Q18*$R$9 -> 4103 | T18: =S18*$T$9 -> 0 | U18: =C18 -> 49 | V18: =U18*$V$9 -> 1225 | X18: =W18*$X$9 -> 0 | Z18: =Y18*$Z$9 -> 0 | AA18: 25 | AB18: =AA18*$AB$9 -> 1800 | AC18: 43 | AD18: =AC18*$AD$9 -> 24940 | AE18: =P18+E18+R18+T18+V18+Z18+AB18+AD18+X18 -> 137187.35 | AF18: ='гориво_бр. деца'!AG18 -> 9 | AG18: ='гориво_бр. деца'!AH18 -> 2934 | AH18: ='гориво_бр. деца'!AI18 -> #REF! | AI18: ='гориво_бр. деца'!AJ18 -> #REF! | AJ18: ='гориво_бр. деца'!AK18 -> #REF! | AK18: ='гориво_бр. деца'!AL18 -> #REF! | AL18: ='гориво_бр. деца'!AM18 -> #REF! | AM18: ='гориво_бр. деца'!AN18 -> #REF! | ... AR18: ='гориво_бр. деца'!AS18 -> #REF! | AS18: =O18-J18 -> 1325.8919
A19: ВСИЧКО ЗА УЧИЛИЩА | C19: =SUM(C10:C18) -> 3085 | D19: =SUM(D10:D18) -> 4969935 | E19: =SUM(E10:E18) -> 261000 | F19: =SUM(F10:F18) -> 4708935 | G19: =SUM(G10:G18) -> 4969935 | H19: =SUM(H10:H18) -> 4969935 | I19: =SUM(I10:I18) -> 4661845.7 | J19: =SUM(J10:J18) -> 47089.35 | ... O19: =SUM(O10:O18) -> 47086.054 | P19: =SUM(I19,O19) -> 4708931.7 | Q19: =SUM(Q10:Q18) -> 73 | R19: =SUM(R10:R18) -> 27229 | S19: =SUM(S10:S18) -> 2 | T19: =SUM(T10:T18) -> 6140 | U19: =SUM(U10:U18) -> 3085 | V19: =SUM(V10:V18) -> 77125 | W19: =SUM(W10:W18) -> 4 | X19: =SUM(X10:X18) -> 3448 | ... AD19: =SUM(AD10:AD18) -> 971500 | AE19: =P19+E19+R19+T19+V19+Z19+AB19+AD19+X19 -> 6196304.7 | AF19: ='гориво_бр. деца'!AG19 -> 124 | AG19: ='гориво_бр. деца'!AH19 -> 40424 | AH19: ='гориво_бр. деца'!AI19 -> #REF! | AI19: ='гориво_бр. деца'!AJ19 -> #REF! | AJ19: ='гориво_бр. деца'!AK19 -> #REF! | AK19: ='гориво_бр. деца'!AL19 -> #REF! | AL19: ='гориво_бр. деца'!AM19 -> #REF! | AM19: ='гориво_бр. деца'!AN19 -> #REF! | ... AR19: ='гориво_бр. деца'!AS19 -> #REF! | AS19: =O19-J19 -> -3.2962545 | AU19: =SUM(AE19,AJ19) -> #REF!
A20: 10 | B20: Резерв | C20: 71 | D20: =$D$9*C20 -> 114381 | H20: =C20*D9 -> 114381 | Q20: 25 | R20: =Q20*$R$9 -> 9325 | S20: -1 | T20: =S20*$T$9 -> -3070 | U20: 71 | V20: =U20*$V$9 -> 1775 | W20: 1 | X20: =W20*$X$9 -> 862 | Y20: -61 | Z20: =Y20*$Z$9 -> -5307 | AA20: -2 | AB20: =AA20*$AB$9 -> -144 | AC20: 16 | AD20: =AC20*$AD$9 -> 9280 | AE20: =P20+E20+R20+T20+V20+Z20+AB20+AD20+X20 -> 12721 | AF20: ='гориво_бр. деца'!AG20 -> 3 | AG20: ='гориво_бр. деца'!AH20 -> 978 | AH20: ='гориво_бр. деца'!AI20 -> #REF! | AI20: ='гориво_бр. деца'!AJ20 -> #REF! | AJ20: ='гориво_бр. деца'!AK20 -> #REF! | AK20: ='гориво_бр. деца'!AL20 -> #REF! | AL20: ='гориво_бр. деца'!AM20 -> #REF! | AM20: ='гориво_бр. деца'!AN20 -> #REF! | ... AR20: ='гориво_бр. деца'!AS20 -> #REF! | AU20: =SUM(AE20,AJ20) -> #REF!
B21: В С И Ч КО: | C21: =C19+C20 -> 3156 | D21: =D19+D20 -> 5084316 | E21: 261000 | G21: =G19+G20 -> 4969935 | H21: =H19+H20 -> 5084316 | P21: 4708935 | Q21: =Q19+Q20 -> 98 | R21: =R19+R20 -> 36554 | S21: =S19+S20 -> 1 | T21: =T19+T20 -> 3070 | U21: =U19+U20 -> 3156 | V21: =V19+V20 -> 78900 | W21: =W19+W20 -> 5 | X21: =X19+X20 -> 4310 | ... AD21: =AD19+AD20 -> 980780 | AE21: =H21+R21+T21+V21+Z21+AB21+AD21+X21 -> 6323410 | AF21: ='гориво_бр. деца'!AG21 -> 127 | AG21: ='гориво_бр. деца'!AH21 -> 41402 | AH21: ='гориво_бр. деца'!AI21 -> #REF! | AI21: ='гориво_бр. деца'!AJ21 -> #REF! | AJ21: ='гориво_бр. деца'!AK21 -> #REF! | AK21: ='гориво_бр. деца'!AL21 -> #REF! | AL21: ='гориво_бр. деца'!AM21 -> #REF! | AM21: ='гориво_бр. деца'!AN21 -> #REF! | ... AR21: ='гориво_бр. деца'!AS21 -> #REF! | AU21: =SUM(AE21,AJ21) -> #REF!
F22: =D19-E19 -> 4708935 | J22: =SUM(J10:J15,J16:J18) -> 47089.35 | AE22: =SUM(AE10:AE18) -> 6196304.7
C23: Изготвил: | J23: =SUM(K23,L23,M23,N23) -> 47086.054 | K23: =SUM(K16:K18) -> 12146.698 | L23: =SUM(L10) -> 6505.3937 | M23: =SUM(M11:M15) -> 15723.134 | N23: =SUM(N10:N18) -> 12710.828 | AB23: Началник:
D24: / Т. Йвкова/ | I24: =SUM(I10:I15) -> 4228150.4 | AD24: / Нели Иванова/

Sheet малко нас. място
AA1: Приложение № 1
A3: РАЗЧЕТ НА НАТУРАЛНИ И СТОЙНОСТНИ ПОКАЗАТЕЛИ ПО СТАНДАРТИТЕ ЗА ДЕЛЕГИРАНИТЕ ОТ ДЪРЖАВАТА ДЕЙНОСТИ ЗА ОБЩООБРАЗОВАТЕЛНИ УЧИЛИЩА ЗА ОБЩИНА СИЛИСТРА - НАЧАЛЕН ПЛАН 2017 Г.
C5: разпределение на 100% от средствата по разходен стандарт | I5: Допълнителен компонент малко населено място | M5: 100% от средствата | O5: 100% от средствата | Q5: 100% от средствата | S5: 100% от средствата | U5: 100% от средствата | W5: 100% от средствата | Y5: 100% от средствата | AA5: Всичко средства по държавна дейност 322 | AB5: ='бр. деца'!AF5 -> 100% от средствата | AD5: ='бр. деца'!AH5 -> 100% от средствата | AF5: ='бр. деца'!AJ5 -> #REF! | AG5: ='бр. деца'!AK5 -> #REF! | AM5: ='бр. деца'!AQ5 -> #REF! | AN5: ='бр. деца'!AR5 -> #REF! | AO5: разлика
A6: № по ред | B6: Училище | C6: стандарт "Неспециализирани училища, без профес. гимназии" | E6: доп. Компонет - 29 000 лв. | F6: основен компонент | G6: Всичко стандарт за общообразователни училища - 100% | H6: Всичко стандарт за общообразователни училища - 100% | K6: 0.4% осн. Комп | M6: самостоятелна форма | O6: индивидуална | Q6: МТБ | S6: комбинирана форма | U6: стипендии | W6: хранене на деца от І до ІV клас | Y6: целодневна организация от І доVІ клас и средищни | AB6: ='бр. деца'!AF6 -> Норматив за създаване на условия за приобщ. Обр. | AD6: ='бр. деца'!AH6 -> #REF! | AG6: ='бр. деца'!AK6 -> #REF!
I7: 99% от осн комп | J7: разлика | K7: Извън ОЦ | L7: Всичко | AG7: ='бр. деца'!AK7 -> #REF! | AI7: ='бр. деца'!AM7 -> #REF! | AK7: ='бр. деца'!AO7 -> #REF!
C8: брой ученици | D8: 1611 | F8: 4708935 | K8: 6278.53 | M8: брой ученици | N8: 373 | O8: брой ученици | P8: 3070 | Q8: брой ученици | R8: 25 | S8: брой ученици | T8: 862 | U8: брой ученици | V8: 87 | W8: брой ученици | X8: 72 | Y8: брой ученици | Z8: 580 | AB8: ='бр. деца'!AF9 -> брой ученици | AC8: ='бр. деца'!AG9 -> 326 | AD8: ='бр. деца'!AH9 -> #REF! | AE8: ='бр. деца'!AI9 -> #REF! | AG8: ='бр. деца'!AK9 -> #REF! | AH8: ='бр. деца'!AL9 -> #REF! | AI8: ='бр. деца'!AM9 -> #REF! | AJ8: ='бр. деца'!AN9 -> #REF! | AK8: ='бр. деца'!AO9 -> #REF! | AL8: ='бр. деца'!AP9 -> #REF!
A9: 1 | B9: ЕГ"П.Яворов" - Силистра | C9: 320 | D9: =$D$8*C9 -> 515520 | E9: 29000 | F9: =$F$8*C9/$C$18 -> 488447.07 | G9: =F9+E9 -> 517447.07 | H9: =G9 -> 517447.07 | I9: =F9-F9*0.4% -> 486493.28 | J9: =F9*0.4% -> 1953.7883 | K9: 0 | L9: =SUM(I9,K9) -> 486493.28 | M9: 3 | N9: =M9*$N$8 -> 1119 | O9: 1 | P9: =O9*$P$8 -> 3070 | Q9: =C9 -> 320 | R9: =Q9*$R$8 -> 8000 | T9: =S9*$T$8 -> 0 | U9: 215 | V9: =U9*$V$8 -> 18705 | Z9: =Y9*$Z$8 -> 0 | AA9: =L9+E9+N9+P9+R9+V9+X9+Z9+T9 -> 546387.28 | AB9: ='бр. деца'!AF10 -> 1 | AC9: ='бр. деца'!AG10 -> 326 | AD9: ='бр. деца'!AH10 -> #REF! | AE9: ='бр. деца'!AI10 -> #REF! | AF9: ='бр. деца'!AJ10 -> #REF! | AG9: ='бр. деца'!AK10 -> #REF! | AH9: ='бр. деца'!AL10 -> #REF! | AI9: ='бр. деца'!AM10 -> #REF! | ... AN9: ='бр. деца'!AR10 -> #REF! | AO9: =K9-J9 -> -1953.7883
A10: 2 | B10: ПМГ"Св.Кл.Охридски"-Силистра | C10: 416 | D10: =$D$8*C10 -> 670176 | E10: 29000 | F10: =$F$8*C10/$C$18 -> 634981.19 | G10: =F10+E10 -> 663981.19 | H10: =G10 -> 663981.19 | I10: =F10-F10*0.4% -> 632441.26 | J10: =F10*0.4% -> 2539.9247 | K10: 0 | L10: =SUM(I10,K10) -> 632441.26 | M10: 3 | N10: =M10*$N$8 -> 1119 | P10: =O10*$P$8 -> 0 | Q10: =C10 -> 416 | R10: =Q10*$R$8 -> 10400 | T10: =S10*$T$8 -> 0 | U10: 213 | V10: =U10*$V$8 -> 18531 | Z10: =Y10*$Z$8 -> 0 | AA10: =L10+E10+N10+P10+R10+V10+X10+Z10+T10 -> 691491.26 | AB10: ='бр. деца'!AF11 -> 0 | AC10: ='бр. деца'!AG11 -> 0 | AD10: ='бр. деца'!AH11 -> #REF! | AE10: ='бр. деца'!AI11 -> #REF! | AF10: ='бр. деца'!AJ11 -> #REF! | AG10: ='бр. деца'!AK11 -> #REF! | AH10: ='бр. деца'!AL11 -> #REF! | AI10: ='бр. деца'!AM11 -> #REF! | ... AN10: ='бр. деца'!AR11 -> #REF! | AO10: =K10-J10 -> -2539.9247
A11: 3 | B11: СОУ"Н.Вапцаров"-Силистра | C11: 559 | D11: =$D$8*C11 -> 900549 | E11: 29000 | F11: =$F$8*C11/$C$18 -> 853255.97 | G11: =F11+E11 -> 882255.97 | H11: =G11 -> 882255.97 | I11: =F11-F11*0.4% -> 849842.95 | J11: =F11*0.4% -> 3413.0239 | K11: 0 | L11: =SUM(I11,K11) -> 849842.95 | M11: 15 | N11: =M11*$N$8 -> 5595 | P11: =O11*$P$8 -> 0 | Q11: =C11 -> 559 | R11: =Q11*$R$8 -> 13975 | S11: 1 | T11: =S11*$T$8 -> 862 | U11: 97 | V11: =U11*$V$8 -> 8439 | W11: 283 | X11: =W11*$X$8 -> 20376 | Y11: 348 | Z11: =Y11*$Z$8 -> 201840 | AA11: =L11+E11+N11+P11+R11+V11+X11+Z11+T11 -> 1129929.9 | AB11: ='бр. деца'!AF12 -> 36 | AC11: ='бр. деца'!AG12 -> 11736 | AD11: ='бр. деца'!AH12 -> #REF! | AE11: ='бр. деца'!AI12 -> #REF! | AF11: ='бр. деца'!AJ12 -> #REF! | AG11: ='бр. деца'!AK12 -> #REF! | AH11: ='бр. деца'!AL12 -> #REF! | AI11: ='бр. деца'!AM12 -> #REF! | ... AN11: ='бр. деца'!AR12 -> #REF! | AO11: =K11-J11 -> -3413.0239
A12: 4 | B12: ОУ"Отец Паисий" - Силистра | C12: 428 | D12: =$D$8*C12 -> 689508 | E12: 29000 | F12: =$F$8*C12/$C$18 -> 653297.95 | G12: =F12+E12 -> 682297.95 | H12: =G12 -> 682297.95 | I12: =F12-F12*0.4% -> 650684.76 | J12: =F12*0.4% -> 2613.1918 | K12: 0 | L12: =SUM(I12,K12) -> 650684.76 | N12: =M12*$N$8 -> 0 | O12: 1 | P12: =O12*$P$8 -> 3070 | Q12: =C12 -> 428 | R12: =Q12*$R$8 -> 10700 | T12: =S12*$T$8 -> 0 | V12: =U12*$V$8 -> 0 | W12: 229 | X12: =W12*$X$8 -> 16488 | Y12: 246 | Z12: =Y12*$Z$8 -> 142680 | AA12: =L12+E12+N12+P12+R12+V12+X12+Z12+T12 -> 852622.76 | AB12: ='бр. деца'!AF13 -> 15 | AC12: ='бр. деца'!AG13 -> 4890 | AD12: ='бр. деца'!AH13 -> #REF! | AE12: ='бр. деца'!AI13 -> #REF! | AF12: ='бр. деца'!AJ13 -> #REF! | AG12: ='бр. деца'!AK13 -> #REF! | AH12: ='бр. деца'!AL13 -> #REF! | AI12: ='бр. деца'!AM13 -> #REF! | ... AN12: ='бр. деца'!AR13 -> #REF! | AO12: =K12-J12 -> -2613.1918
A13: 5 | B13: ОУ"Св.св.Кирил и Методий"-Силистра | C13: 444 | D13: =$D$8*C13 -> 715284 | E13: 29000 | F13: =$F$8*C13/$C$18 -> 677720.3 | G13: =F13+E13 -> 706720.3 | H13: =G13 -> 706720.3 | I13: =F13-F13*0.4% -> 675009.42 | J13: =F13*0.4% -> 2710.8812 | K13: 0 | L13: =SUM(I13,K13) -> 675009.42 | N13: =M13*$N$8 -> 0 | P13: =O13*$P$8 -> 0 | Q13: =C13 -> 444 | R13: =Q13*$R$8 -> 11100 | S13: 3 | T13: =S13*$T$8 -> 2586 | V13: =U13*$V$8 -> 0 | W13: 258 | X13: =W13*$X$8 -> 18576 | Y13: 335 | Z13: =Y13*$Z$8 -> 194300 | AA13: =L13+E13+N13+P13+R13+V13+X13+Z13+T13 -> 930571.42 | AB13: ='бр. деца'!AF14 -> 28 | AC13: ='бр. деца'!AG14 -> 9128 | AD13: ='бр. деца'!AH14 -> #REF! | AE13: ='бр. деца'!AI14 -> #REF! | AF13: ='бр. деца'!AJ14 -> #REF! | AG13: ='бр. деца'!AK14 -> #REF! | AH13: ='бр. деца'!AL14 -> #REF! | AI13: ='бр. деца'!AM14 -> #REF! | ... AN13: ='бр. деца'!AR14 -> #REF! | AO13: =K13-J13 -> -2710.8812
A14: 6 | B14: ОУ"Иван Вазов"-Силистра | C14: 631 | D14: =$D$8*C14 -> 1016541 | E14: 29000 | F14: =$F$8*C14/$C$18 -> 963156.56 | G14: =F14+E14 -> 992156.56 | H14: =G14 -> 992156.56 | I14: =F14-F14*0.4% -> 959303.93 | J14: =F14*0.4% -> 3852.6262 | K14: 0 | L14: =SUM(I14,K14) -> 959303.93 | N14: =M14*$N$8 -> 0 | P14: =O14*$P$8 -> 0 | Q14: =C14 -> 631 | R14: =Q14*$R$8 -> 15775 | T14: =S14*$T$8 -> 0 | V14: =U14*$V$8 -> 0 | W14: 414 | X14: =W14*$X$8 -> 29808 | Y14: 505 | Z14: =Y14*$Z$8 -> 292900 | AA14: =L14+E14+N14+P14+R14+V14+X14+Z14+T14 -> 1326786.9 | AB14: ='бр. деца'!AF15 -> 25 | AC14: ='бр. деца'!AG15 -> 8150 | AD14: ='бр. деца'!AH15 -> #REF! | AE14: ='бр. деца'!AI15 -> #REF! | AF14: ='бр. деца'!AJ15 -> #REF! | AG14: ='бр. деца'!AK15 -> #REF! | AH14: ='бр. деца'!AL15 -> #REF! | AI14: ='бр. деца'!AM15 -> #REF! | ... AN14: ='бр. деца'!AR15 -> #REF! | AO14: =K14-J14 -> -3852.6262
A15: 7 | B15: ОУ"Св.св.Кирил и Методий"-с.Калипетрово | C15: 92 | D15: =$D$8*C15 -> 148212 | E15: 29000 | F15: =$F$8*C15/$C$18 -> 140428.53 | G15: =F15+E15 -> 169428.53 | H15: =G15 -> 169428.53 | I15: =F15-F15*0.4% -> 139866.82 | J15: =F15*0.4% -> 561.71413 | K15: 6278.53 | L15: =SUM(I15,K15) -> 146145.35 | M15: 26 | N15: =M15*$N$8 -> 9698 | P15: =O15*$P$8 -> 0 | Q15: =C15 -> 92 | R15: =Q15*$R$8 -> 2300 | T15: =S15*$T$8 -> 0 | V15: =U15*$V$8 -> 0 | W15: 48 | X15: =W15*$X$8 -> 3456 | Y15: 52 | Z15: =Y15*$Z$8 -> 30160 | AA15: =L15+E15+N15+P15+R15+V15+X15+Z15+T15 -> 220759.35 | AB15: ='бр. деца'!AF16 -> 10 | AC15: ='бр. деца'!AG16 -> 3260 | AD15: ='бр. деца'!AH16 -> #REF! | AE15: ='бр. деца'!AI16 -> #REF! | AF15: ='бр. деца'!AJ16 -> #REF! | AG15: ='бр. деца'!AK16 -> #REF! | AH15: ='бр. деца'!AL16 -> #REF! | AI15: ='бр. деца'!AM16 -> #REF! | ... AN15: ='бр. деца'!AR16 -> #REF! | AO15: =K15-J15 -> 5716.8159
A16: 8 | B16: ОУ"Св.Кл.Охридски"-с.Иширково | C16: 146 | D16: =$D$8*C16 -> 235206 | E16: 29000 | F16: =$F$8*C16/$C$18 -> 222853.97 | G16: =F16+E16 -> 251853.97 | H16: =G16 -> 251853.97 | I16: =F16-F16*0.4% -> 221962.56 | J16: =F16*0.4% -> 891.4159 | K16: 6278.53 | L16: =SUM(I16,K16) -> 228241.09 | M16: 15 | N16: =M16*$N$8 -> 5595 | P16: =O16*$P$8 -> 0 | Q16: =C16 -> 146 | R16: =Q16*$R$8 -> 3650 | T16: =S16*$T$8 -> 0 | V16: =U16*$V$8 -> 0 | W16: 66 | X16: =W16*$X$8 -> 4752 | Y16: 146 | Z16: =Y16*$Z$8 -> 84680 | AA16: =L16+E16+N16+P16+R16+V16+X16+Z16+T16 -> 355918.09 | AB16: ='бр. деца'!AF17 -> 0 | AC16: ='бр. деца'!AG17 -> 0 | AD16: ='бр. деца'!AH17 -> #REF! | AE16: ='бр. деца'!AI17 -> #REF! | AF16: ='бр. деца'!AJ17 -> #REF! | AG16: ='бр. деца'!AK17 -> #REF! | AH16: ='бр. деца'!AL17 -> #REF! | AI16: ='бр. деца'!AM17 -> #REF! | ... AN16: ='бр. деца'!AR17 -> #REF! | AO16: =K16-J16 -> 5387.1141
A17: 9 | B17: ОУ"Св.св.Кирил и Методий"-с.Брадвари | C17: 49 | D17: =$D$8*C17 -> 78939 | E17: 29000 | F17: =$F$8*C17/$C$18 -> 74793.457 | G17: =F17+E17 -> 103793.46 | H17: =G17 -> 103793.46 | I17: =F17-F17*0.4% -> 74494.283 | J17: =F17*0.4% -> 299.17383 | K17: 6278.53 | L17: =SUM(I17,K17) -> 80772.813 | M17: 11 | N17: =M17*$N$8 -> 4103 | P17: =O17*$P$8 -> 0 | Q17: =C17 -> 49 | R17: =Q17*$R$8 -> 1225 | T17: =S17*$T$8 -> 0 | V17: =U17*$V$8 -> 0 | W17: 25 | X17: =W17*$X$8 -> 1800 | Y17: 43 | Z17: =Y17*$Z$8 -> 24940 | AA17: =L17+E17+N17+P17+R17+V17+X17+Z17+T17 -> 141840.81 | AB17: ='бр. деца'!AF18 -> 9 | AC17: ='бр. деца'!AG18 -> 2934 | AD17: ='бр. деца'!AH18 -> #REF! | AE17: ='бр. деца'!AI18 -> #REF! | AF17: ='бр. деца'!AJ18 -> #REF! | AG17: ='бр. деца'!AK18 -> #REF! | AH17: ='бр. деца'!AL18 -> #REF! | AI17: ='бр. деца'!AM18 -> #REF! | ... AN17: ='бр. деца'!AR18 -> #REF! | AO17: =K17-J17 -> 5979.3562
A18: ВСИЧКО ЗА УЧИЛИЩА | C18: =SUM(C9:C17) -> 3085 | D18: =SUM(D9:D17) -> 4969935 | E18: =SUM(E9:E17) -> 261000 | F18: =SUM(F9:F17) -> 4708935 | G18: =SUM(G9:G17) -> 4969935 | H18: =SUM(H9:H17) -> 4969935 | I18: =SUM(I9:I17) -> 4690099.3 | J18: =SUM(J9:J17) -> 18835.74 | K18: =SUM(K9:K17) -> 18835.59 | L18: =SUM(I18,K18) -> 4708934.9 | M18: =SUM(M9:M17) -> 73 | N18: =SUM(N9:N17) -> 27229 | O18: =SUM(O9:O17) -> 2 | P18: =SUM(P9:P17) -> 6140 | Q18: =SUM(Q9:Q17) -> 3085 | R18: =SUM(R9:R17) -> 77125 | S18: =SUM(S9:S17) -> 4 | T18: =SUM(T9:T17) -> 3448 | ... Z18: =SUM(Z9:Z17) -> 971500 | AA18: =L18+E18+N18+P18+R18+V18+X18+Z18+T18 -> 6196307.9 | AB18: ='бр. деца'!AF19 -> 124 | AC18: ='бр. деца'!AG19 -> 40424 | AD18: ='бр. деца'!AH19 -> #REF! | AE18: ='бр. деца'!AI19 -> #REF! | AF18: ='бр. деца'!AJ19 -> #REF! | AG18: ='бр. деца'!AK19 -> #REF! | AH18: ='бр. деца'!AL19 -> #REF! | AI18: ='бр. деца'!AM19 -> #REF! | ... AN18: ='бр. деца'!AR19 -> #REF! | AO18: =K18-J18 -> -0.15
A19: 10 | B19: Резерв | C19: 71 | D19: =$D$8*C19 -> 114381 | H19: =C19*D8 -> 114381 | M19: 25 | N19: =M19*$N$8 -> 9325 | O19: -1 | P19: =O19*$P$8 -> -3070 | Q19: 71 | R19: =Q19*$R$8 -> 1775 | S19: 1 | T19: =S19*$T$8 -> 862 | U19: -61 | V19: =U19*$V$8 -> -5307 | W19: -2 | X19: =W19*$X$8 -> -144 | Y19: 16 | Z19: =Y19*$Z$8 -> 9280 | AA19: =L19+E19+N19+P19+R19+V19+X19+Z19+T19 -> 12721 | AB19: ='бр. деца'!AF20 -> 3 | AC19: ='бр. деца'!AG20 -> 978 | AD19: ='бр. деца'!AH20 -> #REF! | AE19: ='бр. деца'!AI20 -> #REF! | AF19: ='бр. деца'!AJ20 -> #REF! | AG19: ='бр. деца'!AK20 -> #REF! | AH19: ='бр. деца'!AL20 -> #REF! | AI19: ='бр. деца'!AM20 -> #REF! | ... AN19: ='бр. деца'!AR20 -> #REF!
B20: В С И Ч КО: | C20: =C18+C19 -> 3156 | D20: =D18+D19 -> 5084316 | G20: =G18+G19 -> 4969935 | H20: =H18+H19 -> 5084316 | M20: =M18+M19 -> 98 | N20: =N18+N19 -> 36554 | O20: =O18+O19 -> 1 | P20: =P18+P19 -> 3070 | Q20: =Q18+Q19 -> 3156 | R20: =R18+R19 -> 78900 | S20: =S18+S19 -> 5 | T20: =T18+T19 -> 4310 | ... Z20: =Z18+Z19 -> 980780 | AA20: =H20+N20+P20+R20+V20+X20+Z20+T20 -> 6323410 | AB20: ='бр. деца'!AF21 -> 127 | AC20: ='бр. деца'!AG21 -> 41402 | AD20: ='бр. деца'!AH21 -> #REF! | AE20: ='бр. деца'!AI21 -> #REF! | AF20: ='бр. деца'!AJ21 -> #REF! | AG20: ='бр. деца'!AK21 -> #REF! | AH20: ='бр. деца'!AL21 -> #REF! | AI20: ='бр. деца'!AM21 -> #REF! | ... AN20: ='бр. деца'!AR21 -> #REF!
F21: =D18-E18 -> 4708935 | AA21: =SUM(AA9:AA17) -> 6196307.8
C22: Изготвил: | X22: Началник:

Sheet Приложение 4
A1: Общежитие 3 1 332 2018 - сравнение | B1: институция | C1: Стандарт за група | E1: стандарт за ученик | G1: Общо | H1: Разлики | I1: компенс. на отрицателни разлики
C2: групи | D2: =7957+(7957*0.034) -> 8227.538 | E2: деца | F2: =1426+(1426*0.034) -> 1474.484
A3: Колона1 | B3: Колона2 | C3: Колона3 | D3: Колона4 | E3: Колона5 | F3: Колона6 | G3: Колона8 | H3: Колона9 | I3: Колона10
A4: ООС "Младост" | B4: =19000+(19000*0.034) -> 19646 | C4: 8 | D4: =C4*$D$2 -> 65820.304 | E4: 208 | F4: =E4*$F$2 -> 306692.67 | G4: =Таблица3[[#This Row],[Колона2]]+Таблица3[[#This Row],[Колона4]]+Таблица3[[#This Row],[Колона6]] -> 392158.98 | H4: =Таблица3[[#This Row],[Колона8]]-C12 -> 1326.976 | I4: -1327
A5: ПЗГ "Добруджа" | C5: 4 | D5: =C5*$D$2 -> 32910.152 | E5: 93 | F5: =E5*$F$2 -> 137127.01 | G5: =Таблица3[[#This Row],[Колона2]]+Таблица3[[#This Row],[Колона4]]+Таблица3[[#This Row],[Колона6]] -> 170037.16 | H5: =Таблица3[[#This Row],[Колона8]]-C13 -> -4709.836 | I5: 4710
A6: Общо | B6: =SUBTOTAL(109,Таблица3[Колона2]) -> 0 | C6: =SUBTOTAL(109,Таблица3[Колона3]) -> 0 | D6: =SUBTOTAL(109,Таблица3[Колона4]) -> 0 | E6: =SUBTOTAL(109,Таблица3[Колона5]) -> 0 | F6: =SUBTOTAL(109,Таблица3[Колона6]) -> 0 | G6: =SUBTOTAL(109,Таблица3[Колона8]) -> 0 | H6: =SUBTOTAL(109,Таблица3[Колона9]) -> 0 | I6: =SUBTOTAL(109,Таблица3[Колона10]) -> 0
A9: Общежитие 3 1 332 2017 - сравнение | B9: стандарт за ученик
B10: деца | C10: 1879
A11: Колона1 | B11: Колона2 | C11: Колона3
A12: ООС "Младост" | B12: 208 | C12: =Таблица35[[#This Row],[Колона2]]*$C$10 -> 390832
A13: ПЗГ "Добруджа" | B13: 93 | C13: =Таблица35[[#This Row],[Колона2]]*$C$10 -> 174747
A14: Общо | B14: =SUBTOTAL(109,Таблица35[Колона2]) -> 0 | C14: =SUBTOTAL(109,Таблица35[Колона3]) -> 0
A16: Приложение 4 към Заповед №344/23.02.2018 г.
A17: Общежитие 3 1 332 2018 - начален план | B17: институция | C17: Стандарт за група | E17: стандарт за ученик | G17: Общо | H17: компенс. на отрицателни разлики | I17: Бюджет 2018
C18: групи | D18: =8016+(8016*0.034) -> 8288.544 | E18: деца | F18: =1437+(1437*0.034) -> 1485.858
A19: Колона1 | B19: Колона2 | C19: Колона3 | D19: Колона4 | E19: Колона5 | F19: Колона6 | G19: Колона8 | H19: Колона9 | I19: Колона10
A20: ООС "Младост" | B20: =19000+(19000*0.034) -> 19646 | C20: 8 | D20: =C20*$D$18 -> 66308.352 | E20: 208 | F20: =E20*$F$18 -> 309058.46 | G20: =Таблица39[[#This Row],[Колона2]]+Таблица39[[#This Row],[Колона4]]+Таблица39[[#This Row],[Колона6]] -> 395012.82 | H20: -1327 | I20: =Таблица39[[#This Row],[Колона8]]+Таблица39[[#This Row],[Колона9]] -> 393685.82
A21: ПЗГ "Добруджа" | C21: 4 | D21: =C21*$D$18 -> 33154.176 | E21: 93 | F21: =E21*$F$18 -> 138184.79 | G21: =Таблица39[[#This Row],[Колона2]]+Таблица39[[#This Row],[Колона4]]+Таблица39[[#This Row],[Колона6]] -> 171338.97 | H21: 4710 | I21: =Таблица39[[#This Row],[Колона8]]+Таблица39[[#This Row],[Колона9]] -> 176048.97
A22: Общо | B22: =SUBTOTAL(109,Таблица39[Колона2]) -> 19646 | C22: =SUBTOTAL(109,Таблица39[Колона3]) -> 12 | D22: =SUBTOTAL(109,Таблица39[Колона4]) -> 99462.528 | E22: =SUBTOTAL(109,Таблица39[Колона5]) -> 301 | F22: =SUBTOTAL(109,Таблица39[Колона6]) -> 447243.26 | G22: =SUBTOTAL(109,Таблица39[Колона8]) -> 566351.79 | H22: =SUBTOTAL(109,Таблица39[Колона9]) -> 3383 | I22: =SUBTOTAL(109,Таблица39[Колона10]) -> 569734.79
A23: Резерв: | C23: =C24-Таблица39[[#Totals],[Колона3]] -> 1 | D23: =D24-Таблица39[[#Totals],[Колона4]] -> 8288.544 | E23: =E24-Таблица39[[#Totals],[Колона5]] -> 31 | F23: =F24-Таблица39[[#Totals],[Колона6]] -> 46061.598 | G23: =G24-Таблица39[[#Totals],[Колона8]] -> 54350.142 | H23: =H24-Таблица39[[#Totals],[Колона9]] -> -398 | I23: =G23+H23 -> 53952.142
B24: 19646 | C24: 13 | D24: =C24*D18 -> 107751.07 | E24: 332 | F24: =E24*F18 -> 493304.86 | G24: =B24+D24+F24 -> 620701.93 | H24: 2985 | I24: =G24+H24 -> 623686.93

Sheet 324
A1: Спортно училище 3 1 324 | B1: институция | C1: Стандарт за паралелка | E1: стандарт за ученик | G1: стипендии | I1: МТБ | K1: самостоятелна | L1: Общо 324 | M1: норматив за ресурсно | O1: Ресурсно подпомагане | Q1: Общо 338 | R1: 389 - автобус | S1: 324+338+389
C2: групи | D2: =11600+(11600*0.034) -> 11994.4 | E2: деца | F2: =2289+(2289*0.034) -> 2366.826 | G2: брой | H2: 87 | I2: брой | J2: 25 | K2: 3*436 | M2: брой | N2: 359 | O2: брой | P2: 2476
A3: Колона1 | B3: Колона2 | C3: Колона3 | D3: Колона4 | E3: Колона5 | F3: Колона6 | G3: Колона13 | H3: Колона14 | I3: Колона15 | J3: Колона16 | K3: Колона172 | L3: Колона18 | M3: Колона19 | N3: Колона20 | O3: Колона21 | P3: Колона22 | Q3: Колона23 | R3: Колона24 | S3: Колона25
A4: СУ "Дръстър" | B4: =33000+(33000*0.034) -> 34122 | C4: 8 | D4: =C4*$D$2 -> 95955.2 | E4: 174 | F4: =E4*$F$2 -> 411827.72 | G4: 106 | H4: =G4*$H$2 -> 9222 | I4: 174 | J4: =I4*$J$2 -> 4350 | K4: 0 | L4: =Таблица47[[#This Row],[Колона2]]+Таблица47[[#This Row],[Колона4]]+Таблица47[[#This Row],[Колона6]]+Таблица47[[#This Row],[Колона14]]+Таблица47[[#This Row],[Колона16]] -> 555476.92 | M4: 8 | N4: =M4*$N$2 -> 2872 | O4: 8 | P4: =Таблица47[Колона21]*P2 -> 19808 | Q4: =Таблица47[[#This Row],[Колона20]]+Таблица47[Колона22] -> 22680 | R4: 6000 | S4: =Таблица47[[#This Row],[Колона18]]+Таблица47[[#This Row],[Колона23]]+Таблица47[Колона24] -> 584156.92
A5: Общо | B5: =SUBTOTAL(109,Таблица47[Колона2]) -> 34122 | C5: =SUBTOTAL(109,Таблица47[Колона3]) -> 8 | D5: =SUBTOTAL(109,Таблица47[Колона4]) -> 95955.2 | E5: =SUBTOTAL(109,Таблица47[Колона5]) -> 174 | F5: =SUBTOTAL(109,Таблица47[Колона6]) -> 411827.72 | G5: =SUBTOTAL(109,Таблица47[Колона13]) -> 106 | H5: =SUBTOTAL(109,Таблица47[Колона14]) -> 9222 | I5: =SUBTOTAL(109,Таблица47[Колона15]) -> 174 | J5: =SUBTOTAL(109,Таблица47[Колона16]) -> 4350 | K5: 0 | L5: =SUBTOTAL(109,Таблица47[Колона18]) -> 555476.92 | M5: =SUBTOTAL(109,Таблица47[Колона19]) -> 8 | N5: =SUBTOTAL(109,Таблица47[Колона20]) -> 2872 | O5: =SUBTOTAL(109,Таблица47[Колона21]) -> 8 | P5: =SUBTOTAL(109,Таблица47[Колона22]) -> 19808 | Q5: =SUBTOTAL(109,Таблица47[Колона23]) -> 22680 | R5: =SUBTOTAL(109,Таблица47[Колона24]) -> 6000 | S5: =SUBTOTAL(109,Таблица47[Колона25]) -> 584156.92
A6: Резерв: | B6: 0 | C6: 0 | D6: 0 | E6: =E7-Таблица47[[#Totals],[Колона5]] -> 1 | F6: =F7-Таблица47[[#Totals],[Колона6]] -> 2366.826 | G6: =G7-Таблица47[[#Totals],[Колона13]] -> -23 | H6: =H7-Таблица47[[#Totals],[Колона14]] -> -2001 | I6: =I7-Таблица47[[#Totals],[Колона15]] -> 1 | J6: =J7-Таблица47[[#Totals],[Колона16]] -> 25 | K6: =K7-Таблица47[[#Totals],[Колона172]] -> 1308 | L6: =L7-Таблица47[[#Totals],[Колона18]] -> 1698.626 | M6: =M7-Таблица47[[#Totals],[Колона19]] -> 1 | N6: =N7-Таблица47[[#Totals],[Колона20]] -> 359 | O6: =O7-Таблица47[[#Totals],[Колона21]] -> -8 | P6: =P7-Таблица47[[#Totals],[Колона22]] -> -19808 | Q6: =Q7-Таблица47[[#Totals],[Колона23]] -> -19449 | R6: 0 | S6: =S7-Таблица47[[#Totals],[Колона25]] -> -17750.374
B7: 34122 | C7: 8 | D7: 95955 | E7: 175 | F7: =E7*F2 -> 414194.55 | G7: 83 | H7: =G7*H2 -> 7221 | I7: 175 | J7: =I7*J2 -> 4375 | K7: 1308 | L7: =B7+D7+F7+H7+J7+K7 -> 557175.55 | M7: 9 | N7: =M7*N2 -> 3231 | O7: 0 | P7: 0 | Q7: =N7+P7 -> 3231 | R7: 6000 | S7: =L7+Q7+R7 -> 566406.55
